Workbook
Name __xlnm._FilterDatabase: 'C. S. Social'!#REF!
Name __xlnm._FilterDatabase: 'P. T. G. Central'!$B$67:$O$71
Name __xlnm._FilterDatabase: 'P. T. G. Subnacional'!#REF!
Name __xlnm._FilterDatabase: 'Presión Fiscal'!#REF!
Name __xlnm._FilterDatabase_1: '[1]Presión Fiscal'!#REF!
Name __xlnm._FilterDatabase_1: 'Presión Fiscal'!#REF!
Name __xlnm._FilterDatabase_1_1: 'P. T. G. Central'!$B$67:$O$71
Name __xlnm._FilterDatabase_2: #REF!
Name __xlnm._FilterDatabase_2: #REF!
Name __xlnm._FilterDatabase_3: #REF!
Name __xlnm._FilterDatabase_3: #REF!
Name __xlnm._FilterDatabase_4: '[1]P. T. G. Subnacional'!#REF!
Name __xlnm._FilterDatabase_4: 'P. T. G. Subnacional'!#REF!
Name __xlnm._FilterDatabase_5: '[1]C. S. Social'!#REF!
Name __xlnm._FilterDatabase_5: 'C. S. Social'!#REF!
Name __xlnm.Print_Area: 'C. S. Social'!$B$1:$K$9
Name __xlnm.Print_Area: 'P. T. G. Central'!$B$1:$L$69
Name __xlnm.Print_Area: 'P. T. G. Subnacional'!$B$1:$K$10
Name __xlnm.Print_Area: 'Presión Fiscal'!$B$1:$L$64

Sheet PORTADA1

Sheet Presión Fiscal
B4: Presión fiscal (1)
G5: (% del PIB)
F8: La Presión fiscal es la suma de:
B9: Presión Tributaria (P.T.) Gobierno Central + P.T. Gobierno Subnacional + Contribuciones a la Seguridad Social
B12: AMÉRICA
B13: País/Año | C13: 2004 | D13: 2005 | E13: 2006 | F13: 2007 | G13: 2008 | H13: 2009 | I13: 2010 | J13: 2011 | K13: 2012 | L13: 2013 | M13: 2014 | N13: 2015 | O13: 2016 | P13: 2017 | Q13: 2018 | R13: 2019 | S13: 2020
B14: Argentina | C14: =+'P. T. G. Central'!C14+'P. T. G. Subnacional'!C13+'C. S. Social'!C12 -> 24.327 | D14: =+'P. T. G. Central'!D14+'P. T. G. Subnacional'!D13+'C. S. Social'!D12 -> 24.532 | E14: =+'P. T. G. Central'!E14+'P. T. G. Subnacional'!E13+'C. S. Social'!E12 -> 25.08 | F14: =+'P. T. G. Central'!F14+'P. T. G. Subnacional'!F13+'C. S. Social'!F12 -> 26.368 | G14: =+'P. T. G. Central'!G14+'P. T. G. Subnacional'!G13+'C. S. Social'!G12 -> 27.623 | H14: =+'P. T. G. Central'!H14+'P. T. G. Subnacional'!H13+'C. S. Social'!H12 -> 28.924 | I14: =+'P. T. G. Central'!I14+'P. T. G. Subnacional'!I13+'C. S. Social'!I12 -> 29.067 | J14: =+'P. T. G. Central'!J14+'P. T. G. Subnacional'!J13+'C. S. Social'!J12 -> 29.299 | ... R14: =+'P. T. G. Central'!R14+'P. T. G. Subnacional'!R13+'C. S. Social'!R12 -> 28.646
B15: Brasil | C15: =+'P. T. G. Central'!C15+'P. T. G. Subnacional'!C14+'C. S. Social'!C13 -> 32.274 | D15: =+'P. T. G. Central'!D15+'P. T. G. Subnacional'!D14+'C. S. Social'!D13 -> 33.461 | E15: =+'P. T. G. Central'!E15+'P. T. G. Subnacional'!E14+'C. S. Social'!E13 -> 33.221 | F15: =+'P. T. G. Central'!F15+'P. T. G. Subnacional'!F14+'C. S. Social'!F13 -> 33.569 | G15: =+'P. T. G. Central'!G15+'P. T. G. Subnacional'!G14+'C. S. Social'!G13 -> 33.436 | H15: =+'P. T. G. Central'!H15+'P. T. G. Subnacional'!H14+'C. S. Social'!H13 -> 31.988 | I15: =+'P. T. G. Central'!I15+'P. T. G. Subnacional'!I14+'C. S. Social'!I13 -> 32.403 | J15: =+'P. T. G. Central'!J15+'P. T. G. Subnacional'!J14+'C. S. Social'!J13 -> 33.266 | ... R15: =+'P. T. G. Central'!R15+'P. T. G. Subnacional'!R14+'C. S. Social'!R13 -> 33.099
B16: Chile | C16: =+'P. T. G. Central'!C16+'P. T. G. Subnacional'!C15+'C. S. Social'!C14 -> 19.086 | D16: =+'P. T. G. Central'!D16+'P. T. G. Subnacional'!D15+'C. S. Social'!D14 -> 20.725 | E16: =+'P. T. G. Central'!E16+'P. T. G. Subnacional'!E15+'C. S. Social'!E14 -> 21.978 | F16: =+'P. T. G. Central'!F16+'P. T. G. Subnacional'!F15+'C. S. Social'!F14 -> 22.711 | G16: =+'P. T. G. Central'!G16+'P. T. G. Subnacional'!G15+'C. S. Social'!G14 -> 21.406 | H16: =+'P. T. G. Central'!H16+'P. T. G. Subnacional'!H15+'C. S. Social'!H14 -> 17.334 | I16: =+'P. T. G. Central'!I16+'P. T. G. Subnacional'!I15+'C. S. Social'!I14 -> 19.592 | J16: =+'P. T. G. Central'!J16+'P. T. G. Subnacional'!J15+'C. S. Social'!J14 -> 21.116 | ... R16: =+'P. T. G. Central'!R16+'P. T. G. Subnacional'!R15+'C. S. Social'!R14 -> 20.658
B17: Colombia | C17: =+'P. T. G. Central'!C17+'P. T. G. Subnacional'!C16+'C. S. Social'!C15 -> 17.968 | D17: =+'P. T. G. Central'!D17+'P. T. G. Subnacional'!D16+'C. S. Social'!D15 -> 18.258 | E17: =+'P. T. G. Central'!E17+'P. T. G. Subnacional'!E16+'C. S. Social'!E15 -> 19.268 | F17: =+'P. T. G. Central'!F17+'P. T. G. Subnacional'!F16+'C. S. Social'!F15 -> 19.299 | G17: =+'P. T. G. Central'!G17+'P. T. G. Subnacional'!G16+'C. S. Social'!G15 -> 19.032 | H17: =+'P. T. G. Central'!H17+'P. T. G. Subnacional'!H16+'C. S. Social'!H15 -> 18.817 | I17: =+'P. T. G. Central'!I17+'P. T. G. Subnacional'!I16+'C. S. Social'!I15 -> 18.097 | J17: =+'P. T. G. Central'!J17+'P. T. G. Subnacional'!J16+'C. S. Social'!J15 -> 18.933 | ... R17: =+'P. T. G. Central'!R17+'P. T. G. Subnacional'!R16+'C. S. Social'!R15 -> 19.678
B18: Costa Rica | C18: =+'P. T. G. Central'!C18+'P. T. G. Subnacional'!C17+'C. S. Social'!C16 -> 21.326 | D18: =+'P. T. G. Central'!D18+'P. T. G. Subnacional'!D17+'C. S. Social'!D16 -> 21.77 | E18: =+'P. T. G. Central'!E18+'P. T. G. Subnacional'!E17+'C. S. Social'!E16 -> 22.047 | F18: =+'P. T. G. Central'!F18+'P. T. G. Subnacional'!F17+'C. S. Social'!F16 -> 23.137 | G18: =+'P. T. G. Central'!G18+'P. T. G. Subnacional'!G17+'C. S. Social'!G16 -> 23.692 | H18: =+'P. T. G. Central'!H18+'P. T. G. Subnacional'!H17+'C. S. Social'!H16 -> 22.108 | I18: =+'P. T. G. Central'!I18+'P. T. G. Subnacional'!I17+'C. S. Social'!I16 -> 22.131 | J18: =+'P. T. G. Central'!J18+'P. T. G. Subnacional'!J17+'C. S. Social'!J16 -> 22.649 | ... R18: =+'P. T. G. Central'!R18+'P. T. G. Subnacional'!R17+'C. S. Social'!R16 -> 23.579
B19: Ecuador | C19: =+'P. T. G. Central'!C19+'P. T. G. Subnacional'!C18+'C. S. Social'!C17 -> 13.947257 | D19: =+'P. T. G. Central'!D19+'P. T. G. Subnacional'!D18+'C. S. Social'!D17 -> 14.313132 | E19: =+'P. T. G. Central'!E19+'P. T. G. Subnacional'!E18+'C. S. Social'!E17 -> 15.195863 | F19: =+'P. T. G. Central'!F19+'P. T. G. Subnacional'!F18+'C. S. Social'!F17 -> 15.832722 | G19: =+'P. T. G. Central'!G19+'P. T. G. Subnacional'!G18+'C. S. Social'!G17 -> 15.632433 | H19: =+'P. T. G. Central'!H19+'P. T. G. Subnacional'!H18+'C. S. Social'!H17 -> 16.469591 | I19: =+'P. T. G. Central'!I19+'P. T. G. Subnacional'!I18+'C. S. Social'!I17 -> 17.463909 | J19: =+'P. T. G. Central'!J19+'P. T. G. Subnacional'!J18+'C. S. Social'!J17 -> 18.232912 | ... S19: =+'P. T. G. Central'!S19+'P. T. G. Subnacional'!S18+'C. S. Social'!S17 -> 19.5
B20: El Salvador | C20: =+'P. T. G. Central'!C20+'P. T. G. Subnacional'!C19+'C. S. Social'!C18 -> 15.963 | D20: =+'P. T. G. Central'!D20+'P. T. G. Subnacional'!D19+'C. S. Social'!D18 -> 16.987 | E20: =+'P. T. G. Central'!E20+'P. T. G. Subnacional'!E19+'C. S. Social'!E18 -> 18.274 | F20: =+'P. T. G. Central'!F20+'P. T. G. Subnacional'!F19+'C. S. Social'!F18 -> 18.763 | G20: =+'P. T. G. Central'!G20+'P. T. G. Subnacional'!G19+'C. S. Social'!G18 -> 18.984 | H20: =+'P. T. G. Central'!H20+'P. T. G. Subnacional'!H19+'C. S. Social'!H18 -> 17.918 | I20: =+'P. T. G. Central'!I20+'P. T. G. Subnacional'!I19+'C. S. Social'!I18 -> 18.687 | J20: =+'P. T. G. Central'!J20+'P. T. G. Subnacional'!J19+'C. S. Social'!J18 -> 18.728 | ... R20: =+'P. T. G. Central'!R20+'P. T. G. Subnacional'!R19+'C. S. Social'!R18 -> 20.831
B21: Guatemala | C21: =+'P. T. G. Central'!C21+'P. T. G. Subnacional'!C20+'C. S. Social'!C19 -> 13.432 | D21: =+'P. T. G. Central'!D21+'P. T. G. Subnacional'!D20+'C. S. Social'!D19 -> 13.088 | E21: =+'P. T. G. Central'!E21+'P. T. G. Subnacional'!E20+'C. S. Social'!E19 -> 13.845 | F21: =+'P. T. G. Central'!F21+'P. T. G. Subnacional'!F20+'C. S. Social'!F19 -> 14.022 | G21: =+'P. T. G. Central'!G21+'P. T. G. Subnacional'!G20+'C. S. Social'!G19 -> 13.021 | H21: =+'P. T. G. Central'!H21+'P. T. G. Subnacional'!H20+'C. S. Social'!H19 -> 12.333 | I21: =+'P. T. G. Central'!I21+'P. T. G. Subnacional'!I20+'C. S. Social'!I19 -> 12.47 | J21: =+'P. T. G. Central'!J21+'P. T. G. Subnacional'!J20+'C. S. Social'!J19 -> 12.767 | ... R21: =+'P. T. G. Central'!R21+'P. T. G. Subnacional'!R20+'C. S. Social'!R19 -> 13.063
B22: Honduras | C22: =+'P. T. G. Central'!C22+'P. T. G. Subnacional'!C21+'C. S. Social'!C20 -> 18.133 | D22: =+'P. T. G. Central'!D22+'P. T. G. Subnacional'!D21+'C. S. Social'!D20 -> 17.945 | E22: =+'P. T. G. Central'!E22+'P. T. G. Subnacional'!E21+'C. S. Social'!E20 -> 18.26 | F22: =+'P. T. G. Central'!F22+'P. T. G. Subnacional'!F21+'C. S. Social'!F20 -> 19.763 | G22: =+'P. T. G. Central'!G22+'P. T. G. Subnacional'!G21+'C. S. Social'!G20 -> 19.556 | H22: =+'P. T. G. Central'!H22+'P. T. G. Subnacional'!H21+'C. S. Social'!H20 -> 17.793 | I22: =+'P. T. G. Central'!I22+'P. T. G. Subnacional'!I21+'C. S. Social'!I20 -> 18.225 | J22: =+'P. T. G. Central'!J22+'P. T. G. Subnacional'!J21+'C. S. Social'!J20 -> 17.709 | ... R22: =+'P. T. G. Central'!R22+'P. T. G. Subnacional'!R21+'C. S. Social'!R20 -> 21.904
B23: México | C23: =+'P. T. G. Central'!C23+'P. T. G. Subnacional'!C22+'C. S. Social'!C21 -> 11.559 | D23: =+'P. T. G. Central'!D23+'P. T. G. Subnacional'!D22+'C. S. Social'!D21 -> 11.362 | E23: =+'P. T. G. Central'!E23+'P. T. G. Subnacional'!E22+'C. S. Social'!E21 -> 11.588 | F23: =+'P. T. G. Central'!F23+'P. T. G. Subnacional'!F22+'C. S. Social'!F21 -> 12.015 | G23: =+'P. T. G. Central'!G23+'P. T. G. Subnacional'!G22+'C. S. Social'!G21 -> 12.599 | H23: =+'P. T. G. Central'!H23+'P. T. G. Subnacional'!H22+'C. S. Social'!H21 -> 12.468 | I23: =+'P. T. G. Central'!I23+'P. T. G. Subnacional'!I22+'C. S. Social'!I21 -> 12.84 | J23: =+'P. T. G. Central'!J23+'P. T. G. Subnacional'!J22+'C. S. Social'!J21 -> 12.766 | ... R23: =+'P. T. G. Central'!R23+'P. T. G. Subnacional'!R22+'C. S. Social'!R21 -> 15.537
B24: Nicaragua | C24: =+'P. T. G. Central'!C24+'P. T. G. Subnacional'!C23+'C. S. Social'!C22 -> 16.234 | D24: =+'P. T. G. Central'!D24+'P. T. G. Subnacional'!D23+'C. S. Social'!D22 -> 17.35 | E24: =+'P. T. G. Central'!E24+'P. T. G. Subnacional'!E23+'C. S. Social'!E22 -> 18.508 | F24: =+'P. T. G. Central'!F24+'P. T. G. Subnacional'!F23+'C. S. Social'!F22 -> 18.847 | G24: =+'P. T. G. Central'!G24+'P. T. G. Subnacional'!G23+'C. S. Social'!G22 -> 18.132 | H24: =+'P. T. G. Central'!H24+'P. T. G. Subnacional'!H23+'C. S. Social'!H22 -> 18.486 | I24: =+'P. T. G. Central'!I24+'P. T. G. Subnacional'!I23+'C. S. Social'!I22 -> 19.333 | J24: =+'P. T. G. Central'!J24+'P. T. G. Subnacional'!J23+'C. S. Social'!J22 -> 20.193 | ... R24: =+'P. T. G. Central'!R24+'P. T. G. Subnacional'!R23+'C. S. Social'!R22 -> 25.882
B25: Panamá | C25: =+'P. T. G. Central'!C25+'P. T. G. Subnacional'!C24+'C. S. Social'!C23 -> 13.685 | D25: =+'P. T. G. Central'!D25+'P. T. G. Subnacional'!D24+'C. S. Social'!D23 -> 13.562 | E25: =+'P. T. G. Central'!E25+'P. T. G. Subnacional'!E24+'C. S. Social'!E23 -> 14.454 | F25: =+'P. T. G. Central'!F25+'P. T. G. Subnacional'!F24+'C. S. Social'!F23 -> 15.486 | G25: =+'P. T. G. Central'!G25+'P. T. G. Subnacional'!G24+'C. S. Social'!G23 -> 15.44 | H25: =+'P. T. G. Central'!H25+'P. T. G. Subnacional'!H24+'C. S. Social'!H23 -> 15.991 | I25: =+'P. T. G. Central'!I25+'P. T. G. Subnacional'!I24+'C. S. Social'!I23 -> 16.355 | J25: =+'P. T. G. Central'!J25+'P. T. G. Subnacional'!J24+'C. S. Social'!J23 -> 16.334 | ... R25: =+'P. T. G. Central'!R25+'P. T. G. Subnacional'!R24+'C. S. Social'!R23 -> 14.063
B26: Paraguay | C26: =+'P. T. G. Central'!C26+'P. T. G. Subnacional'!C25+'C. S. Social'!C24 -> 10.966 | D26: =+'P. T. G. Central'!D26+'P. T. G. Subnacional'!D25+'C. S. Social'!D24 -> 10.671 | E26: =+'P. T. G. Central'!E26+'P. T. G. Subnacional'!E25+'C. S. Social'!E24 -> 11.238 | F26: =+'P. T. G. Central'!F26+'P. T. G. Subnacional'!F25+'C. S. Social'!F24 -> 10.76 | G26: =+'P. T. G. Central'!G26+'P. T. G. Subnacional'!G25+'C. S. Social'!G24 -> 10.956 | H26: =+'P. T. G. Central'!H26+'P. T. G. Subnacional'!H25+'C. S. Social'!H24 -> 11.471 | I26: =+'P. T. G. Central'!I26+'P. T. G. Subnacional'!I25+'C. S. Social'!I24 -> 12.124 | J26: =+'P. T. G. Central'!J26+'P. T. G. Subnacional'!J25+'C. S. Social'!J24 -> 12.857 | ... R26: =+'P. T. G. Central'!R26+'P. T. G. Subnacional'!R25+'C. S. Social'!R24 -> 13.866
B27: Perú | C27: =+'P. T. G. Central'!C27+'P. T. G. Subnacional'!C26+'C. S. Social'!C25 -> 15.849 | D27: =+'P. T. G. Central'!D27+'P. T. G. Subnacional'!D26+'C. S. Social'!D25 -> 16.621 | E27: =+'P. T. G. Central'!E27+'P. T. G. Subnacional'!E26+'C. S. Social'!E25 -> 18.068 | F27: =+'P. T. G. Central'!F27+'P. T. G. Subnacional'!F26+'C. S. Social'!F25 -> 18.514 | G27: =+'P. T. G. Central'!G27+'P. T. G. Subnacional'!G26+'C. S. Social'!G25 -> 18.798 | H27: =+'P. T. G. Central'!H27+'P. T. G. Subnacional'!H26+'C. S. Social'!H25 -> 16.949 | I27: =+'P. T. G. Central'!I27+'P. T. G. Subnacional'!I26+'C. S. Social'!I25 -> 17.779 | J27: =+'P. T. G. Central'!J27+'P. T. G. Subnacional'!J26+'C. S. Social'!J25 -> 18.438 | ... R27: =+'P. T. G. Central'!R27+'P. T. G. Subnacional'!R26+'C. S. Social'!R25 -> 16.618
B28: República Dominicana | C28: =+'P. T. G. Central'!C28+'P. T. G. Subnacional'!C27+'C. S. Social'!C26 -> 12.59 | D28: =+'P. T. G. Central'!D28+'P. T. G. Subnacional'!D27+'C. S. Social'!D26 -> 13.873 | E28: =+'P. T. G. Central'!E28+'P. T. G. Subnacional'!E27+'C. S. Social'!E26 -> 14.167 | F28: =+'P. T. G. Central'!F28+'P. T. G. Subnacional'!F27+'C. S. Social'!F26 -> 15.009 | G28: =+'P. T. G. Central'!G28+'P. T. G. Subnacional'!G27+'C. S. Social'!G26 -> 14.284 | H28: =+'P. T. G. Central'!H28+'P. T. G. Subnacional'!H27+'C. S. Social'!H26 -> 12.766 | I28: =+'P. T. G. Central'!I28+'P. T. G. Subnacional'!I27+'C. S. Social'!I26 -> 12.37 | J28: =+'P. T. G. Central'!J28+'P. T. G. Subnacional'!J27+'C. S. Social'!J26 -> 12.428 | ... R28: =+'P. T. G. Central'!R28+'P. T. G. Subnacional'!R27+'C. S. Social'!R26 -> 13.542
B29: Uruguay | C29: =+'P. T. G. Central'!C29+'P. T. G. Subnacional'!C28+'C. S. Social'!C27 -> 24.294 | D29: =+'P. T. G. Central'!D29+'P. T. G. Subnacional'!D28+'C. S. Social'!D27 -> 24.999 | E29: =+'P. T. G. Central'!E29+'P. T. G. Subnacional'!E28+'C. S. Social'!E27 -> 26.299 | F29: =+'P. T. G. Central'!F29+'P. T. G. Subnacional'!F28+'C. S. Social'!F27 -> 25.685 | G29: =+'P. T. G. Central'!G29+'P. T. G. Subnacional'!G28+'C. S. Social'!G27 -> 26.232 | H29: =+'P. T. G. Central'!H29+'P. T. G. Subnacional'!H28+'C. S. Social'!H27 -> 26.017 | I29: =+'P. T. G. Central'!I29+'P. T. G. Subnacional'!I28+'C. S. Social'!I27 -> 26.348 | J29: =+'P. T. G. Central'!J29+'P. T. G. Subnacional'!J28+'C. S. Social'!J27 -> 26.717 | ... R29: =+'P. T. G. Central'!R29+'P. T. G. Subnacional'!R28+'C. S. Social'!R27 -> 29.032
B31: Fuente: OCDE; SRI, SENAE, BCE; BDE (Ecuador).
B32: (1) La Presión Fiscal es la sumatoria de la recaudación de impuestos nacionales (internos y externos), más la recaudación de impuestos subnacionales y más las contribuciones a la seguridad social, expresada como porcentaje del PIB. Este indicador está compuesto por: La Presión Tributaria del Gobierno Central: impuestos nacionales, internos y externos, como porcentaje del PIB. La Presión Tributaria del Gobierno Subnacional: impuestos de gobiernos subnacionales, como porcentaje del PIB. Las Contribuciones a la Seguridad Social: aportaciones a la Seguridad Social, como porcentaje del PIB.
B33: Nota: se excluye Bolivia y Venezuela; porque incluyen ingresos provenientes de actividades hidrocarburíferas y mineras.
B37: EUROPA
B38: País/Año | C38: 2004 | D38: 2005 | E38: 2006 | F38: 2007 | G38: 2008 | H38: 2009 | I38: 2010 | J38: 2011 | K38: 2012 | L38: 2013 | M38: 2014 | N38: 2015 | O38: 2016 | P38: 2017 | Q38: 2018 | R38: 2019
B39: Alemania | C39: =+'P. T. G. Central'!C40+'P. T. G. Subnacional'!C35+'C. S. Social'!C35 -> 34.185 | D39: =+'P. T. G. Central'!D40+'P. T. G. Subnacional'!D35+'C. S. Social'!D35 -> 34.257 | E39: =+'P. T. G. Central'!E40+'P. T. G. Subnacional'!E35+'C. S. Social'!E35 -> 34.773 | F39: =+'P. T. G. Central'!F40+'P. T. G. Subnacional'!F35+'C. S. Social'!F35 -> 35.217 | G39: =+'P. T. G. Central'!G40+'P. T. G. Subnacional'!G35+'C. S. Social'!G35 -> 35.678 | H39: =+'P. T. G. Central'!H40+'P. T. G. Subnacional'!H35+'C. S. Social'!H35 -> 36.527 | I39: =+'P. T. G. Central'!I40+'P. T. G. Subnacional'!I35+'C. S. Social'!I35 -> 35.365 | J39: =+'P. T. G. Central'!J40+'P. T. G. Subnacional'!J35+'C. S. Social'!J35 -> 35.915 | ... R39: =+'P. T. G. Central'!R40+'P. T. G. Subnacional'!R35+'C. S. Social'!R35 -> 38.607
B40: Austria | C40: =+'P. T. G. Central'!C41+'P. T. G. Subnacional'!C36+'C. S. Social'!C36 -> 41.811 | D40: =+'P. T. G. Central'!D41+'P. T. G. Subnacional'!D36+'C. S. Social'!D36 -> 40.865 | E40: =+'P. T. G. Central'!E41+'P. T. G. Subnacional'!E36+'C. S. Social'!E36 -> 40.261 | F40: =+'P. T. G. Central'!F41+'P. T. G. Subnacional'!F36+'C. S. Social'!F36 -> 40.4 | G40: =+'P. T. G. Central'!G41+'P. T. G. Subnacional'!G36+'C. S. Social'!G36 -> 41.256 | H40: =+'P. T. G. Central'!H41+'P. T. G. Subnacional'!H36+'C. S. Social'!H36 -> 40.867 | I40: =+'P. T. G. Central'!I41+'P. T. G. Subnacional'!I36+'C. S. Social'!I36 -> 40.839 | J40: =+'P. T. G. Central'!J41+'P. T. G. Subnacional'!J36+'C. S. Social'!J36 -> 40.985 | ... R40: =+'P. T. G. Central'!R41+'P. T. G. Subnacional'!R36+'C. S. Social'!R36 -> 42.274
B41: Bélgica | C41: =+'P. T. G. Central'!C42+'P. T. G. Subnacional'!C37+'C. S. Social'!C37 -> 43.074 | D41: =+'P. T. G. Central'!D42+'P. T. G. Subnacional'!D37+'C. S. Social'!D37 -> 42.949 | E41: =+'P. T. G. Central'!E42+'P. T. G. Subnacional'!E37+'C. S. Social'!E37 -> 42.818 | F41: =+'P. T. G. Central'!F42+'P. T. G. Subnacional'!F37+'C. S. Social'!F37 -> 42.497 | G41: =+'P. T. G. Central'!G42+'P. T. G. Subnacional'!G37+'C. S. Social'!G37 -> 43.133 | H41: =+'P. T. G. Central'!H42+'P. T. G. Subnacional'!H37+'C. S. Social'!H37 -> 42.351 | I41: =+'P. T. G. Central'!I42+'P. T. G. Subnacional'!I37+'C. S. Social'!I37 -> 42.531 | J41: =+'P. T. G. Central'!J42+'P. T. G. Subnacional'!J37+'C. S. Social'!J37 -> 43.164 | ... R41: =+'P. T. G. Central'!R42+'P. T. G. Subnacional'!R37+'C. S. Social'!R37 -> 42.504
B42: Dinamarca | C42: =+'P. T. G. Central'!C43+'P. T. G. Subnacional'!C38+'C. S. Social'!C38 -> 46.222 | D42: =+'P. T. G. Central'!D43+'P. T. G. Subnacional'!D38+'C. S. Social'!D38 -> 47.81 | E42: =+'P. T. G. Central'!E43+'P. T. G. Subnacional'!E38+'C. S. Social'!E38 -> 46.273 | F42: =+'P. T. G. Central'!F43+'P. T. G. Subnacional'!F38+'C. S. Social'!F38 -> 46.215 | G42: =+'P. T. G. Central'!G43+'P. T. G. Subnacional'!G38+'C. S. Social'!G38 -> 44.552 | H42: =+'P. T. G. Central'!H43+'P. T. G. Subnacional'!H38+'C. S. Social'!H38 -> 44.789 | I42: =+'P. T. G. Central'!I43+'P. T. G. Subnacional'!I38+'C. S. Social'!I38 -> 44.575 | J42: =+'P. T. G. Central'!J43+'P. T. G. Subnacional'!J38+'C. S. Social'!J38 -> 44.619 | ... R42: =+'P. T. G. Central'!R43+'P. T. G. Subnacional'!R38+'C. S. Social'!R38 -> 46.202
B43: Eslovenia | C43: =+'P. T. G. Central'!C44+'P. T. G. Subnacional'!C39+'C. S. Social'!C39 -> 38.415 | D43: =+'P. T. G. Central'!D44+'P. T. G. Subnacional'!D39+'C. S. Social'!D39 -> 39.054 | E43: =+'P. T. G. Central'!E44+'P. T. G. Subnacional'!E39+'C. S. Social'!E39 -> 38.579 | F43: =+'P. T. G. Central'!F44+'P. T. G. Subnacional'!F39+'C. S. Social'!F39 -> 37.827 | G43: =+'P. T. G. Central'!G44+'P. T. G. Subnacional'!G39+'C. S. Social'!G39 -> 37.138 | H43: =+'P. T. G. Central'!H44+'P. T. G. Subnacional'!H39+'C. S. Social'!H39 -> 36.977 | I43: =+'P. T. G. Central'!I44+'P. T. G. Subnacional'!I39+'C. S. Social'!I39 -> 37.665 | J43: =+'P. T. G. Central'!J44+'P. T. G. Subnacional'!J39+'C. S. Social'!J39 -> 37.197 | ... R43: =+'P. T. G. Central'!R44+'P. T. G. Subnacional'!R39+'C. S. Social'!R39 -> 37.504
B44: España | C44: =+'P. T. G. Central'!C45+'P. T. G. Subnacional'!C40+'C. S. Social'!C40 -> 33.893 | D44: =+'P. T. G. Central'!D45+'P. T. G. Subnacional'!D40+'C. S. Social'!D40 -> 35.083 | E44: =+'P. T. G. Central'!E45+'P. T. G. Subnacional'!E40+'C. S. Social'!E40 -> 35.839 | F44: =+'P. T. G. Central'!F45+'P. T. G. Subnacional'!F40+'C. S. Social'!F40 -> 36.253 | G44: =+'P. T. G. Central'!G45+'P. T. G. Subnacional'!G40+'C. S. Social'!G40 -> 31.959 | H44: =+'P. T. G. Central'!H45+'P. T. G. Subnacional'!H40+'C. S. Social'!H40 -> 29.554 | I44: =+'P. T. G. Central'!I45+'P. T. G. Subnacional'!I40+'C. S. Social'!I40 -> 31.138 | J44: =+'P. T. G. Central'!J45+'P. T. G. Subnacional'!J40+'C. S. Social'!J40 -> 31.043 | ... R44: =+'P. T. G. Central'!R45+'P. T. G. Subnacional'!R40+'C. S. Social'!R40 -> 34.435
B45: Estonia | C45: =+'P. T. G. Central'!C46+'P. T. G. Subnacional'!C41+'C. S. Social'!C41 -> 30.857 | D45: =+'P. T. G. Central'!D46+'P. T. G. Subnacional'!D41+'C. S. Social'!D41 -> 29.578 | E45: =+'P. T. G. Central'!E46+'P. T. G. Subnacional'!E41+'C. S. Social'!E41 -> 30.266 | F45: =+'P. T. G. Central'!F46+'P. T. G. Subnacional'!F41+'C. S. Social'!F41 -> 30.774 | G45: =+'P. T. G. Central'!G46+'P. T. G. Subnacional'!G41+'C. S. Social'!G41 -> 31.005 | H45: =+'P. T. G. Central'!H46+'P. T. G. Subnacional'!H41+'C. S. Social'!H41 -> 34.617 | I45: =+'P. T. G. Central'!I46+'P. T. G. Subnacional'!I41+'C. S. Social'!I41 -> 32.768 | J45: =+'P. T. G. Central'!J46+'P. T. G. Subnacional'!J41+'C. S. Social'!J41 -> 31.041 | ... R45: =+'P. T. G. Central'!R46+'P. T. G. Subnacional'!R41+'C. S. Social'!R41 -> 32.864
B46: Finlandia | C46: =+'P. T. G. Central'!C47+'P. T. G. Subnacional'!C42+'C. S. Social'!C42 -> 41.666 | D46: =+'P. T. G. Central'!D47+'P. T. G. Subnacional'!D42+'C. S. Social'!D42 -> 41.944 | E46: =+'P. T. G. Central'!E47+'P. T. G. Subnacional'!E42+'C. S. Social'!E42 -> 41.982 | F46: =+'P. T. G. Central'!F47+'P. T. G. Subnacional'!F42+'C. S. Social'!F42 -> 41.293 | G46: =+'P. T. G. Central'!G47+'P. T. G. Subnacional'!G42+'C. S. Social'!G42 -> 40.983 | H46: =+'P. T. G. Central'!H47+'P. T. G. Subnacional'!H42+'C. S. Social'!H42 -> 40.689 | I46: =+'P. T. G. Central'!I47+'P. T. G. Subnacional'!I42+'C. S. Social'!I42 -> 40.482 | J46: =+'P. T. G. Central'!J47+'P. T. G. Subnacional'!J42+'C. S. Social'!J42 -> 41.697 | ... R46: =+'P. T. G. Central'!R47+'P. T. G. Subnacional'!R42+'C. S. Social'!R42 -> 42.021
B47: Francia | C47: =+'P. T. G. Central'!C48+'P. T. G. Subnacional'!C43+'C. S. Social'!C43 -> 42.319 | D47: =+'P. T. G. Central'!D48+'P. T. G. Subnacional'!D43+'C. S. Social'!D43 -> 42.798 | E47: =+'P. T. G. Central'!E48+'P. T. G. Subnacional'!E43+'C. S. Social'!E43 -> 43.177 | F47: =+'P. T. G. Central'!F48+'P. T. G. Subnacional'!F43+'C. S. Social'!F43 -> 42.452 | G47: =+'P. T. G. Central'!G48+'P. T. G. Subnacional'!G43+'C. S. Social'!G43 -> 42.228 | H47: =+'P. T. G. Central'!H48+'P. T. G. Subnacional'!H43+'C. S. Social'!H43 -> 41.44 | I47: =+'P. T. G. Central'!I48+'P. T. G. Subnacional'!I43+'C. S. Social'!I43 -> 42.046 | J47: =+'P. T. G. Central'!J48+'P. T. G. Subnacional'!J43+'C. S. Social'!J43 -> 43.232 | ... R47: =+'P. T. G. Central'!R48+'P. T. G. Subnacional'!R43+'C. S. Social'!R43 -> 45.209
B48: Grecia | C48: =+'P. T. G. Central'!C49+'P. T. G. Subnacional'!C44+'C. S. Social'!C44 -> 30.331 | D48: =+'P. T. G. Central'!D49+'P. T. G. Subnacional'!D44+'C. S. Social'!D44 -> 31.74 | E48: =+'P. T. G. Central'!E49+'P. T. G. Subnacional'!E44+'C. S. Social'!E44 -> 30.924 | F48: =+'P. T. G. Central'!F49+'P. T. G. Subnacional'!F44+'C. S. Social'!F44 -> 31.664 | G48: =+'P. T. G. Central'!G49+'P. T. G. Subnacional'!G44+'C. S. Social'!G44 -> 31.676 | H48: =+'P. T. G. Central'!H49+'P. T. G. Subnacional'!H44+'C. S. Social'!H44 -> 30.644 | I48: =+'P. T. G. Central'!I49+'P. T. G. Subnacional'!I44+'C. S. Social'!I44 -> 31.913 | J48: =+'P. T. G. Central'!J49+'P. T. G. Subnacional'!J44+'C. S. Social'!J44 -> 33.551 | ... R48: =+'P. T. G. Central'!R49+'P. T. G. Subnacional'!R44+'C. S. Social'!R44 -> 38.503
B49: Hungría | C49: =+'P. T. G. Central'!C50+'P. T. G. Subnacional'!C45+'C. S. Social'!C45 -> 36.993 | D49: =+'P. T. G. Central'!D50+'P. T. G. Subnacional'!D45+'C. S. Social'!D45 -> 36.429 | E49: =+'P. T. G. Central'!E50+'P. T. G. Subnacional'!E45+'C. S. Social'!E45 -> 36.332 | F49: =+'P. T. G. Central'!F50+'P. T. G. Subnacional'!F45+'C. S. Social'!F45 -> 39.186 | G49: =+'P. T. G. Central'!G50+'P. T. G. Subnacional'!G45+'C. S. Social'!G45 -> 39.256 | H49: =+'P. T. G. Central'!H50+'P. T. G. Subnacional'!H45+'C. S. Social'!H45 -> 38.775 | I49: =+'P. T. G. Central'!I50+'P. T. G. Subnacional'!I45+'C. S. Social'!I45 -> 37.1 | J49: =+'P. T. G. Central'!J50+'P. T. G. Subnacional'!J45+'C. S. Social'!J45 -> 36.542 | ... R49: =+'P. T. G. Central'!R50+'P. T. G. Subnacional'!R45+'C. S. Social'!R45 -> 35.634
B50: Islandia | C50: =+'P. T. G. Central'!C51+'P. T. G. Subnacional'!C46+'C. S. Social'!C46 -> 36.301 | D50: =+'P. T. G. Central'!D51+'P. T. G. Subnacional'!D46+'C. S. Social'!D46 -> 39.412 | E50: =+'P. T. G. Central'!E51+'P. T. G. Subnacional'!E46+'C. S. Social'!E46 -> 40.125 | F50: =+'P. T. G. Central'!F51+'P. T. G. Subnacional'!F46+'C. S. Social'!F46 -> 38.585 | G50: =+'P. T. G. Central'!G51+'P. T. G. Subnacional'!G46+'C. S. Social'!G46 -> 34.519 | H50: =+'P. T. G. Central'!H51+'P. T. G. Subnacional'!H46+'C. S. Social'!H46 -> 31.179 | I50: =+'P. T. G. Central'!I51+'P. T. G. Subnacional'!I46+'C. S. Social'!I46 -> 32.299 | J50: =+'P. T. G. Central'!J51+'P. T. G. Subnacional'!J46+'C. S. Social'!J46 -> 33.335 | ... R50: =+'P. T. G. Central'!R51+'P. T. G. Subnacional'!R46+'C. S. Social'!R46 -> 36.075
... B62: Turquía | C62: =+'P. T. G. Central'!C63+'P. T. G. Subnacional'!C58+'C. S. Social'!C58 -> 23.088 | D62: =+'P. T. G. Central'!D63+'P. T. G. Subnacional'!D58+'C. S. Social'!D58 -> 23.14 | E62: =+'P. T. G. Central'!E63+'P. T. G. Subnacional'!E58+'C. S. Social'!E58 -> 23.372 | F62: =+'P. T. G. Central'!F63+'P. T. G. Subnacional'!F58+'C. S. Social'!F58 -> 22.873 | G62: =+'P. T. G. Central'!G63+'P. T. G. Subnacional'!G58+'C. S. Social'!G58 -> 22.961 | H62: =+'P. T. G. Central'!H63+'P. T. G. Subnacional'!H58+'C. S. Social'!H58 -> 23.318 | I62: =+'P. T. G. Central'!I63+'P. T. G. Subnacional'!I58+'C. S. Social'!I58 -> 24.653 | J62: =+'P. T. G. Central'!J63+'P. T. G. Subnacional'!J58+'C. S. Social'!J58 -> 25.707 | ... R62: =+'P. T. G. Central'!R63+'P. T. G. Subnacional'!R58+'C. S. Social'!R58 -> 23.079
...

Sheet P. T. G. Central
B3: Presión Tributaria del Gobierno Central (1)
H4: (% del PIB)
G7: La Presión Tributaria Gobierno Central es la suma de:
F8: P.T. Central Interna + P.T. Central Externa
B12: AMÉRICA
B13: País/Año | C13: 2004 | D13: 2005 | E13: 2006 | F13: 2007 | G13: 2008 | H13: 2009 | I13: 2010 | J13: 2011 | K13: 2012 | L13: 2013 | M13: 2014 | N13: 2015 | O13: 2016 | P13: 2017 | Q13: 2018 | R13: 2019 | S13: 2020
B14: Argentina | C14: 17.791 | D14: 17.78 | E14: 17.811 | F14: 18.463 | G14: 19.096 | H14: 18.492 | I14: 18.766 | J14: 18.74 | K14: 19.225 | L14: 18.888 | M14: 19.14 | N14: 19.192 | O14: 18.744 | P14: 17.716 | Q14: 17.339 | R14: 18.076
B15: Brasil | C15: 15.44 | D15: 16.162 | E15: 15.748 | F15: 16.216 | G15: 15.851 | H15: 14.398 | I15: 14.641 | J15: 15.393 | K15: 14.479 | L15: 14.465 | M15: 13.853 | N15: 13.966 | O15: 14.1 | P15: 14.01 | Q15: 14.58 | R15: 14.403
B16: Chile | C16: 16.842 | D16: 18.443 | E16: 19.869 | F16: 20.601 | G16: 19.043 | H16: 14.819 | I16: 17.232 | J16: 18.681 | K16: 18.812 | L16: 17.268 | M16: 17.001 | N16: 17.71 | O16: 17.397 | P16: 17.398 | Q16: 18.203 | R16: 17.7
B17: Colombia | C17: 12.926 | D17: 13.232 | E17: 14.181 | F17: 14.248 | G17: 14.264 | H17: 13.806 | I17: 13.106 | J17: 14.358 | K17: 15.076 | L17: 14.687 | M17: 14.622 | N17: 14.888 | O17: 13.999 | P17: 14.2 | Q17: 14.121 | R17: 14.367
B18: Costa Rica | C18: 13.73 | D18: 13.964 | E18: 14.269 | F18: 15.284 | G18: 15.48 | H18: 13.457 | I18: 13.214 | J18: 13.489 | K18: 13.377 | L18: 13.589 | M18: 13.204 | N18: 13.413 | O18: 13.91 | P18: 13.439 | Q18: 13.407 | R18: 13.636
B19: Ecuador* | C19: 10.400528 | D19: 10.894911 | E19: 11.233781 | F19: 11.698228 | G19: 11.540991 | H19: 12.415178 | I19: 13.089093 | J19: 12.488452 | K19: 14.061946 | L19: 14.555567 | M19: 14.449337 | N19: 15.9 | O19: 14.2 | P19: 13.65 | Q19: 14.6 | R19: 13.6 | S19: 12.9
B20: El Salvador | C20: 13.143 | D20: 14.396 | E20: 15.658 | F20: 16.128 | G20: 16.161 | H20: 14.939 | I20: 15.736 | J20: 15.855 | K20: 16.17 | L20: 17.112 | M20: 16.81 | N20: 16.841 | O20: 17.36 | P20: 17.774 | Q20: 18.062 | R20: 17.755
B21: Guatemala | C21: 11.306 | D21: 10.964 | E21: 11.664 | F21: 11.922 | G21: 11.025 | H21: 10.295 | I21: 10.389 | J21: 10.706 | K21: 10.743 | L21: 11.088 | M21: 11.009 | N21: 10.577 | O21: 10.929 | P21: 10.92 | Q21: 10.83 | R21: 10.752
B22: Honduras | C22: 14.582 | D22: 14.535 | E22: 15.238 | F22: 16.555 | G22: 16.131 | H22: 14.162 | I22: 14.587 | J22: 14.957 | K22: 14.927 | L22: 15.238 | M22: 16.724 | N22: 17.565 | O22: 18.518 | P22: 18.43 | Q22: 18.649 | R22: 17.633
B23: México | C23: 8.864 | D23: 8.65 | E23: 8.996 | F23: 9.354 | G23: 10.023 | H23: 9.68 | I23: 10.111 | J23: 10.012 | K23: 9.771 | L23: 10.295 | M23: 10.635 | N23: 12.797 | O23: 13.542 | P23: 13.049 | Q23: 13.083 | R23: 13.259
B24: Nicaragua | C24: 12.138 | D24: 12.898 | E24: 13.633 | F24: 13.815 | G24: 13.165 | H24: 13.073 | I24: 13.579 | J24: 14.399 | K24: 14.873 | L24: 14.982 | M24: 15.293 | N24: 15.567 | O24: 16.148 | P24: 16.562 | Q24: 15.653 | R24: 17.67
B25: Panamá | C25: 8.167 | D25: 8.286 | E25: 9.279 | F25: 10.015 | G25: 9.877 | H25: 10.102 | I25: 10.536 | J25: 10.196 | K25: 10.954 | L25: 10.656 | M25: 9.673 | N25: 9.077 | O25: 9.381 | P25: 8.926 | Q25: 8.719 | R25: 8.003
B26: Paraguay | C26: 8.563 | D26: 8.271 | E26: 8.32 | F26: 7.832 | G26: 7.944 | H26: 8.272 | I26: 8.863 | J26: 9.327 | K26: 9.401 | L26: 8.846 | M26: 9.655 | N26: 9.503 | O26: 9.438 | P26: 9.844 | Q26: 9.916 | R26: 9.824
B27: Perú | C27: 13.89 | D27: 14.669 | E27: 16.093 | F27: 16.508 | G27: 16.508 | H27: 14.598 | I27: 15.513 | J27: 16.147 | K27: 16.543 | L27: 16.361 | M27: 16.681 | N27: 14.887 | O27: 13.69 | P27: 12.947 | Q27: 14.038 | R27: 14.169
B28: República Dominicana | C28: 12.58 | D28: 13.87 | E28: 14.07 | F28: 14.95 | G28: 14.232 | H28: 12.708 | I28: 12.277 | J28: 12.368 | K28: 13.096 | L28: 13.577 | M28: 13.458 | N28: 12.95 | O28: 13.027 | P28: 13.171 | Q28: 13.184 | R28: 13.486
B29: Uruguay | C29: 17.882 | D29: 17.933 | E29: 19.147 | F29: 18.812 | G29: 19.146 | H29: 18.499 | I29: 18.722 | J29: 18.838 | K29: 18.688 | L29: 18.853 | M29: 18.464 | N29: 18.424 | O29: 18.753 | P29: 19.686 | Q29: 19.926 | R29: 19.718
B31: Fuente: OCDE; SRI, SENAE, BCE; BDE (Ecuador).
B32: (1) La Presión Tributaria del Gobierno Central está constituida por los impuestos nacionales, internos y externos, como porcentaje del PIB.
B33: Nota: se excluye Bolivia y Venezuela; porque incluyen ingresos provenientes de actividades hidrocarburíferas y mineras.
B34: * La serie de Presión Fiscal para Ecuador considera la recaudación interna neta estimada por la Dirección Nacional de Planificación del Serivicio de Rentas Internas (SRI)
B38: EUROPA
B39: País/Año | C39: 2004 | D39: 2005 | E39: 2006 | F39: 2007 | G39: 2008 | H39: 2009 | I39: 2010 | J39: 2011 | K39: 2012 | L39: 2013 | M39: 2014 | N39: 2015 | O39: 2016 | P39: 2017 | Q39: 2018 | R39: 2019
B40: Alemania | C40: 10.15 | D40: 10.372 | E40: 10.634 | F40: 11.126 | G40: 11.266 | H40: 11.419 | I40: 11.042 | J40: 11.354 | K40: 11.523 | L40: 11.519 | M40: 11.407 | N40: 11.349 | O40: 11.192 | P40: 11.154 | Q40: 11.383 | R40: 11.375
B41: Austria | C41: 28.458 | D41: 27.563 | E41: 27.068 | F41: 27.366 | G41: 28.043 | H41: 27.196 | I41: 27.257 | J41: 27.412 | K41: 27.941 | L41: 28.493 | M41: 28.51 | N41: 28.933 | O41: 27.562 | P41: 27.467 | Q41: 27.794 | R41: 27.88
B42: Belgica | C42: 25.286 | D42: 25.279 | E42: 25.113 | F42: 24.695 | G42: 25.103 | H42: 23.588 | I42: 24.177 | J42: 24.504 | K42: 25.277 | L42: 25.661 | M42: 25.681 | N42: 23.98 | O42: 21.952 | P42: 22.499 | Q42: 23.092 | R42: 21.813
B43: Dinamarca | C43: 31.367 | D43: 33.146 | E43: 31.932 | F43: 35.154 | G43: 33.472 | H43: 33.235 | I43: 32.527 | J43: 32.558 | K43: 33.26 | L43: 33.488 | M43: 36.164 | N43: 33.645 | O43: 33.105 | P43: 33.489 | Q43: 32.231 | R43: 34.136
B44: Eslovenia | C44: 20.779 | D44: 21.293 | E44: 21.037 | F44: 20.214 | G44: 19.342 | H44: 17.919 | I44: 17.971 | J44: 17.766 | K44: 17.759 | L44: 17.793 | M44: 18.07 | N44: 18.403 | O44: 18.549 | P44: 18.327 | Q44: 18.577 | R44: 18.519
B45: España | C45: 14.956 | D45: 15.769 | E45: 16.145 | F45: 16.682 | G45: 13.065 | H45: 10.49 | I45: 12.669 | J45: 12.164 | K45: 12.039 | L45: 13.871 | M45: 14.414 | N45: 14.48 | O45: 14.039 | P45: 13.939 | Q45: 14.433 | R45: 13.959
B46: Estonia | C46: 25.967 | D46: 24.724 | E46: 25.574 | F46: 25.967 | G46: 25.596 | H46: 28.34 | I46: 26.438 | J46: 25.09 | K46: 25.424 | L46: 25.707 | M46: 26.144 | N46: 27.243 | O46: 27.362 | P46: 26.669 | Q46: 27.012 | R46: 27.133
B47: Finlandia | C47: 21.812 | D47: 21.793 | E47: 21.42 | F47: 21.065 | G47: 20.491 | H47: 18.883 | I47: 18.601 | J47: 20.018 | K47: 20.136 | L47: 20.643 | M47: 20.632 | N47: 20.471 | O47: 20.813 | P47: 20.768 | Q47: 20.835 | R47: 20.629
B48: Francia | C48: 17.595 | D48: 17.064 | E48: 16.247 | F48: 15.526 | G48: 14.923 | H48: 13.159 | I48: 15.015 | J48: 14.439 | K48: 14.829 | L48: 15.438 | M48: 15.165 | N48: 15.122 | O48: 15.147 | P48: 15.736 | Q48: 15.421 | R48: 15
B49: Grecia | C49: 19.303 | D49: 20.547 | E49: 19.746 | F49: 20.053 | G49: 19.982 | H49: 19.603 | I49: 20.552 | J49: 22.413 | K49: 24.109 | L49: 24.199 | M49: 24.807 | N49: 25.067 | O49: 26.636 | P49: 25.951 | Q49: 26.161 | R49: 25.632
B50: Hungría | C50: 23.617 | D50: 22.918 | E50: 22.801 | F50: 24.379 | G50: 24.363 | H50: 24.199 | I50: 23.47 | J50: 21.738 | K50: 23.379 | L50: 23.118 | M50: 23.378 | N50: 23.523 | O50: 23.687 | P50: 23.762 | Q50: 23.088 | R50: 22.183
... B63: Turquía | C63: 15.952 | D63: 16.183 | E63: 16.204 | F63: 15.982 | G63: 15.217 | H63: 15.547 | I63: 16.217 | J63: 16.276 | K63: 15.821 | L63: 16.051 | M63: 15.17 | N63: 15.309 | O63: 15.45 | P63: 15.1 | Q63: 14.502 | R63: 13.716
...

Sheet Hoja3

Sheet Hoja4

Sheet P. T. G. Subnacional
B3: Presión Tributaria Gobierno Subnacional (1)
I4: (% del PIB)
B11: AMÉRICA
B12: País/Año | C12: 2004 | D12: 2005 | E12: 2006 | F12: 2007 | G12: 2008 | H12: 2009 | I12: 2010 | J12: 2011 | K12: 2012 | L12: 2013 | M12: 2014 | N12: 2015 | O12: 2016 | P12: 2017 | Q12: 2018 | R12: 2019 | S12: 2020
B13: Argentina | C13: 3.733 | D13: 3.765 | E13: 3.812 | F13: 3.823 | G13: 3.955 | H13: 4.243 | I13: 4.135 | J13: 4.263 | K13: 4.595 | L13: 5.241 | M13: 5.265 | N13: 5.285 | O13: 5.16 | P13: 5.448 | Q13: 5.282 | R13: 4.855
B14: Brasil | C14: 9.425 | D14: 9.545 | E14: 9.614 | F14: 9.467 | G14: 9.768 | H14: 9.411 | I14: 9.616 | J14: 9.575 | K14: 9.639 | L14: 9.66 | M14: 9.556 | N14: 9.65 | O14: 9.659 | P14: 9.802 | Q14: 10.101 | R14: 10.188
B15: Chile | C15: 1.315 | D15: 1.346 | E15: 1.207 | F15: 1.188 | G15: 1.347 | H15: 1.457 | I15: 1.353 | J15: 1.4 | K15: 1.421 | L15: 1.458 | M15: 1.482 | N15: 1.54 | O15: 1.579 | P15: 1.581 | Q15: 1.666 | R15: 1.698
B16: Colombia | C16: 2.657 | D16: 2.705 | E16: 2.846 | F16: 2.789 | G16: 2.747 | H16: 2.95 | I16: 2.881 | J16: 2.91 | K16: 2.872 | L16: 3.004 | M16: 3.131 | N16: 3.327 | O16: 3.293 | P16: 3.333 | Q16: 3.335 | R16: 3.44
B17: Costa Rica | C17: 0.454 | D17: 0.47 | E17: 0.525 | F17: 0.521 | G17: 0.557 | H17: 0.585 | I17: 0.585 | J17: 0.585 | K17: 0.614 | L17: 0.653 | M17: 0.68 | N17: 0.701 | O17: 0.694 | P17: 0.691 | Q17: 0.682 | R17: 0.699
B18: Ecuador | C18: 0.7493585 | D18: 0.74645874 | E18: 0.637536 | F18: 0.62171247 | G18: 0.6964873 | H18: 0.75791138 | I18: 0.72246355 | J18: 0.73562513 | K18: 0.7947811 | L18: 0.81293746 | M18: 0.8366817 | N18: 0.95 | O18: 0.92 | P18: 0.92 | Q18: 1.01 | R18: 1 | S18: 1
B19: El Salvador | C19: 0.333 | D19: 0.284 | E19: 0.335 | F19: 0.337 | G19: 0.382 | H19: 0.379 | I19: 0.402 | J19: 0.412 | K19: 0.425 | L19: 0.458 | M19: 0.485 | N19: 0.442 | O19: 0.447 | P19: 0.426 | Q19: 0.45 | R19: 0.403
B20: Guatemala | C20: 0.161 | D20: 0.164 | E20: 0.162 | F20: 0.163 | G20: 0.162 | H20: 0.185 | I20: 0.186 | J20: 0.171 | K20: 0.182 | L20: 0.149 | M20: 0.148 | N20: 0.145 | O20: 0.112 | P20: 0.135 | Q20: 0.157 | R20: 0.116
B21: Honduras | C21: 1.053 | D21: 1.007 | E21: 0.612 | F21: 0.624 | G21: 0.64 | H21: 0.684 | I21: 0.741 | J21: 0.676 | K21: 0.61 | L21: 0.636 | M21: 0.636 | N21: 0.542 | O21: 1.032 | P21: 0.392 | Q21: 0.416 | R21: 0.846
B22: México | C22: 0.513 | D22: 0.552 | E22: 0.569 | F22: 0.603 | G22: 0.614 | H22: 0.636 | I22: 0.653 | J22: 0.692 | K22: 0.79 | L22: 0.847 | M22: 0.902 | N22: 0.918 | O22: 0.914 | P22: 0.914 | Q22: 0.917 | R22: 0
B23: Nicaragua | C23: 0.983 | D23: 1.273 | E23: 1.384 | F23: 1.439 | G23: 1.308 | H23: 1.382 | I23: 1.429 | J23: 1.49 | K23: 1.506 | L23: 1.535 | M23: 1.555 | N23: 1.509 | O23: 1.521 | P23: 1.526 | Q23: 1.531 | R23: 1.56
B24: Panamá | C24: 0.298 | D24: 0.304 | E24: 0.301 | F24: 0.287 | G24: 0.275 | H24: 0.259 | I24: 0.258 | J24: 0.252 | K24: 0.262 | L24: 0.251 | M24: 0.235 | N24: 0.242 | O24: 0.251 | P24: 0.254 | Q24: 0.24 | R24: 0.23
B25: Paraguay | C25: 0 | D25: 0 | E25: 0.387 | F25: 0.407 | G25: 0.415 | H25: 0.388 | I25: 0.507 | J25: 0.537 | K25: 0.492 | L25: 0.488 | M25: 0.466 | N25: 0.49 | O25: 0.548 | P25: 0.503 | Q25: 0.341 | R25: 0.375
B26: Perú | C26: 0.301 | D26: 0.307 | E26: 0.271 | F26: 0.366 | G26: 0.389 | H26: 0.376 | I26: 0.381 | J26: 0.391 | K26: 0.425 | L26: 0.45 | M26: 0.435 | N26: 0.457 | O26: 0.461 | P26: 0.421 | Q26: 0.41 | R26: 0.442
B27: República Dominicana | C27: 0 | D27: 0 | E27: 0 | F27: 0 | G27: 0 | H27: 0 | I27: 0 | J27: 0 | K27: 0 | L27: 0 | M27: 0 | N27: 0 | O27: 0 | P27: 0 | Q27: 0 | R27: 0
B28: Uruguay | C28: 1.99 | D28: 2.025 | E28: 1.815 | F28: 1.689 | G28: 1.619 | H28: 1.511 | I28: 1.47 | J28: 1.41 | K28: 1.346 | L28: 1.39 | M28: 1.382 | N28: 1.427 | O28: 1.558 | P28: 1.599 | Q28: 1.643 | R28: 1.642
B29: Fuente: OCDE; SRI, SENAE, BCE; BDE (Ecuador).
B30: (1) La Presión Tributaria del Gobierno Subnacional está constituida por los impuestos de gobiernos subnacionales como porcentaje del PIB.
B31: Nota: se excluye Bolivia y Venezuela; porque incluyen ingresos provenientes de actividades hidrocarburíferas y mineras.
B32: v.
B33: EUROPA
B34: País/Año | C34: 2004 | D34: 2005 | E34: 2006 | F34: 2007 | G34: 2008 | H34: 2009 | I34: 2010 | J34: 2011 | K34: 2012 | L34: 2013 | M34: 2014 | N34: 2015 | O34: 2016 | P34: 2017 | Q34: 2018 | R34: 2019
B35: Alemania | C35: 10.198 | D35: 10.271 | E35: 10.85 | F35: 11.259 | G35: 11.515 | H35: 11.016 | I35: 10.506 | J35: 10.766 | K35: 11.172 | L35: 11.325 | M35: 11.324 | N35: 11.65 | O35: 12.103 | P35: 12.1 | Q35: 12.418 | R35: 12.536
B36: Austria | C36: 1.955 | D36: 1.923 | E36: 1.899 | F36: 1.878 | G36: 1.904 | H36: 1.952 | I36: 1.956 | J36: 1.933 | K36: 1.957 | L36: 1.998 | M36: 1.983 | N36: 1.94 | O36: 1.934 | P36: 1.923 | Q36: 1.911 | R36: 1.897
B37: Belgica | C37: 4.149 | D37: 4.26 | E37: 4.326 | F37: 4.417 | G37: 4.183 | H37: 4.442 | I37: 4.404 | J37: 4.512 | K37: 4.351 | L37: 4.587 | M37: 4.46 | N37: 5.528 | O37: 6.81 | P37: 6.843 | Q37: 6.5 | R37: 6.647
B38: Dinamarca | C38: 14.82 | D38: 14.631 | E38: 14.313 | F38: 11.048 | G38: 11.071 | H38: 11.546 | I38: 11.998 | J38: 12.008 | K38: 12.055 | L38: 12.213 | M38: 12.178 | N38: 12.223 | O38: 12.22 | P38: 12.2 | Q38: 11.968 | R38: 12.053
B39: Eslovenia | C39: 2.852 | D39: 2.805 | E39: 2.917 | F39: 3.365 | G39: 3.244 | H39: 3.65 | I39: 4.004 | J39: 3.939 | K39: 4.054 | L39: 3.959 | M39: 3.846 | N39: 3.485 | O39: 3.468 | P39: 3.398 | Q39: 3.368 | R39: 3.342
B40: España | C40: 7.494 | D40: 7.879 | E40: 8.233 | F40: 8.056 | G40: 7.309 | H40: 7.367 | I40: 6.936 | J40: 7.369 | K40: 8.822 | L40: 7.958 | M40: 7.999 | N40: 8.056 | O40: 8.228 | P40: 8.459 | Q40: 8.509 | R40: 8.507
B41: Estonia | C41: 0.368 | D41: 0.35 | E41: 0.313 | F41: 0.283 | G41: 0.361 | H41: 0.416 | I41: 0.457 | J41: 0.47 | K41: 0.416 | L41: 0.359 | M41: 0.343 | N41: 0.333 | O41: 0.322 | P41: 0.295 | Q41: 0.273 | R41: 0.251
B42: Finlandia | C42: 8.665 | D42: 8.687 | E42: 8.835 | F42: 8.797 | G42: 8.995 | H42: 9.671 | I42: 9.843 | J42: 9.671 | K42: 9.622 | L42: 10.136 | M42: 10.227 | N42: 10.336 | O42: 10.085 | P42: 10.077 | Q42: 9.614 | R42: 9.63
B43: Francia | C43: 4.677 | D43: 4.927 | E43: 4.977 | F43: 5.104 | G43: 5.124 | H43: 5.436 | I43: 4.475 | J43: 5.627 | K43: 5.8 | L43: 5.827 | M43: 5.893 | N43: 5.975 | O43: 6.119 | P43: 6.164 | Q43: 6.219 | R43: 6.109
B44: Grecia | C44: 0.681 | D44: 0.705 | E44: 0.686 | F44: 0.704 | G44: 0.724 | H44: 0.702 | I44: 0.75 | J44: 0.784 | K44: 0.865 | L44: 0.92 | M44: 0.875 | N44: 0.872 | O44: 0.935 | P44: 0.942 | Q44: 0.924 | R44: 0.929
B45: Hungría | C45: 2.265 | D45: 2.278 | E45: 2.346 | F45: 2.434 | G45: 2.52 | H45: 2.598 | I45: 2.392 | J45: 2.371 | K45: 2.39 | L45: 2.228 | M45: 2.136 | N45: 2.215 | O45: 2.244 | P45: 2.179 | Q45: 2.165 | R45: 2.149
... B58: Turquía | C58: 1.621 | D58: 1.765 | E58: 1.938 | F58: 1.929 | G58: 1.996 | H58: 2.048 | I58: 2.296 | J58: 2.264 | K58: 2.211 | L58: 2.202 | M58: 2.309 | N58: 2.404 | O58: 2.435 | P58: 2.345 | Q58: 2.302 | R58: 2.122
B61: Fuente de la información de los países de Europa: OECD http://stats.oecd.org/Index.aspx

Sheet C. S. Social
B3: Contribuciones a la Seguridad Social (1)
H4: (%del PIB)
B10: AMÉRICA
B11: País/Año | C11: 2004 | D11: 2005 | E11: 2006 | F11: 2007 | G11: 2008 | H11: 2009 | I11: 2010 | J11: 2011 | K11: 2012 | L11: 2013 | M11: 2014 | N11: 2015 | O11: 2016 | P11: 2017 | Q11: 2018 | R11: 2019 | S11: 2020
B12: Argentina | C12: 2.803 | D12: 2.987 | E12: 3.457 | F12: 4.082 | G12: 4.572 | H12: 6.189 | I12: 6.166 | J12: 6.296 | K12: 6.815 | L12: 7.05 | M12: 6.719 | N12: 6.976 | O12: 6.758 | P12: 6.881 | Q12: 6.281 | R12: 5.715
B13: Brasil | C13: 7.409 | D13: 7.754 | E13: 7.859 | F13: 7.886 | G13: 7.817 | H13: 8.179 | I13: 8.146 | J13: 8.298 | K13: 8.42 | L13: 8.347 | M13: 8.35 | N13: 8.393 | O13: 8.429 | P13: 8.452 | Q13: 8.502 | R13: 8.508
B14: Chile | C14: 0.929 | D14: 0.936 | E14: 0.902 | F14: 0.922 | G14: 1.016 | H14: 1.058 | I14: 1.007 | J14: 1.035 | K14: 1.095 | L14: 1.133 | M14: 1.13 | N14: 1.139 | O14: 1.155 | P14: 1.18 | Q14: 1.209 | R14: 1.26
B15: Colombia | C15: 2.385 | D15: 2.321 | E15: 2.241 | F15: 2.262 | G15: 2.021 | H15: 2.061 | I15: 2.11 | J15: 1.665 | K15: 1.773 | L15: 2.331 | M15: 1.798 | N15: 1.688 | O15: 1.788 | P15: 1.451 | Q15: 1.845 | R15: 1.871
B16: Costa Rica | C16: 7.142 | D16: 7.336 | E16: 7.253 | F16: 7.332 | G16: 7.655 | H16: 8.066 | I16: 8.332 | J16: 8.575 | K16: 8.574 | L16: 8.736 | M16: 8.725 | N16: 8.834 | O16: 8.882 | P16: 8.854 | Q16: 9.099 | R16: 9.244
B17: Ecuador | C17: 2.7973701 | D17: 2.6717616 | E17: 3.3245461 | F17: 3.5127812 | G17: 3.3949539 | H17: 3.2965016 | I17: 3.6523522 | J17: 5.0088356 | K17: 5.4091147 | L17: 4.7792908 | M17: 4.638015 | N17: 5.092 | O17: 4.744 | P17: 5.19 | Q17: 5.16 | R17: 5.5 | S17: 5.6
B18: El Salvador | C18: 2.487 | D18: 2.307 | E18: 2.281 | F18: 2.298 | G18: 2.441 | H18: 2.6 | I18: 2.549 | J18: 2.461 | K18: 2.455 | L18: 2.491 | M18: 2.526 | N18: 2.593 | O18: 2.708 | P18: 2.738 | Q18: 2.698 | R18: 2.673
B19: Guatemala | C19: 1.965 | D19: 1.96 | E19: 2.019 | F19: 1.937 | G19: 1.834 | H19: 1.853 | I19: 1.895 | J19: 1.89 | K19: 1.963 | L19: 2.038 | M19: 2.071 | N19: 2.054 | O19: 2.186 | P19: 2.19 | Q19: 2.201 | R19: 2.195
B20: Honduras | C20: 2.498 | D20: 2.403 | E20: 2.41 | F20: 2.584 | G20: 2.785 | H20: 2.947 | I20: 2.897 | J20: 2.076 | K20: 3.004 | L20: 3.328 | M20: 3.007 | N20: 2.937 | O20: 3.136 | P20: 3.296 | Q20: 3.361 | R20: 3.425
B21: México | C21: 2.182 | D21: 2.16 | E21: 2.023 | F21: 2.058 | G21: 1.962 | H21: 2.152 | I21: 2.076 | J21: 2.062 | K21: 2.088 | L21: 2.162 | M21: 2.165 | N21: 2.206 | O21: 2.162 | P21: 2.134 | Q21: 2.167 | R21: 2.278
B22: Nicaragua | C22: 3.113 | D22: 3.179 | E22: 3.491 | F22: 3.593 | G22: 3.659 | H22: 4.031 | I22: 4.325 | J22: 4.304 | K22: 4.438 | L22: 4.716 | M22: 4.916 | N22: 5.232 | O22: 5.6 | P22: 5.761 | Q22: 5.974 | R22: 6.652
B23: Panamá | C23: 5.22 | D23: 4.972 | E23: 4.874 | F23: 5.184 | G23: 5.288 | H23: 5.63 | I23: 5.561 | J23: 5.886 | K23: 5.407 | L23: 5.87 | M23: 5.781 | N23: 5.828 | O23: 5.917 | P23: 5.873 | Q23: 5.83 | R23: 5.83
B24: Paraguay | C24: 2.403 | D24: 2.4 | E24: 2.531 | F24: 2.521 | G24: 2.597 | H24: 2.811 | I24: 2.754 | J24: 2.993 | K24: 3.508 | L24: 3.325 | M24: 3.731 | N24: 3.742 | O24: 3.448 | P24: 3.674 | Q24: 3.546 | R24: 3.667
B25: Perú | C25: 1.658 | D25: 1.645 | E25: 1.704 | F25: 1.64 | G25: 1.901 | H25: 1.975 | I25: 1.885 | J25: 1.9 | K25: 1.994 | L25: 2.062 | M25: 2.063 | N25: 2.081 | O25: 2.01 | P25: 1.959 | Q25: 2.009 | R25: 2.007
B26: República Dominicana | C26: 0.01 | D26: 0.003 | E26: 0.097 | F26: 0.059 | G26: 0.052 | H26: 0.058 | I26: 0.093 | J26: 0.06 | K26: 0.052 | L26: 0.059 | M26: 0.052 | N26: 0.046 | O26: 0.044 | P26: 0.069 | Q26: 0.059 | R26: 0.056
B27: Uruguay | C27: 4.422 | D27: 5.041 | E27: 5.337 | F27: 5.184 | G27: 5.467 | H27: 6.007 | I27: 6.156 | J27: 6.469 | K27: 6.973 | L27: 7.299 | M27: 7.591 | N27: 7.506 | O27: 7.494 | P27: 7.706 | Q27: 7.622 | R27: 7.672
B29: Fuente: OCDE; SRI, SENAE, BCE; BDE (Ecuador).
B30: (1) Las Contribuciones a la Seguridad Social corresponden a las aportaciones a la Seguridad Social como porcentaje del PIB.
B31: Nota: se excluye Bolivia y Venezuela; porque incluyen ingresos provenientes de actividades hidrocarburíferas y mineras.
B33: EUROPA
B34: País/Año | C34: 2004 | D34: 2005 | E34: 2006 | F34: 2007 | G34: 2008 | H34: 2009 | I34: 2010 | J34: 2011 | K34: 2012 | L34: 2013 | M34: 2014 | N34: 2015 | O34: 2016 | P34: 2017 | Q34: 2018 | R34: 2019
B35: Alemania | C35: 13.837 | D35: 13.614 | E35: 13.289 | F35: 12.832 | G35: 12.897 | H35: 14.092 | I35: 13.817 | J35: 13.795 | K35: 13.959 | L35: 13.957 | M35: 13.926 | N35: 14.039 | O35: 14.207 | P35: 14.331 | Q35: 14.535 | R35: 14.696
B36: Austria | C36: 11.398 | D36: 11.379 | E36: 11.294 | F36: 11.156 | G36: 11.309 | H36: 11.719 | I36: 11.626 | J36: 11.64 | K36: 11.75 | L36: 12.033 | M36: 12.087 | N36: 12.071 | O36: 12.108 | P36: 12.189 | Q36: 12.336 | R36: 12.497
B37: Belgica | C37: 13.639 | D37: 13.41 | E37: 13.379 | F37: 13.385 | G37: 13.847 | H37: 14.321 | I37: 13.95 | J37: 14.148 | K37: 14.377 | L37: 14.488 | M37: 14.308 | N37: 14.232 | O37: 14.137 | P37: 14.041 | Q37: 13.94 | R37: 14.044
B38: Dinamarca | C38: 0.035 | D38: 0.033 | E38: 0.028 | F38: 0.013 | G38: 0.009 | H38: 0.008 | I38: 0.05 | J38: 0.053 | K38: 0.039 | L38: 0.038 | M38: 0.037 | N38: 0.027 | O38: 0.021 | P38: 0.015 | Q38: 0.013 | R38: 0.013
B39: Eslovenia | C39: 14.784 | D39: 14.956 | E39: 14.625 | F39: 14.248 | G39: 14.552 | H39: 15.408 | I39: 15.69 | J39: 15.492 | K39: 15.714 | L39: 15.345 | M39: 15.118 | N39: 15.247 | O39: 15.261 | P39: 15.259 | Q39: 15.318 | R39: 15.643
B40: España | C40: 11.443 | D40: 11.435 | E40: 11.461 | F40: 11.515 | G40: 11.585 | H40: 11.697 | I40: 11.533 | J40: 11.51 | K40: 11.367 | L40: 11.158 | M40: 11.323 | N40: 11.074 | O40: 11.097 | P40: 11.247 | Q40: 11.439 | R40: 11.969
B41: Estonia | C41: 4.522 | D41: 4.504 | E41: 4.379 | F41: 4.524 | G41: 5.048 | H41: 5.861 | I41: 5.873 | J41: 5.481 | K41: 5.461 | L41: 5.245 | M41: 5.288 | N41: 5.339 | O41: 5.374 | P41: 5.372 | Q41: 5.425 | R41: 5.48
B42: Finlandia | C42: 11.189 | D42: 11.464 | E42: 11.727 | F42: 11.431 | G42: 11.497 | H42: 12.135 | I42: 12.038 | J42: 12.008 | K42: 12.565 | L42: 12.545 | M42: 12.572 | N42: 12.602 | O42: 12.702 | P42: 11.95 | Q42: 11.832 | R42: 11.762
B43: Francia | C43: 20.047 | D43: 20.807 | E43: 21.953 | F43: 21.822 | G43: 22.181 | H43: 22.845 | I43: 22.556 | J43: 23.166 | K43: 23.629 | L43: 24.004 | M43: 24.295 | N43: 24.044 | O43: 23.946 | P43: 23.992 | Q43: 24.092 | R43: 24.1
B44: Grecia | C44: 10.347 | D44: 10.488 | E44: 10.492 | F44: 10.907 | G44: 10.97 | H44: 10.339 | I44: 10.611 | J44: 10.354 | K44: 10.749 | L44: 10.534 | M44: 10.229 | N44: 10.352 | O44: 10.622 | P44: 11.531 | Q44: 11.658 | R44: 11.942
B45: Hungría | C45: 11.111 | D45: 11.233 | E45: 11.185 | F45: 12.373 | G45: 12.373 | H45: 11.978 | I45: 11.238 | J45: 12.433 | K45: 13.298 | L45: 13.15 | M45: 12.937 | N45: 13.049 | O45: 13.364 | P45: 12.222 | Q45: 12.048 | R45: 11.302
... B58: Turquía | C58: 5.515 | D58: 5.192 | E58: 5.23 | F58: 4.962 | G58: 5.748 | H58: 5.723 | I58: 6.14 | J58: 7.167 | K58: 6.728 | L58: 6.903 | M58: 6.978 | N58: 7.243 | O58: 7.243 | P58: 7.235 | Q58: 7.182 | R58: 7.241
B61: Fuente de la información de los países de Europa: OECD http://stats.oecd.org/Index.aspx

Sheet Hoja5
A1: PAIS | B1: AÑO 2004 | C1: AÑO 2005 | D1: AÑO 2006 | E1: AÑO 2007 | F1: AÑO 2008 | G1: AÑO 2009 | H1: AÑO 2010 | I1: AÑO 2011 | J1: AÑO 2012 | K1: AÑO 2013 | L1: AÑO 2014 | M1: AÑO 2015 | N1: AÑO 2016 | O1: AÑO 2017 | P1: AÑO 2018 | Q1: AÑO 2019 | R1: AÑO 2020
A2: Brasil | B2: 32.274 | C2: 33.461 | D2: 33.221 | E2: 33.569 | F2: 33.436 | G2: 31.988 | H2: 32.403 | I2: 33.266 | J2: 32.538 | K2: 32.472 | L2: 31.759 | M2: 32.009 | N2: 32.188 | O2: 32.264 | P2: 33.183 | Q2: 33.099
A3: Uruguay | B3: 24.294 | C3: 24.999 | D3: 26.299 | E3: 25.685 | F3: 26.232 | G3: 26.017 | H3: 26.348 | I3: 26.717 | J3: 27.007 | K3: 27.542 | L3: 27.437 | M3: 27.357 | N3: 27.805 | O3: 28.991 | P3: 29.191 | Q3: 29.032
A4: Argentina | B4: 24.327 | C4: 24.532 | D4: 25.08 | E4: 26.368 | F4: 27.623 | G4: 28.924 | H4: 29.067 | I4: 29.299 | J4: 30.635 | K4: 31.179 | L4: 31.124 | M4: 31.453 | N4: 30.662 | O4: 30.045 | P4: 28.902 | Q4: 28.646
A5: Nicaragua | B5: 16.234 | C5: 17.35 | D5: 18.508 | E5: 18.847 | F5: 18.132 | G5: 18.486 | H5: 19.333 | I5: 20.193 | J5: 20.817 | K5: 21.233 | L5: 21.764 | M5: 22.308 | N5: 23.269 | O5: 23.849 | P5: 23.158 | Q5: 25.882
A6: Costa Rica | B6: 21.326 | C6: 21.77 | D6: 22.047 | E6: 23.137 | F6: 23.692 | G6: 22.108 | H6: 22.131 | I6: 22.649 | J6: 22.565 | K6: 22.978 | L6: 22.609 | M6: 22.948 | N6: 23.486 | O6: 22.984 | P6: 23.188 | Q6: 23.579
A7: Honduras | B7: 18.133 | C7: 17.945 | D7: 18.26 | E7: 19.763 | F7: 19.556 | G7: 17.793 | H7: 18.225 | I7: 17.709 | J7: 18.541 | K7: 19.202 | L7: 20.367 | M7: 21.044 | N7: 22.686 | O7: 22.118 | P7: 22.426 | Q7: 21.904
A8: El Salvador | B8: 15.963 | C8: 16.987 | D8: 18.274 | E8: 18.763 | F8: 18.984 | G8: 17.918 | H8: 18.687 | I8: 18.728 | J8: 19.05 | K8: 20.061 | L8: 19.821 | M8: 19.876 | N8: 20.515 | O8: 20.938 | P8: 21.21 | Q8: 20.831
A9: Chile | B9: 19.086 | C9: 20.725 | D9: 21.978 | E9: 22.711 | F9: 21.406 | G9: 17.334 | H9: 19.592 | I9: 21.116 | J9: 21.328 | K9: 19.859 | L9: 19.613 | M9: 20.389 | N9: 20.131 | O9: 20.159 | P9: 21.078 | Q9: 20.658
A10: Ecuador | B10: 13.947257 | C10: 14.313132 | D10: 15.195863 | E10: 15.832722 | F10: 15.632433 | G10: 16.469591 | H10: 17.463909 | I10: 18.232912 | J10: 20.265842 | K10: 20.147795 | L10: 19.924034 | M10: 21.942 | N10: 19.864 | O10: 19.76 | P10: 20.77 | Q10: 20.1 | R10: 19.5
A11: Colombia | B11: 17.968 | C11: 18.258 | D11: 19.268 | E11: 19.299 | F11: 19.032 | G11: 18.817 | H11: 18.097 | I11: 18.933 | J11: 19.721 | K11: 20.022 | L11: 19.551 | M11: 19.903 | N11: 19.08 | O11: 18.984 | P11: 19.301 | Q11: 19.678
A12: Perú | B12: 15.849 | C12: 16.621 | D12: 18.068 | E12: 18.514 | F12: 18.798 | G12: 16.949 | H12: 17.779 | I12: 18.438 | J12: 18.962 | K12: 18.873 | L12: 19.179 | M12: 17.425 | N12: 16.161 | O12: 15.327 | P12: 16.457 | Q12: 16.618
A13: México | B13: 11.559 | C13: 11.362 | D13: 11.588 | E13: 12.015 | F13: 12.599 | G13: 12.468 | H13: 12.84 | I13: 12.766 | J13: 12.649 | K13: 13.304 | L13: 13.702 | M13: 15.921 | N13: 16.618 | O13: 16.097 | P13: 16.167 | Q13: 15.537
A14: Panamá | B14: 13.685 | C14: 13.562 | D14: 14.454 | E14: 15.486 | F14: 15.44 | G14: 15.991 | H14: 16.355 | I14: 16.334 | J14: 16.623 | K14: 16.777 | L14: 15.689 | M14: 15.147 | N14: 15.549 | O14: 15.053 | P14: 14.789 | Q14: 14.063
A15: Paraguay | B15: 10.966 | C15: 10.671 | D15: 11.238 | E15: 10.76 | F15: 10.956 | G15: 11.471 | H15: 12.124 | I15: 12.857 | J15: 13.401 | K15: 12.659 | L15: 13.852 | M15: 13.735 | N15: 13.434 | O15: 14.021 | P15: 13.803 | Q15: 13.866
A16: República Dominicana | B16: 12.59 | C16: 13.873 | D16: 14.167 | E16: 15.009 | F16: 14.284 | G16: 12.766 | H16: 12.37 | I16: 12.428 | J16: 13.148 | K16: 13.636 | L16: 13.51 | M16: 12.996 | N16: 13.071 | O16: 13.24 | P16: 13.243 | Q16: 13.542
A17: Guatemala | B17: 13.432 | C17: 13.088 | D17: 13.845 | E17: 14.022 | F17: 13.021 | G17: 12.333 | H17: 12.47 | I17: 12.767 | J17: 12.888 | K17: 13.275 | L17: 13.228 | M17: 12.776 | N17: 13.227 | O17: 13.245 | P17: 13.188 | Q17: 13.063

Sheet Hoja6
A1: País/Año | B1: 2004 | C1: 2005 | D1: 2006 | E1: 2007 | F1: 2008 | G1: 2009 | H1: 2010 | I1: 2011 | J1: 2012 | K1: 2013 | L1: 2014 | M1: 2015 | N1: 2016 | O1: 2017 | P1: 2018 | Q1: 2019
A2: Alemania | B2: 34.185 | C2: 34.257 | D2: 34.773 | E2: 35.217 | F2: 35.678 | G2: 36.527 | H2: 35.365 | I2: 35.915 | J2: 36.654 | K2: 36.801 | L2: 36.657 | M2: 37.038 | N2: 37.502 | O2: 37.585 | P2: 38.336 | Q2: 38.607
A3: Austria | B3: 41.811 | C3: 40.865 | D3: 40.261 | E3: 40.4 | F3: 41.256 | G3: 40.867 | H3: 40.839 | I3: 40.985 | J3: 41.648 | K3: 42.524 | L3: 42.58 | M3: 42.944 | N3: 41.604 | O3: 41.579 | P3: 42.041 | Q3: 42.274
A4: Bélgica | B4: 43.074 | C4: 42.949 | D4: 42.818 | E4: 42.497 | F4: 43.133 | G4: 42.351 | H4: 42.531 | I4: 43.164 | J4: 44.005 | K4: 44.736 | L4: 44.449 | M4: 43.74 | N4: 42.899 | O4: 43.383 | P4: 43.532 | Q4: 42.504
A5: Dinamarca | B5: 46.222 | C5: 47.81 | D5: 46.273 | E5: 46.215 | F5: 44.552 | G5: 44.789 | H5: 44.575 | I5: 44.619 | J5: 45.354 | K5: 45.739 | L5: 48.379 | M5: 45.895 | N5: 45.346 | O5: 45.704 | P5: 44.212 | Q5: 46.202
A6: Eslovenia | B6: 38.415 | C6: 39.054 | D6: 38.579 | E6: 37.827 | F6: 37.138 | G6: 36.977 | H6: 37.665 | I6: 37.197 | J6: 37.527 | K6: 37.097 | L6: 37.034 | M6: 37.135 | N6: 37.278 | O6: 36.984 | P6: 37.263 | Q6: 37.504
A7: España | B7: 33.893 | C7: 35.083 | D7: 35.839 | E7: 36.253 | F7: 31.959 | G7: 29.554 | H7: 31.138 | I7: 31.043 | J7: 32.228 | K7: 32.987 | L7: 33.736 | M7: 33.61 | N7: 33.364 | O7: 33.645 | P7: 34.381 | Q7: 34.435
A8: Estonia | B8: 30.857 | C8: 29.578 | D8: 30.266 | E8: 30.774 | F8: 31.005 | G8: 34.617 | H8: 32.768 | I8: 31.041 | J8: 31.301 | K8: 31.311 | L8: 31.775 | M8: 32.915 | N8: 33.058 | O8: 32.336 | P8: 32.71 | Q8: 32.864
A9: Finlandia | B9: 41.666 | C9: 41.944 | D9: 41.982 | E9: 41.293 | F9: 40.983 | G9: 40.689 | H9: 40.482 | I9: 41.697 | J9: 42.323 | K9: 43.324 | L9: 43.431 | M9: 43.409 | N9: 43.6 | O9: 42.795 | P9: 42.281 | Q9: 42.021
A10: Francia | B10: 42.319 | C10: 42.798 | D10: 43.177 | E10: 42.452 | F10: 42.228 | G10: 41.44 | H10: 42.046 | I10: 43.232 | J10: 44.258 | K10: 45.269 | L10: 45.353 | M10: 45.141 | N10: 45.212 | O10: 45.892 | P10: 45.732 | Q10: 45.209
A11: Grecia | B11: 30.331 | C11: 31.74 | D11: 30.924 | E11: 31.664 | F11: 31.676 | G11: 30.644 | H11: 31.913 | I11: 33.551 | J11: 35.723 | K11: 35.653 | L11: 35.911 | M11: 36.291 | N11: 38.193 | O11: 38.424 | P11: 38.743 | Q11: 38.503
A12: Hungría | B12: 36.993 | C12: 36.429 | D12: 36.332 | E12: 39.186 | F12: 39.256 | G12: 38.775 | H12: 37.1 | I12: 36.542 | J12: 39.067 | K12: 38.496 | L12: 38.451 | M12: 38.787 | N12: 39.295 | O12: 38.163 | P12: 37.301 | Q12: 35.634
... A25: Turquía | B25: 23.088 | C25: 23.14 | D25: 23.372 | E25: 22.873 | F25: 22.961 | G25: 23.318 | H25: 24.653 | I25: 25.707 | J25: 24.76 | K25: 25.156 | L25: 24.457 | M25: 24.956 | N25: 25.128 | O25: 24.68 | P25: 23.986 | Q25: 23.079

Sheet Hoja7
A1: PAIS | B1: AÑO 2004 | C1: AÑO 2005 | D1: AÑO 2006 | E1: AÑO 2007 | F1: AÑO 2008 | G1: AÑO 2009 | H1: AÑO 2010 | I1: AÑO 2011 | J1: AÑO 2012 | K1: AÑO 2013 | L1: AÑO 2014 | M1: AÑO 2015 | N1: AÑO 2016 | O1: AÑO 2017 | P1: AÑO 2018 | Q1: AÑO 2019 | R1: AÑO 2020
A2: Argentina | B2: 17.791 | C2: 17.78 | D2: 17.811 | E2: 18.463 | F2: 19.096 | G2: 18.492 | H2: 18.766 | I2: 18.74 | J2: 19.225 | K2: 18.888 | L2: 19.14 | M2: 19.192 | N2: 18.744 | O2: 17.716 | P2: 17.339 | Q2: 18.076
A3: Brasil | B3: 15.44 | C3: 16.162 | D3: 15.748 | E3: 16.216 | F3: 15.851 | G3: 14.398 | H3: 14.641 | I3: 15.393 | J3: 14.479 | K3: 14.465 | L3: 13.853 | M3: 13.966 | N3: 14.1 | O3: 14.01 | P3: 14.58 | Q3: 14.403
A4: Chile | B4: 16.842 | C4: 18.443 | D4: 19.869 | E4: 20.601 | F4: 19.043 | G4: 14.819 | H4: 17.232 | I4: 18.681 | J4: 18.812 | K4: 17.268 | L4: 17.001 | M4: 17.71 | N4: 17.397 | O4: 17.398 | P4: 18.203 | Q4: 17.7
A5: Colombia | B5: 12.926 | C5: 13.232 | D5: 14.181 | E5: 14.248 | F5: 14.264 | G5: 13.806 | H5: 13.106 | I5: 14.358 | J5: 15.076 | K5: 14.687 | L5: 14.622 | M5: 14.888 | N5: 13.999 | O5: 14.2 | P5: 14.121 | Q5: 14.367
A6: Costa Rica | B6: 13.73 | C6: 13.964 | D6: 14.269 | E6: 15.284 | F6: 15.48 | G6: 13.457 | H6: 13.214 | I6: 13.489 | J6: 13.377 | K6: 13.589 | L6: 13.204 | M6: 13.413 | N6: 13.91 | O6: 13.439 | P6: 13.407 | Q6: 13.636
A7: Ecuador* | B7: 10.400528 | C7: 10.894911 | D7: 11.233781 | E7: 11.698228 | F7: 11.540991 | G7: 12.415178 | H7: 13.089093 | I7: 12.488452 | J7: 14.061946 | K7: 14.555567 | L7: 14.449337 | M7: 15.9 | N7: 14.2 | O7: 13.65 | P7: 14.6 | Q7: 13.6 | R7: 12.9
A8: El Salvador | B8: 13.143 | C8: 14.396 | D8: 15.658 | E8: 16.128 | F8: 16.161 | G8: 14.939 | H8: 15.736 | I8: 15.855 | J8: 16.17 | K8: 17.112 | L8: 16.81 | M8: 16.841 | N8: 17.36 | O8: 17.774 | P8: 18.062 | Q8: 17.755
A9: Guatemala | B9: 11.306 | C9: 10.964 | D9: 11.664 | E9: 11.922 | F9: 11.025 | G9: 10.295 | H9: 10.389 | I9: 10.706 | J9: 10.743 | K9: 11.088 | L9: 11.009 | M9: 10.577 | N9: 10.929 | O9: 10.92 | P9: 10.83 | Q9: 10.752
A10: Honduras | B10: 14.582 | C10: 14.535 | D10: 15.238 | E10: 16.555 | F10: 16.131 | G10: 14.162 | H10: 14.587 | I10: 14.957 | J10: 14.927 | K10: 15.238 | L10: 16.724 | M10: 17.565 | N10: 18.518 | O10: 18.43 | P10: 18.649 | Q10: 17.633
A11: México | B11: 8.864 | C11: 8.65 | D11: 8.996 | E11: 9.354 | F11: 10.023 | G11: 9.68 | H11: 10.111 | I11: 10.012 | J11: 9.771 | K11: 10.295 | L11: 10.635 | M11: 12.797 | N11: 13.542 | O11: 13.049 | P11: 13.083 | Q11: 13.259
A12: Nicaragua | B12: 12.138 | C12: 12.898 | D12: 13.633 | E12: 13.815 | F12: 13.165 | G12: 13.073 | H12: 13.579 | I12: 14.399 | J12: 14.873 | K12: 14.982 | L12: 15.293 | M12: 15.567 | N12: 16.148 | O12: 16.562 | P12: 15.653 | Q12: 17.67
A13: Panamá | B13: 8.167 | C13: 8.286 | D13: 9.279 | E13: 10.015 | F13: 9.877 | G13: 10.102 | H13: 10.536 | I13: 10.196 | J13: 10.954 | K13: 10.656 | L13: 9.673 | M13: 9.077 | N13: 9.381 | O13: 8.926 | P13: 8.719 | Q13: 8.003
A14: Paraguay | B14: 8.563 | C14: 8.271 | D14: 8.32 | E14: 7.832 | F14: 7.944 | G14: 8.272 | H14: 8.863 | I14: 9.327 | J14: 9.401 | K14: 8.846 | L14: 9.655 | M14: 9.503 | N14: 9.438 | O14: 9.844 | P14: 9.916 | Q14: 9.824
A15: Perú | B15: 13.89 | C15: 14.669 | D15: 16.093 | E15: 16.508 | F15: 16.508 | G15: 14.598 | H15: 15.513 | I15: 16.147 | J15: 16.543 | K15: 16.361 | L15: 16.681 | M15: 14.887 | N15: 13.69 | O15: 12.947 | P15: 14.038 | Q15: 14.169
A16: República Dominicana | B16: 12.58 | C16: 13.87 | D16: 14.07 | E16: 14.95 | F16: 14.232 | G16: 12.708 | H16: 12.277 | I16: 12.368 | J16: 13.096 | K16: 13.577 | L16: 13.458 | M16: 12.95 | N16: 13.027 | O16: 13.171 | P16: 13.184 | Q16: 13.486
A17: Uruguay | B17: 17.882 | C17: 17.933 | D17: 19.147 | E17: 18.812 | F17: 19.146 | G17: 18.499 | H17: 18.722 | I17: 18.838 | J17: 18.688 | K17: 18.853 | L17: 18.464 | M17: 18.424 | N17: 18.753 | O17: 19.686 | P17: 19.926 | Q17: 19.718

Sheet Hoja8
A1: País/Año | B1: 2004 | C1: 2005 | D1: 2006 | E1: 2007 | F1: 2008 | G1: 2009 | H1: 2010 | I1: 2011 | J1: 2012 | K1: 2013 | L1: 2014 | M1: 2015 | N1: 2016 | O1: 2017 | P1: 2018 | Q1: 2019
A2: Alemania | B2: 10.15 | C2: 10.372 | D2: 10.634 | E2: 11.126 | F2: 11.266 | G2: 11.419 | H2: 11.042 | I2: 11.354 | J2: 11.523 | K2: 11.519 | L2: 11.407 | M2: 11.349 | N2: 11.192 | O2: 11.154 | P2: 11.383 | Q2: 11.375
A3: Austria | B3: 28.458 | C3: 27.563 | D3: 27.068 | E3: 27.366 | F3: 28.043 | G3: 27.196 | H3: 27.257 | I3: 27.412 | J3: 27.941 | K3: 28.493 | L3: 28.51 | M3: 28.933 | N3: 27.562 | O3: 27.467 | P3: 27.794 | Q3: 27.88
A4: Belgica | B4: 25.286 | C4: 25.279 | D4: 25.113 | E4: 24.695 | F4: 25.103 | G4: 23.588 | H4: 24.177 | I4: 24.504 | J4: 25.277 | K4: 25.661 | L4: 25.681 | M4: 23.98 | N4: 21.952 | O4: 22.499 | P4: 23.092 | Q4: 21.813
