Workbook
Name __xlnm._FilterDatabase: 'C. S. Social'!#REF!
Name __xlnm._FilterDatabase: 'P. T. G. Central'!$B$67:$O$71
Name __xlnm._FilterDatabase: 'P. T. G. Subnacional'!#REF!
Name __xlnm._FilterDatabase: 'Presión Fiscal'!#REF!
Name __xlnm._FilterDatabase_1: '[1]Presión Fiscal'!#REF!
Name __xlnm._FilterDatabase_1: 'Presión Fiscal'!#REF!
Name __xlnm._FilterDatabase_1_1: 'P. T. G. Central'!$B$67:$O$71
Name __xlnm._FilterDatabase_2: #REF!
Name __xlnm._FilterDatabase_2: #REF!
Name __xlnm._FilterDatabase_3: #REF!
Name __xlnm._FilterDatabase_3: #REF!
Name __xlnm._FilterDatabase_4: '[1]P. T. G. Subnacional'!#REF!
Name __xlnm._FilterDatabase_4: 'P. T. G. Subnacional'!#REF!
Name __xlnm._FilterDatabase_5: '[1]C. S. Social'!#REF!
Name __xlnm._FilterDatabase_5: 'C. S. Social'!#REF!
Name __xlnm.Print_Area: 'C. S. Social'!$B$1:$K$9
Name __xlnm.Print_Area: 'P. T. G. Central'!$B$1:$L$69
Name __xlnm.Print_Area: 'P. T. G. Subnacional'!$B$1:$K$10
Name __xlnm.Print_Area: 'Presión Fiscal'!$B$1:$L$64

Sheet PORTADA1

Sheet Presión Fiscal
B4: Presión fiscal (1)
G5: (% del PIB)
F8: La Presión fiscal es la suma de:
B9: Presión Tributaria (P.T.) Gobierno Central + P.T. Gobierno Subnacional + Contribuciones a la Seguridad Social
B12: AMÉRICA
B13: País/Año | C13: 2004 | D13: 2005 | E13: 2006 | F13: 2007 | G13: 2008 | H13: 2009 | I13: 2010 | J13: 2011 | K13: 2012 | L13: 2013 | M13: 2014 | N13: 2015 | O13: 2016 | P13: 2017 | Q13: 2018 | R13: 2019 | S13: 2020
B14: Argentina | C14: =+'P. T. G. Central'!C14+'P. T. G. Subnacional'!C13+'C. S. Social'!C12 -> 24.327 | D14: =+'P. T. G. Central'!D14+'P. T. G. Subnacional'!D13+'C. S. Social'!D12 -> 24.532 | E14: =+'P. T. G. Central'!E14+'P. T. G. Subnacional'!E13+'C. S. Social'!E12 -> 25.08 | F14: =+'P. T. G. Central'!F14+'P. T. G. Subnacional'!F13+'C. S. Social'!F12 -> 26.368 | G14: =+'P. T. G. Central'!G14+'P. T. G. Subnacional'!G13+'C. S. Social'!G12 -> 27.623 | H14: =+'P. T. G. Central'!H14+'P. T. G. Subnacional'!H13+'C. S. Social'!H12 -> 28.924 | I14: =+'P. T. G. Central'!I14+'P. T. G. Subnacional'!I13+'C. S. Social'!I12 -> 29.067 | J14: =+'P. T. G. Central'!J14+'P. T. G. Subnacional'!J13+'C. S. Social'!J12 -> 29.299 | ... R14: =+'P. T. G. Central'!R14+'P. T. G. Subnacional'!R13+'C. S. Social'!R12 -> 28.646
B15: Brasil | C15: =+'P. T. G. Central'!C15+'P. T. G. Subnacional'!C14+'C. S. Social'!C13 -> 32.274 | D15: =+'P. T. G. Central'!D15+'P. T. G. Subnacional'!D14+'C. S. Social'!D13 -> 33.461 | E15: =+'P. T. G. Central'!E15+'P. T. G. Subnacional'!E14+'C. S. Social'!E13 -> 33.221 | F15: =+'P. T. G. Central'!F15+'P. T. G. Subnacional'!F14+'C. S. Social'!F13 -> 33.569 | G15: =+'P. T. G. Central'!G15+'P. T. G. Subnacional'!G14+'C. S. Social'!G13 -> 33.436 | H15: =+'P. T. G. Central'!H15+'P. T. G. Subnacional'!H14+'C. S. Social'!H13 -> 31.988 | I15: =+'P. T. G. Central'!I15+'P. T. G. Subnacional'!I14+'C. S. Social'!I13 -> 32.403 | J15: =+'P. T. G. Central'!J15+'P. T. G. Subnacional'!J14+'C. S. Social'!J13 -> 33.266 | ... R15: =+'P. T. G. Central'!R15+'P. T. G. Subnacional'!R14+'C. S. Social'!R13 -> 33.099
B16: Chile | C16: =+'P. T. G. Central'!C16+'P. T. G. Subnacional'!C15+'C. S. Social'!C14 -> 19.086 | D16: =+'P. T. G. Central'!D16+'P. T. G. Subnacional'!D15+'C. S. Social'!D14 -> 20.725 | E16: =+'P. T. G. Central'!E16+'P. T. G. Subnacional'!E15+'C. S. Social'!E14 -> 21.978 | F16: =+'P. T. G. Central'!F16+'P. T. G. Subnacional'!F15+'C. S. Social'!F14 -> 22.711 | G16: =+'P. T. G. Central'!G16+'P. T. G. Subnacional'!G15+'C. S. Social'!G14 -> 21.406 | H16: =+'P. T. G. Central'!H16+'P. T. G. Subnacional'!H15+'C. S. Social'!H14 -> 17.334 | I16: =+'P. T. G. Central'!I16+'P. T. G. Subnacional'!I15+'C. S. Social'!I14 -> 19.592 | J16: =+'P. T. G. Central'!J16+'P. T. G. Subnacional'!J15+'C. S. Social'!J14 -> 21.116 | ... R16: =+'P. T. G. Central'!R16+'P. T. G. Subnacional'!R15+'C. S. Social'!R14 -> 20.658
B17: Colombia | C17: =+'P. T. G. Central'!C17+'P. T. G. Subnacional'!C16+'C. S. Social'!C15 -> 17.968 | D17: =+'P. T. G. Central'!D17+'P. T. G. Subnacional'!D16+'C. S. Social'!D15 -> 18.258 | E17: =+'P. T. G. Central'!E17+'P. T. G. Subnacional'!E16+'C. S. Social'!E15 -> 19.268 | F17: =+'P. T. G. Central'!F17+'P. T. G. Subnacional'!F16+'C. S. Social'!F15 -> 19.299 | G17: =+'P. T. G. Central'!G17+'P. T. G. Subnacional'!G16+'C. S. Social'!G15 -> 19.032 | H17: =+'P. T. G. Central'!H17+'P. T. G. Subnacional'!H16+'C. S. Social'!H15 -> 18.817 | I17: =+'P. T. G. Central'!I17+'P. T. G. Subnacional'!I16+'C. S. Social'!I15 -> 18.097 | J17: =+'P. T. G. Central'!J17+'P. T. G. Subnacional'!J16+'C. S. Social'!J15 -> 18.933 | ... R17: =+'P. T. G. Central'!R17+'P. T. G. Subnacional'!R16+'C. S. Social'!R15 -> 19.678
B18: Costa Rica | C18: =+'P. T. G. Central'!C18+'P. T. G. Subnacional'!C17+'C. S. Social'!C16 -> 21.326 | D18: =+'P. T. G. Central'!D18+'P. T. G. Subnacional'!D17+'C. S. Social'!D16 -> 21.77 | E18: =+'P. T. G. Central'!E18+'P. T. G. Subnacional'!E17+'C. S. Social'!E16 -> 22.047 | F18: =+'P. T. G. Central'!F18+'P. T. G. Subnacional'!F17+'C. S. Social'!F16 -> 23.137 | G18: =+'P. T. G. Central'!G18+'P. T. G. Subnacional'!G17+'C. S. Social'!G16 -> 23.692 | H18: =+'P. T. G. Central'!H18+'P. T. G. Subnacional'!H17+'C. S. Social'!H16 -> 22.108 | I18: =+'P. T. G. Central'!I18+'P. T. G. Subnacional'!I17+'C. S. Social'!I16 -> 22.131 | J18: =+'P. T. G. Central'!J18+'P. T. G. Subnacional'!J17+'C. S. Social'!J16 -> 22.649 | ... R18: =+'P. T. G. Central'!R18+'P. T. G. Subnacional'!R17+'C. S. Social'!R16 -> 23.579
B19: Ecuador | C19: =+'P. T. G. Central'!C19+'P. T. G. Subnacional'!C18+'C. S. Social'!C17 -> 13.947257 | D19: =+'P. T. G. Central'!D19+'P. T. G. Subnacional'!D18+'C. S. Social'!D17 -> 14.313132 | E19: =+'P. T. G. Central'!E19+'P. T. G. Subnacional'!E18+'C. S. Social'!E17 -> 15.195863 | F19: =+'P. T. G. Central'!F19+'P. T. G. Subnacional'!F18+'C. S. Social'!F17 -> 15.832722 | G19: =+'P. T. G. Central'!G19+'P. T. G. Subnacional'!G18+'C. S. Social'!G17 -> 15.632433 | H19: =+'P. T. G. Central'!H19+'P. T. G. Subnacional'!H18+'C. S. Social'!H17 -> 16.469591 | I19: =+'P. T. G. Central'!I19+'P. T. G. Subnacional'!I18+'C. S. Social'!I17 -> 17.463909 | J19: =+'P. T. G. Central'!J19+'P. T. G. Subnacional'!J18+'C. S. Social'!J17 -> 18.232912 | ... S19: =+'P. T. G. Central'!S19+'P. T. G. Subnacional'!S18+'C. S. Social'!S17 -> 19.5
B20: El Salvador | C20: =+'P. T. G. Central'!C20+'P. T. G. Subnacional'!C19+'C. S. Social'!C18 -> 15.963 | D20: =+'P. T. G. Central'!D20+'P. T. G. Subnacional'!D19+'C. S. Social'!D18 -> 16.987 | E20: =+'P. T. G. Central'!E20+'P. T. G. Subnacional'!E19+'C. S. Social'!E18 -> 18.274 | F20: =+'P. T. G. Central'!F20+'P. T. G. Subnacional'!F19+'C. S. Social'!F18 -> 18.763 | G20: =+'P. T. G. Central'!G20+'P. T. G. Subnacional'!G19+'C. S. Social'!G18 -> 18.984 | H20: =+'P. T. G. Central'!H20+'P. T. G. Subnacional'!H19+'C. S. Social'!H18 -> 17.918 | I20: =+'P. T. G. Central'!I20+'P. T. G. Subnacional'!I19+'C. S. Social'!I18 -> 18.687 | J20: =+'P. T. G. Central'!J20+'P. T. G. Subnacional'!J19+'C. S. Social'!J18 -> 18.728 | ... R20: =+'P. T. G. Central'!R20+'P. T. G. Subnacional'!R19+'C. S. Social'!R18 -> 20.831
B21: Guatemala | C21: =+'P. T. G. Central'!C21+'P. T. G. Subnacional'!C20+'C. S. Social'!C19 -> 13.432 | D21: =+'P. T. G. Central'!D21+'P. T. G. Subnacional'!D20+'C. S. Social'!D19 -> 13.088 | E21: =+'P. T. G. Central'!E21+'P. T. G. Subnacional'!E20+'C. S. Social'!E19 -> 13.845 | F21: =+'P. T. G. Central'!F21+'P. T. G. Subnacional'!F20+'C. S. Social'!F19 -> 14.022 | G21: =+'P. T. G. Central'!G21+'P. T. G. Subnacional'!G20+'C. S. Social'!G19 -> 13.021 | H21: =+'P. T. G. Central'!H21+'P. T. G. Subnacional'!H20+'C. S. Social'!H19 -> 12.333 | I21: =+'P. T. G. Central'!I21+'P. T. G. Subnacional'!I20+'C. S. Social'!I19 -> 12.47 | J21: =+'P. T. G. Central'!J21+'P. T. G. Subnacional'!J20+'C. S. Social'!J19 -> 12.767 | ... R21: =+'P. T. G. Central'!R21+'P. T. G. Subnacional'!R20+'C. S. Social'!R19 -> 13.063
B22: Honduras | C22: =+'P. T. G. Central'!C22+'P. T. G. Subnacional'!C21+'C. S. Social'!C20 -> 18.133 | D22: =+'P. T. G. Central'!D22+'P. T. G. Subnacional'!D21+'C. S. Social'!D20 -> 17.945 | E22: =+'P. T. G. Central'!E22+'P. T. G. Subnacional'!E21+'C. S. Social'!E20 -> 18.26 | F22: =+'P. T. G. Central'!F22+'P. T. G. Subnacional'!F21+'C. S. Social'!F20 -> 19.763 | G22: =+'P. T. G. Central'!G22+'P. T. G. Subnacional'!G21+'C. S. Social'!G20 -> 19.556 | H22: =+'P. T. G. Central'!H22+'P. T. G. Subnacional'!H21+'C. S. Social'!H20 -> 17.793 | I22: =+'P. T. G. Central'!I22+'P. T. G. Subnacional'!I21+'C. S. Social'!I20 -> 18.225 | J22: =+'P. T. G. Central'!J22+'P. T. G. Subnacional'!J21+'C. S. Social'!J20 -> 17.709 | ... R22: =+'P. T. G. Central'!R22+'P. T. G. Subnacional'!R21+'C. S. Social'!R20 -> 21.904
B23: México | C23: =+'P. T. G. Central'!C23+'P. T. G. Subnacional'!C22+'C. S. Social'!C21 -> 11.559 | D23: =+'P. T. G. Central'!D23+'P. T. G. Subnacional'!D22+'C. S. Social'!D21 -> 11.362 | E23: =+'P. T. G. Central'!E23+'P. T. G. Subnacional'!E22+'C. S. Social'!E21 -> 11.588 | F23: =+'P. T. G. Central'!F23+'P. T. G. Subnacional'!F22+'C. S. Social'!F21 -> 12.015 | G23: =+'P. T. G. Central'!G23+'P. T. G. Subnacional'!G22+'C. S. Social'!G21 -> 12.599 | H23: =+'P. T. G. Central'!H23+'P. T. G. Subnacional'!H22+'C. S. Social'!H21 -> 12.468 | I23: =+'P. T. G. Central'!I23+'P. T. G. Subnacional'!I22+'C. S. Social'!I21 -> 12.84 | J23: =+'P. T. G. Central'!J23+'P. T. G. Subnacional'!J22+'C. S. Social'!J21 -> 12.766 | ... R23: =+'P. T. G. Central'!R23+'P. T. G. Subnacional'!R22+'C. S. Social'!R21 -> 15.537
B24: Nicaragua | C24: =+'P. T. G. Central'!C24+'P. T. G. Subnacional'!C23+'C. S. Social'!C22 -> 16.234 | D24: =+'P. T. G. Central'!D24+'P. T. G. Subnacional'!D23+'C. S. Social'!D22 -> 17.35 | E24: =+'P. T. G. Central'!E24+'P. T. G. Subnacional'!E23+'C. S. Social'!E22 -> 18.508 | F24: =+'P. T. G. Central'!F24+'P. T. G. Subnacional'!F23+'C. S. Social'!F22 -> 18.847 | G24: =+'P. T. G. Central'!G24+'P. T. G. Subnacional'!G23+'C. S. Social'!G22 -> 18.132 | H24: =+'P. T. G. Central'!H24+'P. T. G. Subnacional'!H23+'C. S. Social'!H22 -> 18.486 | I24: =+'P. T. G. Central'!I24+'P. T. G. Subnacional'!I23+'C. S. Social'!I22 -> 19.333 | J24: =+'P. T. G. Central'!J24+'P. T. G. Subnacional'!J23+'C. S. Social'!J22 -> 20.193 | ... R24: =+'P. T. G. Central'!R24+'P. T. G. Subnacional'!R23+'C. S. Social'!R22 -> 25.882
B25: Panamá | C25: =+'P. T. G. Central'!C25+'P. T. G. Subnacional'!C24+'C. S. Social'!C23 -> 13.685 | D25: =+'P. T. G. Central'!D25+'P. T. G. Subnacional'!D24+'C. S. Social'!D23 -> 13.562 | E25: =+'P. T. G. Central'!E25+'P. T. G. Subnacional'!E24+'C. S. Social'!E23 -> 14.454 | F25: =+'P. T. G. Central'!F25+'P. T. G. Subnacional'!F24+'C. S. Social'!F23 -> 15.486 | G25: =+'P. T. G. Central'!G25+'P. T. G. Subnacional'!G24+'C. S. Social'!G23 -> 15.44 | H25: =+'P. T. G. Central'!H25+'P. T. G. Subnacional'!H24+'C. S. Social'!H23 -> 15.991 | I25: =+'P. T. G. Central'!I25+'P. T. G. Subnacional'!I24+'C. S. Social'!I23 -> 16.355 | J25: =+'P. T. G. Central'!J25+'P. T. G. Subnacional'!J24+'C. S. Social'!J23 -> 16.334 | ... R25: =+'P. T. G. Central'!R25+'P. T. G. Subnacional'!R24+'C. S. Social'!R23 -> 14.063
B26: Paraguay | C26: =+'P. T. G. Central'!C26+'P. T. G. Subnacional'!C25+'C. S. Social'!C24 -> 10.966 | D26: =+'P. T. G. Central'!D26+'P. T. G. Subnacional'!D25+'C. S. Social'!D24 -> 10.671 | E26: =+'P. T. G. Central'!E26+'P. T. G. Subnacional'!E25+'C. S. Social'!E24 -> 11.238 | F26: =+'P. T. G. Central'!F26+'P. T. G. Subnacional'!F25+'C. S. Social'!F24 -> 10.76 | G26: =+'P. T. G. Central'!G26+'P. T. G. Subnacional'!G25+'C. S. Social'!G24 -> 10.956 | H26: =+'P. T. G. Central'!H26+'P. T. G. Subnacional'!H25+'C. S. Social'!H24 -> 11.471 | I26: =+'P. T. G. Central'!I26+'P. T. G. Subnacional'!I25+'C. S. Social'!I24 -> 12.124 | J26: =+'P. T. G. Central'!J26+'P. T. G. Subnacional'!J25+'C. S. Social'!J24 -> 12.857 | ... R26: =+'P. T. G. Central'!R26+'P. T. G. Subnacional'!R25+'C. S. Social'!R24 -> 13.866
B27: Perú | C27: =+'P. T. G. Central'!C27+'P. T. G. Subnacional'!C26+'C. S. Social'!C25 -> 15.849 | D27: =+'P. T. G. Central'!D27+'P. T. G. Subnacional'!D26+'C. S. Social'!D25 -> 16.621 | E27: =+'P. T. G. Central'!E27+'P. T. G. Subnacional'!E26+'C. S. Social'!E25 -> 18.068 | F27: =+'P. T. G. Central'!F27+'P. T. G. Subnacional'!F26+'C. S. Social'!F25 -> 18.514 | G27: =+'P. T. G. Central'!G27+'P. T. G. Subnacional'!G26+'C. S. Social'!G25 -> 18.798 | H27: =+'P. T. G. Central'!H27+'P. T. G. Subnacional'!H26+'C. S. Social'!H25 -> 16.949 | I27: =+'P. T. G. Central'!I27+'P. T. G. Subnacional'!I26+'C. S. Social'!I25 -> 17.779 | J27: =+'P. T. G. Central'!J27+'P. T. G. Subnacional'!J26+'C. S. Social'!J25 -> 18.438 | ... R27: =+'P. T. G. Central'!R27+'P. T. G. Subnacional'!R26+'C. S. Social'!R25 -> 16.618
B28: República Dominicana | C28: =+'P. T. G. Central'!C28+'P. T. G. Subnacional'!C27+'C. S. Social'!C26 -> 12.59 | D28: =+'P. T. G. Central'!D28+'P. T. G. Subnacional'!D27+'C. S. Social'!D26 -> 13.873 | E28: =+'P. T. G. Central'!E28+'P. T. G. Subnacional'!E27+'C. S. Social'!E26 -> 14.167 | F28: =+'P. T. G. Central'!F28+'P. T. G. Subnacional'!F27+'C. S. Social'!F26 -> 15.009 | G28: =+'P. T. G. Central'!G28+'P. T. G. Subnacional'!G27+'C. S. Social'!G26 -> 14.284 | H28: =+'P. T. G. Central'!H28+'P. T. G. Subnacional'!H27+'C. S. Social'!H26 -> 12.766 | I28: =+'P. T. G. Central'!I28+'P. T. G. Subnacional'!I27+'C. S. Social'!I26 -> 12.37 | J28: =+'P. T. G. Central'!J28+'P. T. G. Subnacional'!J27+'C. S. Social'!J26 -> 12.428 | ... R28: =+'P. T. G. Central'!R28+'P. T. G. Subnacional'!R27+'C. S. Social'!R26 -> 13.542
B29: Uruguay | C29: =+'P. T. G. Central'!C29+'P. T. G. Subnacional'!C28+'C. S. Social'!C27 -> 24.294 | D29: =+'P. T. G. Central'!D29+'P. T. G. Subnacional'!D28+'C. S. Social'!D27 -> 24.999 | E29: =+'P. T. G. Central'!E29+'P. T. G. Subnacional'!E28+'C. S. Social'!E27 -> 26.299 | F29: =+'P. T. G. Central'!F29+'P. T. G. Subnacional'!F28+'C. S. Social'!F27 -> 25.685 | G29: =+'P. T. G. Central'!G29+'P. T. G. Subnacional'!G28+'C. S. Social'!G27 -> 26.232 | H29: =+'P. T. G. Central'!H29+'P. T. G. Subnacional'!H28+'C. S. Social'!H27 -> 26.017 | I29: =+'P. T. G. Central'!I29+'P. T. G. Subnacional'!I28+'C. S. Social'!I27 -> 26.348 | J29: =+'P. T. G. Central'!J29+'P. T. G. Subnacional'!J28+'C. S. Social'!J27 -> 26.717 | ... R29: =+'P. T. G. Central'!R29+'P. T. G. Subnacional'!R28+'C. S. Social'!R27 -> 29.032
B31: Fuente: OCDE; SRI, SENAE, BCE; BDE (Ecuador).
B32: (1) La Presión Fiscal es la sumatoria de la recaudación de impuestos nacionales (internos y externos), más la recaudación de impuestos subnacionales y más las contribuciones a la seguridad social, expresada como porcentaje del PIB. Este indicador está compuesto por: La Presión Tributaria del Gobierno Central: impuestos nacionales, internos y externos, como porcentaje del PIB. La Presión Tributaria del Gobierno Subnacional: impuestos de gobiernos subnacionales, como porcentaje del PIB. Las Contribuciones a la Seguridad Social: aportaciones a la Seguridad Social, como porcentaje del PIB.
B33: Nota: se excluye Bolivia y Venezuela; porque incluyen ingresos provenientes de actividades hidrocarburíferas y mineras.
B37: EUROPA
B38: País/Año | C38: 2004 | D38: 2005 | E38: 2006 | F38: 2007 | G38: 2008 | H38: 2009 | I38: 2010 | J38: 2011 | K38: 2012 | L38: 2013 | M38: 2014 | N38: 2015 | O38: 2016 | P38: 2017 | Q38: 2018 | R38: 2019
B39: Alemania | C39: =+'P. T. G. Central'!C40+'P. T. G. Subnacional'!C35+'C. S. Social'!C35 -> 34.185 | D39: =+'P. T. G. Central'!D40+'P. T. G. Subnacional'!D35+'C. S. Social'!D35 -> 34.257 | E39: =+'P. T. G. Central'!E40+'P. T. G. Subnacional'!E35+'C. S. Social'!E35 -> 34.773 | F39: =+'P. T. G. Central'!F40+'P. T. G. Subnacional'!F35+'C. S. Social'!F35 -> 35.217 | G39: =+'P. T. G. Central'!G40+'P. T. G. Subnacional'!G35+'C. S. Social'!G35 -> 35.678 | H39: =+'P. T. G. Central'!H40+'P. T. G. Subnacional'!H35+'C. S. Social'!H35 -> 36.527 | I39: =+'P. T. G. Central'!I40+'P. T. G. Subnacional'!I35+'C. S. Social'!I35 -> 35.365 | J39: =+'P. T. G. Central'!J40+'P. T. G. Subnacional'!J35+'C. S. Social'!J35 -> 35.915 | ... R39: =+'P. T. G. Central'!R40+'P. T. G. Subnacional'!R35+'C. S. Social'!R35 -> 38.607
B40: Austria | C40: =+'P. T. G. Central'!C41+'P. T. G. Subnacional'!C36+'C. S. Social'!C36 -> 41.811 | D40: =+'P. T. G. Central'!D41+'P. T. G. Subnacional'!D36+'C. S. Social'!D36 -> 40.865 | E40: =+'P. T. G. Central'!E41+'P. T. G. Subnacional'!E36+'C. S. Social'!E36 -> 40.261 | F40: =+'P. T. G. Central'!F41+'P. T. G. Subnacional'!F36+'C. S. Social'!F36 -> 40.4 | G40: =+'P. T. G. Central'!G41+'P. T. G. Subnacional'!G36+'C. S. Social'!G36 -> 41.256 | H40: =+'P. T. G. Central'!H41+'P. T. G. Subnacional'!H36+'C. S. Social'!H36 -> 40.867 | I40: =+'P. T. G. Central'!I41+'P. T. G. Subnacional'!I36+'C. S. Social'!I36 -> 40.839 | J40: =+'P. T. G. Central'!J41+'P. T. G. Subnacional'!J36+'C. S. Social'!J36 -> 40.985 | ... R40: =+'P. T. G. Central'!R41+'P. T. G. Subnacional'!R36+'C. S. Social'!R36 -> 42.274
B41: Bélgica | C41: =+'P. T. G. Central'!C42+'P. T. G. Subnacional'!C37+'C. S. Social'!C37 -> 43.074 | D41: =+'P. T. G. Central'!D42+'P. T. G. Subnacional'!D37+'C. S. Social'!D37 -> 42.949 | E41: =+'P. T. G. Central'!E42+'P. T. G. Subnacional'!E37+'C. S. Social'!E37 -> 42.818 | F41: =+'P. T. G. Central'!F42+'P. T. G. Subnacional'!F37+'C. S. Social'!F37 -> 42.497 | G41: =+'P. T. G. Central'!G42+'P. T. G. Subnacional'!G37+'C. S. Social'!G37 -> 43.133 | H41: =+'P. T. G. Central'!H42+'P. T. G. Subnacional'!H37+'C. S. Social'!H37 -> 42.351 | I41: =+'P. T. G. Central'!I42+'P. T. G. Subnacional'!I37+'C. S. Social'!I37 -> 42.531 | J41: =+'P. T. G. Central'!J42+'P. T. G. Subnacional'!J37+'C. S. Social'!J37 -> 43.164 | ... R41: =+'P. T. G. Central'!R42+'P. T. G. Subnacional'!R37+'C. S. Social'!R37 -> 42.504
B42: Dinamarca | C42: =+'P. T. G. Central'!C43+'P. T. G. Subnacional'!C38+'C. S. Social'!C38 -> 46.222 | D42: =+'P. T. G. Central'!D43+'P. T. G. Subnacional'!D38+'C. S. Social'!D38 -> 47.81 | E42: =+'P. T. G. Central'!E43+'P. T. G. Subnacional'!E38+'C. S. Social'!E38 -> 46.273 | F42: =+'P. T. G. Central'!F43+'P. T. G. Subnacional'!F38+'C. S. Social'!F38 -> 46.215 | G42: =+'P. T. G. Central'!G43+'P. T. G. Subnacional'!G38+'C. S. Social'!G38 -> 44.552 | H42: =+'P. T. G. Central'!H43+'P. T. G. Subnacional'!H38+'C. S. Social'!H38 -> 44.789 | I42: =+'P. T. G. Central'!I43+'P. T. G. Subnacional'!I38+'C. S. Social'!I38 -> 44.575 | J42: =+'P. T. G. Central'!J43+'P. T. G. Subnacional'!J38+'C. S. Social'!J38 -> 44.619 | ... R42: =+'P. T. G. Central'!R43+'P. T. G. Subnacional'!R38+'C. S. Social'!R38 -> 46.202
B43: Eslovenia | C43: =+'P. T. G. Central'!C44+'P. T. G. Subnacional'!C39+'C. S. Social'!C39 -> 38.415 | D43: =+'P. T. G. Central'!D44+'P. T. G. Subnacional'!D39+'C. S. Social'!D39 -> 39.054 | E43: =+'P. T. G. Central'!E44+'P. T. G. Subnacional'!E39+'C. S. Social'!E39 -> 38.579 | F43: =+'P. T. G. Central'!F44+'P. T. G. Subnacional'!F39+'C. S. Social'!F39 -> 37.827 | G43: =+'P. T. G. Central'!G44+'P. T. G. Subnacional'!G39+'C. S. Social'!G39 -> 37.138 | H43: =+'P. T. G. Central'!H44+'P. T. G. Subnacional'!H39+'C. S. Social'!H39 -> 36.977 | I43: =+'P. T. G. Central'!I44+'P. T. G. Subnacional'!I39+'C. S. Social'!I39 -> 37.665 | J43: =+'P. T. G. Central'!J44+'P. T. G. Subnacional'!J39+'C. S. Social'!J39 -> 37.197 | ... R43: =+'P. T. G. Central'!R44+'P. T. G. Subnacional'!R39+'C. S. Social'!R39 -> 37.504
B44: España | C44: =+'P. T. G. Central'!C45+'P. T. G. Subnacional'!C40+'C. S. Social'!C40 -> 33.893 | D44: =+'P. T. G. Central'!D45+'P. T. G. Subnacional'!D40+'C. S. Social'!D40 -> 35.083 | E44: =+'P. T. G. Central'!E45+'P. T. G. Subnacional'!E40+'C. S. Social'!E40 -> 35.839 | F44: =+'P. T. G. Central'!F45+'P. T. G. Subnacional'!F40+'C. S. Social'!F40 -> 36.253 | G44: =+'P. T. G. Central'!G45+'P. T. G. Subnacional'!G40+'C. S. Social'!G40 -> 31.959 | H44: =+'P. T. G. Central'!H45+'P. T. G. Subnacional'!H40+'C. S. Social'!H40 -> 29.554 | I44: =+'P. T. G. Central'!I45+'P. T. G. Subnacional'!I40+'C. S. Social'!I40 -> 31.138 | J44: =+'P. T. G. Central'!J45+'P. T. G. Subnacional'!J40+'C. S. Social'!J40 -> 31.043 | ... R44: =+'P. T. G. Central'!R45+'P. T. G. Subnacional'!R40+'C. S. Social'!R40 -> 34.435
B45: Estonia | C45: =+'P. T. G. Central'!C46+'P. T. G. Subnacional'!C41+'C. S. Social'!C41 -> 30.857 | D45: =+'P. T. G. Central'!D46+'P. T. G. Subnacional'!D41+'C. S. Social'!D41 -> 29.578 | E45: =+'P. T. G. Central'!E46+'P. T. G. Subnacional'!E41+'C. S. Social'!E41 -> 30.266 | F45: =+'P. T. G. Central'!F46+'P. T. G. Subnacional'!F41+'C. S. Social'!F41 -> 30.774 | G45: =+'P. T. G. Central'!G46+'P. T. G. Subnacional'!G41+'C. S. Social'!G41 -> 31.005 | H45: =+'P. T. G. Central'!H46+'P. T. G. Subnacional'!H41+'C. S. Social'!H41 -> 34.617 | I45: =+'P. T. G. Central'!I46+'P. T. G. Subnacional'!I41+'C. S. Social'!I41 -> 32.768 | J45: =+'P. T. G. Central'!J46+'P. T. G. Subnacional'!J41+'C. S. Social'!J41 -> 31.041 | ... R45: =+'P. T. G. Central'!R46+'P. T. G. Subnacional'!R41+'C. S. Social'!R41 -> 32.864
B46: Finlandia | C46: =+'P. T. G. Central'!C47+'P. T. G. Subnacional'!C42+'C. S. Social'!C42 -> 41.666 | D46: =+'P. T. G. Central'!D47+'P. T. G. Subnacional'!D42+'C. S. Social'!D42 -> 41.944 | E46: =+'P. T. G. Central'!E47+'P. T. G. Subnacional'!E42+'C. S. Social'!E42 -> 41.982 | F46: =+'P. T. G. Central'!F47+'P. T. G. Subnacional'!F42+'C. S. Social'!F42 -> 41.293 | G46: =+'P. T. G. Central'!G47+'P. T. G. Subnacional'!G42+'C. S. Social'!G42 -> 40.983 | H46: =+'P. T. G. Central'!H47+'P. T. G. Subnacional'!H42+'C. S. Social'!H42 -> 40.689 | I46: =+'P. T. G. Central'!I47+'P. T. G. Subnacional'!I42+'C. S. Social'!I42 -> 40.482 | J46: =+'P. T. G. Central'!J47+'P. T. G. Subnacional'!J42+'C. S. Social'!J42 -> 41.697 | ... R46: =+'P. T. G. Central'!R47+'P. T. G. Subnacional'!R42+'C. S. Social'!R42 -> 42.021
B47: Francia | C47: =+'P. T. G. Central'!C48+'P. T. G. Subnacional'!C43+'C. S. Social'!C43 -> 42.319 | D47: =+'P. T. G. Central'!D48+'P. T. G. Subnacional'!D43+'C. S. Social'!D43 -> 42.798 | E47: =+'P. T. G. Central'!E48+'P. T. G. Subnacional'!E43+'C. S. Social'!E43 -> 43.177 | F47: =+'P. T. G. Central'!F48+'P. T. G. Subnacional'!F43+'C. S. Social'!F43 -> 42.452 | G47: =+'P. T. G. Central'!G48+'P. T. G. Subnacional'!G43+'C. S. Social'!G43 -> 42.228 | H47: =+'P. T. G. Central'!H48+'P. T. G. Subnacional'!H43+'C. S. Social'!H43 -> 41.44 | I47: =+'P. T. G. Central'!I48+'P. T. G. Subnacional'!I43+'C. S. Social'!I43 -> 42.046 | J47: =+'P. T. G. Central'!J48+'P. T. G. Subnacional'!J43+'C. S. Social'!J43 -> 43.232 | ... R47: =+'P. T. G. Central'!R48+'P. T. G. Subnacional'!R43+'C. S. Social'!R43 -> 45.209
B48: Grecia | C48: =+'P. T. G. Central'!C49+'P. T. G. Subnacional'!C44+'C. S. Social'!C44 -> 30.331 | D48: =+'P. T. G. Central'!D49+'P. T. G. Subnacional'!D44+'C. S. Social'!D44 -> 31.74 | E48: =+'P. T. G. Central'!E49+'P. T. G. Subnacional'!E44+'C. S. Social'!E44 -> 30.924 | F48: =+'P. T. G. Central'!F49+'P. T. G. Subnacional'!F44+'C. S. Social'!F44 -> 31.664 | G48: =+'P. T. G. Central'!G49+'P. T. G. Subnacional'!G44+'C. S. Social'!G44 -> 31.676 | H48: =+'P. T. G. Central'!H49+'P. T. G. Subnacional'!H44+'C. S. Social'!H44 -> 30.644 | I48: =+'P. T. G. Central'!I49+'P. T. G. Subnacional'!I44+'C. S. Social'!I44 -> 31.913 | J48: =+'P. T. G. Central'!J49+'P. T. G. Subnacional'!J44+'C. S. Social'!J44 -> 33.551 | ... R48: =+'P. T. G. Central'!R49+'P. T. G. Subnacional'!R44+'C. S. Social'!R44 -> 38.503
B49: Hungría | C49: =+'P. T. G. Central'!C50+'P. T. G. Subnacional'!C45+'C. S. Social'!C45 -> 36.993 | D49: =+'P. T. G. Central'!D50+'P. T. G. Subnacional'!D45+'C. S. Social'!D45 -> 36.429 | E49: =+'P. T. G. Central'!E50+'P. T. G. Subnacional'!E45+'C. S. Social'!E45 -> 36.332 | F49: =+'P. T. G. Central'!F50+'P. T. G. Subnacional'!F45+'C. S. Social'!F45 -> 39.186 | G49: =+'P. T. G. Central'!G50+'P. T. G. Subnacional'!G45+'C. S. Social'!G45 -> 39.256 | H49: =+'P. T. G. Central'!H50+'P. T. G. Subnacional'!H45+'C. S. Social'!H45 -> 38.775 | I49: =+'P. T. G. Central'!I50+'P. T. G. Subnacional'!I45+'C. S. Social'!I45 -> 37.1 | J49: =+'P. T. G. Central'!J50+'P. T. G. Subnacional'!J45+'C. S. Social'!J45 -> 36.542 | ... R49: =+'P. T. G. Central'!R50+'P. T. G. Subnacional'!R45+'C. S. Social'!R45 -> 35.634
B50: Islandia | C50: =+'P. T. G. Central'!C51+'P. T. G. Subnacional'!C46+'C. S. Social'!C46 -> 36.301 | D50: =+'P. T. G. Central'!D51+'P. T. G. Subnacional'!D46+'C. S. Social'!D46 -> 39.412 | E50: =+'P. T. G. Central'!E51+'P. T. G. Subnacional'!E46+'C. S. Social'!E46 -> 40.125 | F50: =+'P. T. G. Central'!F51+'P. T. G. Subnacional'!F46+'C. S. Social'!F46 -> 38.585 | G50: =+'P. T. G. Central'!G51+'P. T. G. Subnacional'!G46+'C. S. Social'!G46 -> 34.519 | H50: =+'P. T. G. Central'!H51+'P. T. G. Subnacional'!H46+'C. S. Social'!H46 -> 31.179 | I50: =+'P. T. G. Central'!I51+'P. T. G. Subnacional'!I46+'C. S. Social'!I46 -> 32.299 | J50: =+'P. T. G. Central'!J51+'P. T. G. Subnacional'!J46+'C. S. Social'!J46 -> 33.335 | ... R50: =+'P. T. G. Central'!R51+'P. T. G. Subnacional'!R46+'C. S. Social'!R46 -> 36.075
... B62: Turquía | C62: =+'P. T. G. Central'!C63+'P. T. G. Subnacional'!C58+'C. S. Social'!C58 -> 23.088 | D62: =+'P. T. G. Central'!D63+'P. T. G. Subnacional'!D58+'C. S. Social'!D58 -> 23.14 | E62: =+'P. T. G. Central'!E63+'P. T. G. Subnacional'!E58+'C. S. Social'!E58 -> 23.372 | F62: =+'P. T. G. Central'!F63+'P. T. G. Subnacional'!F58+'C. S. Social'!F58 -> 22.873 | G62: =+'P. T. G. Central'!G63+'P. T. G. Subnacional'!G58+'C. S. Social'!G58 -> 22.961 | H62: =+'P. T. G. Central'!H63+'P. T. G. Subnacional'!H58+'C. S. Social'!H58 -> 23.318 | I62: =+'P. T. G. Central'!I63+'P. T. G. Subnacional'!I58+'C. S. Social'!I58 -> 24.653 | J62: =+'P. T. G. Central'!J63+'P. T. G. Subnacional'!J58+'C. S. Social'!J58 -> 25.707 | ... R62: =+'P. T. G. Central'!R63+'P. T. G. Subnacional'!R58+'C. S. Social'!R58 -> 23.079
B64: Fuente de la información de los países de Europa: OECD http://stats.oecd.org/Index.aspx

Sheet P. T. G. Central
B3: Presión Tributaria del Gobierno Central (1)
H4: (% del PIB)
G7: La Presión Tributaria Gobierno Central es la suma de:
F8: P.T. Central Interna + P.T. Central Externa
B12: AMÉRICA
B13: País/Año | C13: 2004 | D13: 2005 | E13: 2006 | F13: 2007 | G13: 2008 | H13: 2009 | I13: 2010 | J13: 2011 | K13: 2012 | L13: 2013 | M13: 2014 | N13: 2015 | O13: 2016 | P13: 2017 | Q13: 2018 | R13: 2019 | S13: 2020
B14: Argentina | C14: 17.791 | D14: 17.78 | E14: 17.811 | F14: 18.463 | G14: 19.096 | H14: 18.492 | I14: 18.766 | J14: 18.74 | K14: 19.225 | L14: 18.888 | M14: 19.14 | N14: 19.192 | O14: 18.744 | P14: 17.716 | Q14: 17.339 | R14: 18.076
B15: Brasil | C15: 15.44 | D15: 16.162 | E15: 15.748 | F15: 16.216 | G15: 15.851 | H15: 14.398 | I15: 14.641 | J15: 15.393 | K15: 14.479 | L15: 14.465 | M15: 13.853 | N15: 13.966 | O15: 14.1 | P15: 14.01 | Q15: 14.58 | R15: 14.403
B16: Chile | C16: 16.842 | D16: 18.443 | E16: 19.869 | F16: 20.601 | G16: 19.043 | H16: 14.819 | I16: 17.232 | J16: 18.681 | K16: 18.812 | L16: 17.268 | M16: 17.001 | N16: 17.71 | O16: 17.397 | P16: 17.398 | Q16: 18.203 | R16: 17.7
B17: Colombia | C17: 12.926 | D17: 13.232 | E17: 14.181 | F17: 14.248 | G17: 14.264 | H17: 13.806 | I17: 13.106 | J17: 14.358 | K17: 15.076 | L17: 14.687 | M17: 14.622 | N17: 14.888 | O17: 13.999 | P17: 14.2 | Q17: 14.121 | R17: 14.367
B18: Costa Rica | C18: 13.73 | D18: 13.964 | E18: 14.269 | F18: 15.284 | G18: 15.48 | H18: 13.457 | I18: 13.214 | J18: 13.489 | K18: 13.377 | L18: 13.589 | M18: 13.204 | N18: 13.413 | O18: 13.91 | P18: 13.439 | Q18: 13.407 | R18: 13.636
B19: Ecuador* | C19: 10.400528 | D19: 10.894911 | E19: 11.233781 | F19: 11.698228 | G19: 11.540991 | H19: 12.415178 | I19: 13.089093 | J19: 12.488452 | K19: 14.061946 | L19: 14.555567 | M19: 14.449337 | N19: 15.9 | O19: 14.2 | P19: 13.65 | Q19: 14.6 | R19: 13.6 | S19: 12.9
B20: El Salvador | C20: 13.143 | D20: 14.396 | E20: 15.658 | F20: 16.128 | G20: 16.161 | H20: 14.939 | I20: 15.736 | J20: 15.855 | K20: 16.17 | L20: 17.112 | M20: 16.81 | N20: 16.841 | O20: 17.36 | P20: 17.774 | Q20: 18.062 | R20: 17.755
B21: Guatemala | C21: 11.306 | D21: 10.964 | E21: 11.664 | F21: 11.922 | G21: 11.025 | H21: 10.295 | I21: 10.389 | J21: 10.706 | K21: 10.743 | L21: 11.088 | M21: 11.009 | N21: 10.577 | O21: 10.929 | P21: 10.92 | Q21: 10.83 | R21: 10.752
B22: Honduras | C22: 14.582 | D22: 14.535 | E22: 15.238 | F22: 16.555 | G22: 16.131 | H22: 14.162 | I22: 14.587 | J22: 14.957 | K22: 14.927 | L22: 15.238 | M22: 16.724 | N22: 17.565 | O22: 18.518 | P22: 18.43 | Q22: 18.649 | R22: 17.633
B23: México | C23: 8.864 | D23: 8.65 | E23: 8.996 | F23: 9.354 | G23: 10.023 | H23: 9.68 | I23: 10.111 | J23: 10.012 | K23: 9.771 | L23: 10.295 | M23: 10.635 | N23: 12.797 | O23: 13.542 | P23: 13.049 | Q23: 13.083 | R23: 13.259
B24: Nicaragua | C24: 12.138 | D24: 12.898 | E24: 13.633 | F24: 13.815 | G24: 13.165 | H24: 13.073 | I24: 13.579 | J24: 14.399 | K24: 14.873 | L24: 14.982 | M24: 15.293 | N24: 15.567 | O24: 16.148 | P24: 16.562 | Q24: 15.653 | R24: 17.67
B25: Panamá | C25: 8.167 | D25: 8.286 | E25: 9.279 | F25: 10.015 | G25: 9.877 | H25: 10.102 | I25: 10.536 | J25: 10.196 | K25: 10.954 | L25: 10.656 | M25: 9.673 | N25: 9.077 | O25: 9.381 | P25: 8.926 | Q25: 8.719 | R25: 8.003
B26: Paraguay | C26: 8.563 | D26: 8.271 | E26: 8.32 | F26: 7.832 | G26: 7.944 | H26: 8.272 | I26: 8.863 | J26: 9.327 | K26: 9.401 | L26: 8.846 | M26: 9.655 | N26: 9.503 | O26: 9.438 | P26: 9.844 | Q26: 9.916 | R26: 9.824
B27: Perú | C27: 13.89 | D27: 14.669 | E27: 16.093 | F27: 16.508 | G27: 16.508 | H27: 14.598 | I27: 15.513 | J27: 16.147 | K27: 16.543 | L27: 16.361 | M27: 16.681 | N27: 14.887 | O27: 13.69 | P27: 12.947 | Q27: 14.038 | R27: 14.169
B28: República Dominicana | C28: 12.58 | D28: 13.87 | E28: 14.07 | F28: 14.95 | G28: 14.232 | H28: 12.708 | I28: 12.277 | J28: 12.368 | K28: 13.096 | L28: 13.577 | M28: 13.458 | N28: 12.95 | O28: 13.027 | P28: 13.171 | Q28: 13.184 | R28: 13.486
B29: Uruguay | C29: 17.882 | D29: 17.933 | E29: 19.147 | F29: 18.812 | G29: 19.146 | H29: 18.499 | I29: 18.722 | J29: 18.838 | K29: 18.688 | L29: 18.853 | M29: 18.464 | N29: 18.424 | O29: 18.753 | P29: 19.686 | Q29: 19.926 | R29: 19.718
B31: Fuente: OCDE; SRI, SENAE, BCE; BDE (Ecuador).
B32: (1) La Presión Tributaria del Gobierno Central está constituida por los impuestos nacionales, internos y externos, como porcentaje del PIB.
B33: Nota: se excluye Bolivia y Venezuela; porque incluyen ingresos provenientes de actividades hidrocarburíferas y mineras.
B34: * La serie de Presión Fiscal para Ecuador considera la recaudación interna neta estimada por la Dirección Nacional de Planificación del Serivicio de Rentas Internas (SRI)
B38: EUROPA
B39: País/Año | C39: 2004 | D39: 2005 | E39: 2006 | F39: 2007 | G39: 2008 | H39: 2009 | I39: 2010 | J39: 2011 | K39: 2012 | L39: 2013 | M39: 2014 | N39: 2015 | O39: 2016 | P39: 2017 | Q39: 2018 | R39: 2019
B40: Alemania | C40: 10.15 | D40: 10.372 | E40: 10.634 | F40: 11.126 | G40: 11.266 | H40: 11.419 | I40: 11.042 | J40: 11.354 | K40: 11.523 | L40: 11.519 | M40: 11.407 | N40: 11.349 | O40: 11.192 | P40: 11.154 | Q40: 11.383 | R40: 11.375
B41: Austria | C41: 28.458 | D41: 27.563 | E41: 27.068 | F41: 27.366 | G41: 28.043 | H41: 27.196 | I41: 27.257 | J41: 27.412 | K41: 27.941 | L41: 28.493 | M41: 28.51 | N41: 28.933 | O41: 27.562 | P41: 27.467 | Q41: 27.794 | R41: 27.88
B42: Belgica | C42: 25.286 | D42: 25.279 | E42: 25.113 | F42: 24.695 | G42: 25.103 | H42: 23.588 | I42: 24.177 | J42: 24.504 | K42: 25.277 | L42: 25.661 | M42: 25.681 | N42: 23.98 | O42: 21.952 | P42: 22.499 | Q42: 23.092 | R42: 21.813
B43: Dinamarca | C43: 31.367 | D43: 33.146 | E43: 31.932 | F43: 35.154 | G43: 33.472 | H43: 33.235 | I43: 32.527 | J43: 32.558 | K43: 33.26 | L43: 33.488 | M43: 36.164 | N43: 33.645 | O43: 33.105 | P43: 33.489 | Q43: 32.231 | R43: 34.136
B44: Eslovenia | C44: 20.779 | D44: 21.293 | E44: 21.037 | F44: 20.214 | G44: 19.342 | H44: 17.919 | I44: 17.971 | J44: 17.766 | K44: 17.759 | L44: 17.793 | M44: 18.07 | N44: 18.403 | O44: 18.549 | P44: 18.327 | Q44: 18.577 | R44: 18.519
B45: España | C45: 14.956 | D45: 15.769 | E45: 16.145 | F45: 16.682 | G45: 13.065 | H45: 10.49 | I45: 12.669 | J45: 12.164 | K45: 12.039 | L45: 13.871 | M45: 14.414 | N45: 14.48 | O45: 14.039 | P45: 13.939 | Q45: 14.433 | R45: 13.959
B46: Estonia | C46: 25.967 | D46: 24.724 | E46: 25.574 | F46: 25.967 | G46: 25.596 | H46: 28.34 | I46: 26.438 | J46: 25.09 | K46: 25.424 | L46: 25.707 | M46: 26.144 | N46: 27.243 | O46: 27.362 | P46: 26.669 | Q46: 27.012 | R46: 27.133
B47: Finlandia | C47: 21.812 | D47: 21.793 | E47: 21.42 | F47: 21.065 | G47: 20.491 | H47: 18.883 | I47: 18.601 | J47: 20.018 | K47: 20.136 | L47: 20.643 | M47: 20.632 | N47: 20.471 | O47: 20.813 | P47: 20.768 | Q47: 20.835 | R47: 20.629
B48: Francia | C48: 17.595 | D48: 17.064 | E48: 16.247 | F48: 15.526 | G48: 14.923 | H48: 13.159 | I48: 15.015 | J48: 14.439 | K48: 14.829 | L48: 15.438 | M48: 15.165 | N48: 15.122 | O48: 15.147 | P48: 15.736 | Q48: 15.421 | R48: 15
B49: Grecia | C49: 19.303 | D49: 20.547 | E49: 19.746 | F49: 20.053 | G49: 19.982 | H49: 19.603 | I49: 20.552 | J49: 22.413 | K49: 24.109 | L49: 24.199 | M49: 24.807 | N49: 25.067 | O49: 26.636 | P49: 25.951 | Q49: 26.161 | R49: 25.632
B50: Hungría | C50: 23.617 | D50: 22.918 | E50: 22.801 | F50: 24.379 | G50: 24.363 | H50: 24.199 | I50: 23.47 | J50: 21.738 | K50: 23.379 | L50: 23.118 | M50: 23.378 | N50: 23.523 | O50: 23.687 | P50: 23.762 | Q50: 23.088 | R50: 22.183
... B63: Turquía | C63: 15.952 | D63: 16.183 | E63: 16.204 | F63: 15.982 | G63: 15.217 | H63: 15.547 | I63: 16.217 | J63: 16.276 | K63: 15.821 | L63: 16.051 | M63: 15.17 | N63: 15.309 | O63: 15.45 | P63: 15.1 | Q63: 14.502 | R63: 13.716
B66: Fuente de la información de los países de Europa: OECD http://stats.oecd.org/Index.aspx

Sheet Hoja3

Sheet Hoja4

Sheet P. T. G. Subnacional
B3: Presión Tributaria Gobierno Subnacional (1)
I4: (% del PIB)
B11: AMÉRICA
B12: País/Año | C12: 2004 | D12: 2005 | E12: 2006 | F12: 2007 | G12: 2008 | H12: 2009 | I12: 2010 | J12: 2011 | K12: 2012 | L12: 2013 | M12: 2014 | N12: 2015 | O12: 2016 | P12: 2017 | Q12: 2018 | R12: 2019 | S12: 2020
B13: Argentina | C13: 3.733 | D13: 3.765 | E13: 3.812 | F13: 3.823 | G13: 3.955 | H13: 4.243 | I13: 4.135 | J13: 4.263 | K13: 4.595 | L13: 5.241 | M13: 5.265 | N13: 5.285 | O13: 5.16 | P13: 5.448 | Q13: 5.282 | R13: 4.855
B14: Brasil | C14: 9.425 | D14: 9.545 | E14: 9.614 | F14: 9.467 | G14: 9.768 | H14: 9.411 | I14: 9.616 | J14: 9.575 | K14: 9.639 | L14: 9.66 | M14: 9.556 | N14: 9.65 | O14: 9.659 | P14: 9.802 | Q14: 10.101 | R14: 10.188
B15: Chile | C15: 1.315 | D15: 1.346 | E15: 1.207 | F15: 1.188 | G15: 1.347 | H15: 1.457 | I15: 1.353 | J15: 1.4 | K15: 1.421 | L15: 1.458 | M15: 1.482 | N15: 1.54 | O15: 1.579 | P15: 1.581 | Q15: 1.666 | R15: 1.698
B16: Colombia | C16: 2.657 | D16: 2.705 | E16: 2.846 | F16: 2.789 | G16: 2.747 | H16: 2.95 | I16: 2.881 | J16: 2.91 | K16: 2.872 | L16: 3.004 | M16: 3.131 | N16: 3.327 | O16: 3.293 | P16: 3.333 | Q16: 3.335 | R16: 3.44
B17: Costa Rica | C17: 0.454 | D17: 0.47 | E17: 0.525 | F17: 0.521 | G17: 0.557 | H17: 0.585 | I17: 0.585 | J17: 0.585 | K17: 0.614 | L17: 0.653 | M17: 0.68 | N17: 0.701 | O17: 0.694 | P17: 0.691 | Q17: 0.682 | R17: 0.699
B18: Ecuador | C18: 0.7493585 | D18: 0.74645874 | E18: 0.637536 | F18: 0.62171247 | G18: 0.6964873 | H18: 0.75791138 | I18: 0.72246355 | J18: 0.73562513 | K18: 0.7947811 | L18: 0.81293746 | M18: 0.8366817 | N18: 0.95 | O18: 0.92 | P18: 0.92 | Q18: 1.01 | R18: 1 | S18: 1
B19: El Salvador | C19: 0.333 | D19: 0.284 | E19: 0.335 | F19: 0.337 | G19: 0.382 | H19: 0.379 | I19: 0.402 | J19: 0.412 | K19: 0.425 | L19: 0.458 | M19: 0.485 | N19: 0.442 | O19: 0.447 | P19: 0.426 | Q19: 0.45 | R19: 0.403
B20: Guatemala | C20: 0.161 | D20: 0.164 | E20: 0.162 | F20: 0.163 | G20: 0.162 | H20: 0.185 | I20: 0.186 | J20: 0.171 | K20: 0.182 | L20: 0.149 | M20: 0.148 | N20: 0.145 | O20: 0.112 | P20: 0.135 | Q20: 0.157 | R20: 0.116
B21: Honduras | C21: 1.053 | D21: 1.007 | E21: 0.612 | F21: 0.624 | G21: 0.64 | H21: 0.684 | I21: 0.741 | J21: 0.676 | K21: 0.61 | L21: 0.636 | M21: 0.636 | N21: 0.542 | O21: 1.032 | P21: 0.392 | Q21: 0.416 | R21: 0.846
B22: México | C22: 0.513 | D22: 0.552 | E22: 0.569 | F22: 0.603 | G22: 0.614 | H22: 0.636 | I22: 0.653 | J22: 0.692 | K22: 0.79 | L22: 0.847 | M22: 0.902 | N22: 0.918 | O22: 0.914 | P22: 0.914 | Q22: 0.917 | R22: 0
B23: Nicaragua | C23: 0.983 | D23: 1.273 | E23: 1.384 | F23: 1.439 | G23: 1.308 | H23: 1.382 | I23: 1.429 | J23: 1.49 | K23: 1.506 | L23: 1.535 | M23: 1.555 | N23: 1.509 | O23: 1.521 | P23: 1.526 | Q23: 1.531 | R23: 1.56
B24: Panamá | C24: 0.298 | D24: 0.304 | E24: 0.301 | F24: 0.287 | G24: 0.275 | H24: 0.259 | I24: 0.258 | J24: 0.252 | K24: 0.262 | L24: 0.251 | M24: 0.235 | N24: 0.242 | O24: 0.251 | P24: 0.254 | Q24: 0.24 | R24: 0.23
B25: Paraguay | C25: 0 | D25: 0 | E25: 0.387 | F25: 0.407 | G25: 0.415 | H25: 0.388 | I25: 0.507 | J25: 0.537 | K25: 0.492 | L25: 0.488 | M25: 0.466 | N25: 0.49 | O25: 0.548 | P25: 0.503 | Q25: 0.341 | R25: 0.375
B26: Perú | C26: 0.301 | D26: 0.307 | E26: 0.271 | F26: 0.366 | G26: 0.389 | H26: 0.376 | I26: 0.381 | J26: 0.391 | K26: 0.425 | L26: 0.45 | M26: 0.435 | N26: 0.457 | O26: 0.461 | P26: 0.421 | Q26: 0.41 | R26: 0.442
B27: República Dominicana | C27: 0 | D27: 0 | E27: 0 | F27: 0 | G27: 0 | H27: 0 | I27: 0 | J27: 0 | K27: 0 | L27: 0 | M27: 0 | N27: 0 | O27: 0 | P27: 0 | Q27: 0 | R27: 0
B28: Uruguay | C28: 1.99 | D28: 2.025 | E28: 1.815 | F28: 1.689 | G28: 1.619 | H28: 1.511 | I28: 1.47 | J28: 1.41 | K28: 1.346 | L28: 1.39 | M28: 1.382 | N28: 1.427 | O28: 1.558 | P28: 1.599 | Q28: 1.643 | R28: 1.642
B29: Fuente: OCDE; SRI, SENAE, BCE; BDE (Ecuador).
B30: (1) La Presión Tributaria del Gobierno Subnacional está constituida por los impuestos de gobiernos subnacionales como porcentaje del PIB.
B31: Nota: se excluye Bolivia y Venezuela; porque incluyen ingresos provenientes de actividades hidrocarburíferas y mineras.
B32: v.
B33: EUROPA
B34: País/Año | C34: 2004 | D34: 2005 | E34: 2006 | F34: 2007 | G34: 2008 | H34: 2009 | I34: 2010 | J34: 2011 | K34: 2012 | L34: 2013 | M34: 2014 | N34: 2015 | O34: 2016 | P34: 2017 | Q34: 2018 | R34: 2019
B35: Alemania | C35: 10.198 | D35: 10.271 | E35: 10.85 | F35: 11.259 | G35: 11.515 | H35: 11.016 | I35: 10.506 | J35: 10.766 | K35: 11.172 | L35: 11.325 | M35: 11.324 | N35: 11.65 | O35: 12.103 | P35: 12.1 | Q35: 12.418 | R35: 12.536
B36: Austria | C36: 1.955 | D36: 1.923 | E36: 1.899 | F36: 1.878 | G36: 1.904 | H36: 1.952 | I36: 1.956 | J36: 1.933 | K36: 1.957 | L36: 1.998 | M36: 1.983 | N36: 1.94 | O36: 1.934 | P36: 1.923 | Q36: 1.911 | R36: 1.897
B37: Belgica | C37: 4.149 | D37: 4.26 | E37: 4.326 | F37: 4.417 | G37: 4.183 | H37: 4.442 | I37: 4.404 | J37: 4.512 | K37: 4.351 | L37: 4.587 | M37: 4.46 | N37: 5.528 | O37: 6.81 | P37: 6.843 | Q37: 6.5 | R37: 6.647
B38: Dinamarca | C38: 14.82 | D38: 14.631 | E38: 14.313 | F38: 11.048 | G38: 11.071 | H38: 11.546 | I38: 11.998 | J38: 12.008 | K38: 12.055 | L38: 12.213 | M38: 12.178 | N38: 12.223 | O38: 12.22 | P38: 12.2 | Q38: 11.968 | R38: 12.053
B39: Eslovenia | C39: 2.852 | D39: 2.805 | E39: 2.917 | F39: 3.365 | G39: 3.244 | H39: 3.65 | I39: 4.004 | J39: 3.939 | K39: 4.054 | L39: 3.959 | M39: 3.846 | N39: 3.485 | O39: 3.468 | P39: 3.398 | Q39: 3.368 | R39: 3.342
B40: España | C40: 7.494 | D40: 7.879 | E40: 8.233 | F40: 8.056 | G40: 7.309 | H40: 7.367 | I40: 6.936 | J40: 7.369 | K40: 8.822 | L40: 7.958 | M40: 7.999 | N40: 8.056 | O40: 8.228 | P40: 8.459 | Q40: 8.509 | R40: 8.507
B41: Estonia | C41: 0.368 | D41: 0.35 | E41: 0.313 | F41: 0.283 | G41: 0.361 | H41: 0.416 | I41: 0.457 | J41: 0.47 | K41: 0.416 | L41: 0.359 | M41: 0.343 | N41: 0.333 | O41: 0.322 | P41: 0.295 | Q41: 0.273 | R41: 0.251
B42: Finlandia | C42: 8.665 | D42: 8.687 | E42: 8.835 | F42: 8.797 | G42: 8.995 | H42: 9.671 | I42: 9.843 | J42: 9.671 | K42: 9.622 | L42: 10.136 | M42: 10.227 | N42: 10.336 | O42: 10.085 | P42: 10.077 | Q42: 9.614 | R42: 9.63
B43: Francia | C43: 4.677 | D43: 4.927 | E43: 4.977 | F43: 5.104 | G43: 5.124 | H43: 5.436 | I43: 4.475 | J43: 5.627 | K43: 5.8 | L43: 5.827 | M43: 5.893 | N43: 5.975 | O43: 6.119 | P43: 6.164 | Q43: 6.219 | R43: 6.109
B44: Grecia | C44: 0.681 | D44: 0.705 | E44: 0.686 | F44: 0.704 | G44: 0.724 | H44: 0.702 | I44: 0.75 | J44: 0.784 | K44: 0.865 | L44: 0.92 | M44: 0.875 | N44: 0.872 | O44: 0.935 | P44: 0.942 | Q44: 0.924 | R44: 0.929
B45: Hungría | C45: 2.265 | D45: 2.278 | E45: 2.346 | F45: 2.434 | G45: 2.52 | H45: 2.598 | I45: 2.392 | J45: 2.371 | K45: 2.39 | L45: 2.228 | M45: 2.136 | N45: 2.215 | O45: 2.244 | P45: 2.179 | Q45: 2.165 | R45: 2.149
... B58: Turquía | C58: 1.621 | D58: 1.765 | E58: 1.938 | F58: 1.929 | G58: 1.996 | H58: 2.048 | I58: 2.296 | J58: 2.264 | K58: 2.211 | L58: 2.202 | M58: 2.309 | N58: 2.404 | O58: 2.435 | P58: 2.345 | Q58: 2.302 | R58: 2.122
B61: Fuente de la información de los países de Europa: OECD http://stats.oecd.org/Index.aspx

Sheet C. S. Social
B3: Contribuciones a la Seguridad Social (1)
H4: (%del PIB)
B10: AMÉRICA
B11: País/Año | C11: 2004 | D11: 2005 | E11: 2006 | F11: 2007 | G11: 2008 | H11: 2009 | I11: 2010 | J11: 2011 | K11: 2012 | L11: 2013 | M11: 2014 | N11: 2015 | O11: 2016 | P11: 2017 | Q11: 2018 | R11: 2019 | S11: 2020
B12: Argentina | C12: 2.803 | D12: 2.987 | E12: 3.457 | F12: 4.082 | G12: 4.572 | H12: 6.189 | I12: 6.166 | J12: 6.296 | K12: 6.815 | L12: 7.05 | M12: 6.719 | N12: 6.976 | O12: 6.758 | P12: 6.881 | Q12: 6.281 | R12: 5.715
B13: Brasil | C13: 7.409 | D13: 7.754 | E13: 7.859 | F13: 7.886 | G13: 7.817 | H13: 8.179 | I13: 8.146 | J13: 8.298 | K13: 8.42 | L13: 8.347 | M13: 8.35 | N13: 8.393 | O13: 8.429 | P13: 8.452 | Q13: 8.502 | R13: 8.508
B14: Chile | C14: 0.929 | D14: 0.936 | E14: 0.902 | F14: 0.922 | G14: 1.016 | H14: 1.058 | I14: 1.007 | J14: 1.035 | K14: 1.095 | L14: 1.133 | M14: 1.13 | N14: 1.139 | O14: 1.155 | P14: 1.18 | Q14: 1.209 | R14: 1.26
B15: Colombia | C15: 2.385 | D15: 2.321 | E15: 2.241 | F15: 2.262 | G15: 2.021 | H15: 2.061 | I15: 2.11 | J15: 1.665 | K15: 1.773 | L15: 2.331 | M15: 1.798 | N15: 1.688 | O15: 1.788 | P15: 1.451 | Q15: 1.845 | R15: 1.871
B16: Costa Rica | C16: 7.142 | D16: 7.336 | E16: 7.253 | F16: 7.332 | G16: 7.655 | H16: 8.066 | I16: 8.332 | J16: 8.575 | K16: 8.574 | L16: 8.736 | M16: 8.725 | N16: 8.834 | O16: 8.882 | P16: 8.854 | Q16: 9.099 | R16: 9.244
B17: Ecuador | C17: 2.7973701 | D17: 2.6717616 | E17: 3.3245461 | F17: 3.5127812 | G17: 3.3949539 | H17: 3.2965016 | I17: 3.6523522 | J17: 5.0088356 | K17: 5.4091147 | L17: 4.7792908 | M17: 4.638015 | N17: 5.092 | O17: 4.744 | P17: 5.19 | Q17: 5.16 | R17: 5.5 | S17: 5.6
B18: El Salvador | C18: 2.487 | D18: 2.307 | E18: 2.281 | F18: 2.298 | G18: 2.441 | H18: 2.6 | I18: 2.549 | J18: 2.461 | K18: 2.455 | L18: 2.491 | M18: 2.526 | N18: 2.593 | O18: 2.708 | P18: 2.738 | Q18: 2.698 | R18: 2.673
B19: Guatemala | C19: 1.965 | D19: 1.96 | E19: 2.019 | F19: 1.937 | G19: 1.834 | H19: 1.853 | I19: 1.895 | J19: 1.89 | K19: 1.963 | L19: 2.038 | M19: 2.071 | N19: 2.054 | O19: 2.186 | P19: 2.19 | Q19: 2.201 | R19: 2.195
B20: Honduras | C20: 2.498 | D20: 2.403 | E20: 2.41 | F20: 2.584 | G20: 2.785 | H20: 2.947 | I20: 2.897 | J20: 2.076 | K20: 3.004 | L20: 3.328 | M20: 3.007 | N20: 2.937 | O20: 3.136 | P20: 3.296 | Q20: 3.361 | R20: 3.425
B21: México | C21: 2.182 | D21: 2.16 | E21: 2.023 | F21: 2.058 | G21: 1.962 | H21: 2.152 | I21: 2.076 | J21: 2.062 | K21: 2.088 | L21: 2.162 | M21: 2.165 | N21: 2.206 | O21: 2.162 | P21: 2.134 | Q21: 2.167 | R21: 2.278
B22: Nicaragua | C22: 3.113 | D22: 3.179 | E22: 3.491 | F22: 3.593 | G22: 3.659 | H22: 4.031 | I22: 4.325 | J22: 4.304 | K22: 4.438 | L22: 4.716 | M22: 4.916 | N22: 5.232 | O22: 5.6 | P22: 5.761 | Q22: 5.974 | R22: 6.652
B23: Panamá | C23: 5.22 | D23: 4.972 | E23: 4.874 | F23: 5.184 | G23: 5.288 | H23: 5.63 | I23: 5.561 | J23: 5.886 | K23: 5.407 | L23: 5.87 | M23: 5.781 | N23: 5.828 | O23: 5.917 | P23: 5.873 | Q23: 5.83 | R23: 5.83
B24: Paraguay | C24: 2.403 | D24: 2.4 | E24: 2.531 | F24: 2.521 | G24: 2.597 | H24: 2.811 | I24: 2.754 | J24: 2.993 | K24: 3.508 | L24: 3.325 | M24: 3.731 | N24: 3.742 | O24: 3.448 | P24: 3.674 | Q24: 3.546 | R24: 3.667
B25: Perú | C25: 1.658 | D25: 1.645 | E25: 1.704 | F25: 1.64 | G25: 1.901 | H25: 1.975 | I25: 1.885 | J25: 1.9 | K25: 1.994 | L25: 2.062 | M25: 2.063 | N25: 2.081 | O25: 2.01 | P25: 1.959 | Q25: 2.009 | R25: 2.007
B26: República Dominicana | C26: 0.01 | D26: 0.003 | E26: 0.097 | F26: 0.059 | G26: 0.052 | H26: 0.058 | I26: 0.093 | J26: 0.06 | K26: 0.052 | L26: 0.059 | M26: 0.052 | N26: 0.046 | O26: 0.044 | P26: 0.069 | Q26: 0.059 | R26: 0.056
B27: Uruguay | C27: 4.422 | D27: 5.041 | E27: 5.337 | F27: 5.184 | G27: 5.467 | H27: 6.007 | I27: 6.156 | J27: 6.469 | K27: 6.973 | L27: 7.299 | M27: 7.591 | N27: 7.506 | O27: 7.494 | P27: 7.706 | Q27: 7.622 | R27: 7.672
B29: Fuente: OCDE; SRI, SENAE, BCE; BDE (Ecuador).
B30: (1) Las Contribuciones a la Seguridad Social corresponden a las aportaciones a la Seguridad Social como porcentaje del PIB.
B31: Nota: se excluye Bolivia y Venezuela; porque incluyen ingresos provenientes de actividades hidrocarburíferas y mineras.
B33: EUROPA
B34: País/Año | C34: 2004 | D34: 2005 | E34: 2006 | F34: 2007 | G34: 2008 | H34: 2009 | I34: 2010 | J34: 2011 | K34: 2012 | L34: 2013 | M34: 2014 | N34: 2015 | O34: 2016 | P34: 2017 | Q34: 2018 | R34: 2019
B35: Alemania | C35: 13.837 | D35: 13.614 | E35: 13.289 | F35: 12.832 | G35: 12.897 | H35: 14.092 | I35: 13.817 | J35: 13.795 | K35: 13.959 | L35: 13.957 | M35: 13.926 | N35: 14.039 | O35: 14.207 | P35: 14.331 | Q35: 14.535 | R35: 14.696
B36: Austria | C36: 11.398 | D36: 11.379 | E36: 11.294 | F36: 11.156 | G36: 11.309 | H36: 11.719 | I36: 11.626 | J36: 11.64 | K36: 11.75 | L36: 12.033 | M36: 12.087 | N36: 12.071 | O36: 12.108 | P36: 12.189 | Q36: 12.336 | R36: 12.497
B37: Belgica | C37: 13.639 | D37: 13.41 | E37: 13.379 | F37: 13.385 | G37: 13.847 | H37: 14.321 | I37: 13.95 | J37: 14.148 | K37: 14.377 | L37: 14.488 | M37: 14.308 | N37: 14.232 | O37: 14.137 | P37: 14.041 | Q37: 13.94 | R37: 14.044
B38: Dinamarca | C38: 0.035 | D38: 0.033 | E38: 0.028 | F38: 0.013 | G38: 0.009 | H38: 0.008 | I38: 0.05 | J38: 0.053 | K38: 0.039 | L38: 0.038 | M38: 0.037 | N38: 0.027 | O38: 0.021 | P38: 0.015 | Q38: 0.013 | R38: 0.013
B39: Eslovenia | C39: 14.784 | D39: 14.956 | E39: 14.625 | F39: 14.248 | G39: 14.552 | H39: 15.408 | I39: 15.69 | J39: 15.492 | K39: 15.714 | L39: 15.345 | M39: 15.118 | N39: 15.247 | O39: 15.261 | P39: 15.259 | Q39: 15.318 | R39: 15.643
B40: España | C40: 11.443 | D40: 11.435 | E40: 11.461 | F40: 11.515 | G40: 11.585 | H40: 11.697 | I40: 11.533 | J40: 11.51 | K40: 11.367 | L40: 11.158 | M40: 11.323 | N40: 11.074 | O40: 11.097 | P40: 11.247 | Q40: 11.439 | R40: 11.969
B41: Estonia | C41: 4.522 | D41: 4.504 | E41: 4.379 | F41: 4.524 | G41: 5.048 | H41: 5.861 | I41: 5.873 | J41: 5.481 | K41: 5.461 | L41: 5.245 | M41: 5.288 | N41: 5.339 | O41: 5.374 | P41: 5.372 | Q41: 5.425 | R41: 5.48
B42: Finlandia | C42: 11.189 | D42: 11.464 | E42: 11.727 | F42: 11.431 | G42: 11.497 | H42: 12.135 | I42: 12.038 | J42: 12.008 | K42: 12.565 | L42: 12.545 | M42: 12.572 | N42: 12.602 | O42: 12.702 | P42: 11.95 | Q42: 11.832 | R42: 11.762
B43: Francia | C43: 20.047 | D43: 20.807 | E43: 21.953 | F43: 21.822 | G43: 22.181 | H43: 22.845 | I43: 22.556 | J43: 23.166 | K43: 23.629 | L43: 24.004 | M43: 24.295 | N43: 24.044 | O43: 23.946 | P43: 23.992 | Q43: 24.092 | R43: 24.1
B44: Grecia | C44: 10.347 | D44: 10.488 | E44: 10.492 | F44: 10.907 | G44: 10.97 | H44: 10.339 | I44: 10.611 | J44: 10.354 | K44: 10.749 | L44: 10.534 | M44: 10.229 | N44: 10.352 | O44: 10.622 | P44: 11.531 | Q44: 11.658 | R44: 11.942
B45: Hungría | C45: 11.111 | D45: 11.233 | E45: 11.185 | F45: 12.373 | G45: 12.373 | H45: 11.978 | I45: 11.238 | J45: 12.433 | K45: 13.298 | L45: 13.15 | M45: 12.937 | N45: 13.049 | O45: 13.364 | P45: 12.222 | Q45: 12.048 | R45: 11.302
... B58: Turquía | C58: 5.515 | D58: 5.192 | E58: 5.23 | F58: 4.962 | G58: 5.748 | H58: 5.723 | I58: 6.14 | J58: 7.167 | K58: 6.728 | L58: 6.903 | M58: 6.978 | N58: 7.243 | O58: 7.243 | P58: 7.235 | Q58: 7.182 | R58: 7.241
B61: Fuente de la información de los países de Europa: OECD http://stats.oecd.org/Index.aspx

Sheet Hoja5
A1: PAIS | B1: AÑO 2004 | C1: AÑO 2005 | D1: AÑO 2006 | E1: AÑO 2007 | F1: AÑO 2008 | G1: AÑO 2009 | H1: AÑO 2010 | I1: AÑO 2011 | J1: AÑO 2012 | K1: AÑO 2013 | L1: AÑO 2014 | M1: AÑO 2015 | N1: AÑO 2016 | O1: AÑO 2017 | P1: AÑO 2018 | Q1: AÑO 2019 | R1: AÑO 2020
A2: Brasil | B2: 32.274 | C2: 33.461 | D2: 33.221 | E2: 33.569 | F2: 33.436 | G2: 31.988 | H2: 32.403 | I2: 33.266 | J2: 32.538 | K2: 32.472 | L2: 31.759 | M2: 32.009 | N2: 32.188 | O2: 32.264 | P2: 33.183 | Q2: 33.099
A3: Uruguay | B3: 24.294 | C3: 24.999 | D3: 26.299 | E3: 25.685 | F3: 26.232 | G3: 26.017 | H3: 26.348 | I3: 26.717 | J3: 27.007 | K3: 27.542 | L3: 27.437 | M3: 27.357 | N3: 27.805 | O3: 28.991 | P3: 29.191 | Q3: 29.032
A4: Argentina | B4: 24.327 | C4: 24.532 | D4: 25.08 | E4: 26.368 | F4: 27.623 | G4: 28.924 | H4: 29.067 | I4: 29.299 | J4: 30.635 | K4: 31.179 | L4: 31.124 | M4: 31.453 | N4: 30.662 | O4: 30.045 | P4: 28.902 | Q4: 28.646
A5: Nicaragua | B5: 16.234 | C5: 17.35 | D5: 18.508 | E5: 18.847 | F5: 18.132 | G5: 18.486 | H5: 19.333 | I5: 20.193 | J5: 20.817 | K5: 21.233 | L5: 21.764 | M5: 22.308 | N5: 23.269 | O5: 23.849 | P5: 23.158 | Q5: 25.882
A6: Costa Rica | B6: 21.326 | C6: 21.77 | D6: 22.047 | E6: 23.137 | F6: 23.692 | G6: 22.108 | H6: 22.131 | I6: 22.649 | J6: 22.565 | K6: 22.978 | L6: 22.609 | M6: 22.948 | N6: 23.486 | O6: 22.984 | P6: 23.188 | Q6: 23.579
A7: Honduras | B7: 18.133 | C7: 17.945 | D7: 18.26 | E7: 19.763 | F7: 19.556 | G7: 17.793 | H7: 18.225 | I7: 17.709 | J7: 18.541 | K7: 19.202 | L7: 20.367 | M7: 21.044 | N7: 22.686 | O7: 22.118 | P7: 22.426 | Q7: 21.904
A8: El Salvador | B8: 15.963 | C8: 16.987 | D8: 18.274 | E8: 18.763 | F8: 18.984 | G8: 17.918 | H8: 18.687 | I8: 18.728 | J8: 19.05 | K8: 20.061 | L8: 19.821 | M8: 19.876 | N8: 20.515 | O8: 20.938 | P8: 21.21 | Q8: 20.831
A9: Chile | B9: 19.086 | C9: 20.725 | D9: 21.978 | E9: 22.711 | F9: 21.406 | G9: 17.334 | H9: 19.592 | I9: 21.116 | J9: 21.328 | K9: 19.859 | L9: 19.613 | M9: 20.389 | N9: 20.131 | O9: 20.159 | P9: 21.078 | Q9: 20.658
A10: Ecuador | B10: 13.947257 | C10: 14.313132 | D10: 15.195863 | E10: 15.832722 | F10: 15.632433 | G10: 16.469591 | H10: 17.463909 | I10: 18.232912 | J10: 20.265842 | K10: 20.147795 | L10: 19.924034 | M10: 21.942 | N10: 19.864 | O10: 19.76 | P10: 20.77 | Q10: 20.1 | R10: 19.5
A11: Colombia | B11: 17.968 | C11: 18.258 | D11: 19.268 | E11: 19.299 | F11: 19.032 | G11: 18.817 | H11: 18.097 | I11: 18.933 | J11: 19.721 | K11: 20.022 | L11: 19.551 | M11: 19.903 | N11: 19.08 | O11: 18.984 | P11: 19.301 | Q11: 19.678
A12: Perú | B12: 15.849 | C12: 16.621 | D12: 18.068 | E12: 18.514 | F12: 18.798 | G12: 16.949 | H12: 17.779 | I12: 18.438 | J12: 18.962 | K12: 18.873 | L12: 19.179 | M12: 17.425 | N12: 16.161 | O12: 15.327 | P12: 16.457 | Q12: 16.618
A13: México | B13: 11.559 | C13: 11.362 | D13: 11.588 | E13: 12.015 | F13: 12.599 | G13: 12.468 | H13: 12.84 | I13: 12.766 | J13: 12.649 | K13: 13.304 | L13: 13.702 | M13: 15.921 | N13: 16.618 | O13: 16.097 | P13: 16.167 | Q13: 15.537
A14: Panamá | B14: 13.685 | C14: 13.562 | D14: 14.454 | E14: 15.486 | F14: 15.44 | G14: 15.991 | H14: 16.355 | I14: 16.334 | J14: 16.623 | K14: 16.777 | L14: 15.689 | M14: 15.147 | N14: 15.549 | O14: 15.053 | P14: 14.789 | Q14: 14.063
A15: Paraguay | B15: 10.966 | C15: 10.671 | D15: 11.238 | E15: 10.76 | F15: 10.956 | G15: 11.471 | H15: 12.124 | I15: 12.857 | J15: 13.401 | K15: 12.659 | L15: 13.852 | M15: 13.735 | N15: 13.434 | O15: 14.021 | P15: 13.803 | Q15: 13.866
A16: República Dominicana | B16: 12.59 | C16: 13.873 | D16: 14.167 | E16: 15.009 | F16: 14.284 | G16: 12.766 | H16: 12.37 | I16: 12.428 | J16: 13.148 | K16: 13.636 | L16: 13.51 | M16: 12.996 | N16: 13.071 | O16: 13.24 | P16: 13.243 | Q16: 13.542
A17: Guatemala | B17: 13.432 | C17: 13.088 | D17: 13.845 | E17: 14.022 | F17: 13.021 | G17: 12.333 | H17: 12.47 | I17: 12.767 | J17: 12.888 | K17: 13.275 | L17: 13.228 | M17: 12.776 | N17: 13.227 | O17: 13.245 | P17: 13.188 | Q17: 13.063

Sheet Hoja6
A1: País/Año | B1: 2004 | C1: 2005 | D1: 2006 | E1: 2007 | F1: 2008 | G1: 2009 | H1: 2010 | I1: 2011 | J1: 2012 | K1: 2013 | L1: 2014 | M1: 2015 | N1: 2016 | O1: 2017 | P1: 2018 | Q1: 2019
A2: Alemania | B2: 34.185 | C2: 34.257 | D2: 34.773 | E2: 35.217 | F2: 35.678 | G2: 36.527 | H2: 35.365 | I2: 35.915 | J2: 36.654 | K2: 36.801 | L2: 36.657 | M2: 37.038 | N2: 37.502 | O2: 37.585 | P2: 38.336 | Q2: 38.607
A3: Austria | B3: 41.811 | C3: 40.865 | D3: 40.261 | E3: 40.4 | F3: 41.256 | G3: 40.867 | H3: 40.839 | I3: 40.985 | J3: 41.648 | K3: 42.524 | L3: 42.58 | M3: 42.944 | N3: 41.604 | O3: 41.579 | P3: 42.041 | Q3: 42.274
A4: Bélgica | B4: 43.074 | C4: 42.949 | D4: 42.818 | E4: 42.497 | F4: 43.133 | G4: 42.351 | H4: 42.531 | I4: 43.164 | J4: 44.005 | K4: 44.736 | L4: 44.449 | M4: 43.74 | N4: 42.899 | O4: 43.383 | P4: 43.532 | Q4: 42.504
A5: Dinamarca | B5: 46.222 | C5: 47.81 | D5: 46.273 | E5: 46.215 | F5: 44.552 | G5: 44.789 | H5: 44.575 | I5: 44.619 | J5: 45.354 | K5: 45.739 | L5: 48.379 | M5: 45.895 | N5: 45.346 | O5: 45.704 | P5: 44.212 | Q5: 46.202
A6: Eslovenia | B6: 38.415 | C6: 39.054 | D6: 38.579 | E6: 37.827 | F6: 37.138 | G6: 36.977 | H6: 37.665 | I6: 37.197 | J6: 37.527 | K6: 37.097 | L6: 37.034 | M6: 37.135 | N6: 37.278 | O6: 36.984 | P6: 37.263 | Q6: 37.504
A7: España | B7: 33.893 | C7: 35.083 | D7: 35.839 | E7: 36.253 | F7: 31.959 | G7: 29.554 | H7: 31.138 | I7: 31.043 | J7: 32.228 | K7: 32.987 | L7: 33.736 | M7: 33.61 | N7: 33.364 | O7: 33.645 | P7: 34.381 | Q7: 34.435
A8: Estonia | B8: 30.857 | C8: 29.578 | D8: 30.266 | E8: 30.774 | F8: 31.005 | G8: 34.617 | H8: 32.768 | I8: 31.041 | J8: 31.301 | K8: 31.311 | L8: 31.775 | M8: 32.915 | N8: 33.058 | O8: 32.336 | P8: 32.71 | Q8: 32.864
A9: Finlandia | B9: 41.666 | C9: 41.944 | D9: 41.982 | E9: 41.293 | F9: 40.983 | G9: 40.689 | H9: 40.482 | I9: 41.697 | J9: 42.323 | K9: 43.324 | L9: 43.431 | M9: 43.409 | N9: 43.6 | O9: 42.795 | P9: 42.281 | Q9: 42.021
A10: Francia | B10: 42.319 | C10: 42.798 | D10: 43.177 | E10: 42.452 | F10: 42.228 | G10: 41.44 | H10: 42.046 | I10: 43.232 | J10: 44.258 | K10: 45.269 | L10: 45.353 | M10: 45.141 | N10: 45.212 | O10: 45.892 | P10: 45.732 | Q10: 45.209
A11: Grecia | B11: 30.331 | C11: 31.74 | D11: 30.924 | E11: 31.664 | F11: 31.676 | G11: 30.644 | H11: 31.913 | I11: 33.551 | J11: 35.723 | K11: 35.653 | L11: 35.911 | M11: 36.291 | N11: 38.193 | O11: 38.424 | P11: 38.743 | Q11: 38.503
A12: Hungría | B12: 36.993 | C12: 36.429 | D12: 36.332 | E12: 39.186 | F12: 39.256 | G12: 38.775 | H12: 37.1 | I12: 36.542 | J12: 39.067 | K12: 38.496 | L12: 38.451 | M12: 38.787 | N12: 39.295 | O12: 38.163 | P12: 37.301 | Q12: 35.634
... A25: Turquía | B25: 23.088 | C25: 23.14 | D25: 23.372 | E25: 22.873 | F25: 22.961 | G25: 23.318 | H25: 24.653 | I25: 25.707 | J25: 24.76 | K25: 25.156 | L25: 24.457 | M25: 24.956 | N25: 25.128 | O25: 24.68 | P25: 23.986 | Q25: 23.079

Sheet Hoja7
A1: PAIS | B1: AÑO 2004 | C1: AÑO 2005 | D1: AÑO 2006 | E1: AÑO 2007 | F1: AÑO 2008 | G1: AÑO 2009 | H1: AÑO 2010 | I1: AÑO 2011 | J1: AÑO 2012 | K1: AÑO 2013 | L1: AÑO 2014 | M1: AÑO 2015 | N1: AÑO 2016 | O1: AÑO 2017 | P1: AÑO 2018 | Q1: AÑO 2019 | R1: AÑO 2020
A2: Argentina | B2: 17.791 | C2: 17.78 | D2: 17.811 | E2: 18.463 | F2: 19.096 | G2: 18.492 | H2: 18.766 | I2: 18.74 | J2: 19.225 | K2: 18.888 | L2: 19.14 | M2: 19.192 | N2: 18.744 | O2: 17.716 | P2: 17.339 | Q2: 18.076
A3: Brasil | B3: 15.44 | C3: 16.162 | D3: 15.748 | E3: 16.216 | F3: 15.851 | G3: 14.398 | H3: 14.641 | I3: 15.393 | J3: 14.479 | K3: 14.465 | L3: 13.853 | M3: 13.966 | N3: 14.1 | O3: 14.01 | P3: 14.58 | Q3: 14.403
A4: Chile | B4: 16.842 | C4: 18.443 | D4: 19.869 | E4: 20.601 | F4: 19.043 | G4: 14.819 | H4: 17.232 | I4: 18.681 | J4: 18.812 | K4: 17.268 | L4: 17.001 | M4: 17.71 | N4: 17.397 | O4: 17.398 | P4: 18.203 | Q4: 17.7
A5: Colombia | B5: 12.926 | C5: 13.232 | D5: 14.181 | E5: 14.248 | F5: 14.264 | G5: 13.806 | H5: 13.106 | I5: 14.358 | J5: 15.076 | K5: 14.687 | L5: 14.622 | M5: 14.888 | N5: 13.999 | O5: 14.2 | P5: 14.121 | Q5: 14.367
A6: Costa Rica | B6: 13.73 | C6: 13.964 | D6: 14.269 | E6: 15.284 | F6: 15.48 | G6: 13.457 | H6: 13.214 | I6: 13.489 | J6: 13.377 | K6: 13.589 | L6: 13.204 | M6: 13.413 | N6: 13.91 | O6: 13.439 | P6: 13.407 | Q6: 13.636
A7: Ecuador* | B7: 10.400528 | C7: 10.894911 | D7: 11.233781 | E7: 11.698228 | F7: 11.540991 | G7: 12.415178 | H7: 13.089093 | I7: 12.488452 | J7: 14.061946 | K7: 14.555567 | L7: 14.449337 | M7: 15.9 | N7: 14.2 | O7: 13.65 | P7: 14.6 | Q7: 13.6 | R7: 12.9
A8: El Salvador | B8: 13.143 | C8: 14.396 | D8: 15.658 | E8: 16.128 | F8: 16.161 | G8: 14.939 | H8: 15.736 | I8: 15.855 | J8: 16.17 | K8: 17.112 | L8: 16.81 | M8: 16.841 | N8: 17.36 | O8: 17.774 | P8: 18.062 | Q8: 17.755
A9: Guatemala | B9: 11.306 | C9: 10.964 | D9: 11.664 | E9: 11.922 | F9: 11.025 | G9: 10.295 | H9: 10.389 | I9: 10.706 | J9: 10.743 | K9: 11.088 | L9: 11.009 | M9: 10.577 | N9: 10.929 | O9: 10.92 | P9: 10.83 | Q9: 10.752
A10: Honduras | B10: 14.582 | C10: 14.535 | D10: 15.238 | E10: 16.555 | F10: 16.131 | G10: 14.162 | H10: 14.587 | I10: 14.957 | J10: 14.927 | K10: 15.238 | L10: 16.724 | M10: 17.565 | N10: 18.518 | O10: 18.43 | P10: 18.649 | Q10: 17.633
A11: México | B11: 8.864 | C11: 8.65 | D11: 8.996 | E11: 9.354 | F11: 10.023 | G11: 9.68 | H11: 10.111 | I11: 10.012 | J11: 9.771 | K11: 10.295 | L11: 10.635 | M11: 12.797 | N11: 13.542 | O11: 13.049 | P11: 13.083 | Q11: 13.259
A12: Nicaragua | B12: 12.138 | C12: 12.898 | D12: 13.633 | E12: 13.815 | F12: 13.165 | G12: 13.073 | H12: 13.579 | I12: 14.399 | J12: 14.873 | K12: 14.982 | L12: 15.293 | M12: 15.567 | N12: 16.148 | O12: 16.562 | P12: 15.653 | Q12: 17.67
A13: Panamá | B13: 8.167 | C13: 8.286 | D13: 9.279 | E13: 10.015 | F13: 9.877 | G13: 10.102 | H13: 10.536 | I13: 10.196 | J13: 10.954 | K13: 10.656 | L13: 9.673 | M13: 9.077 | N13: 9.381 | O13: 8.926 | P13: 8.719 | Q13: 8.003
A14: Paraguay | B14: 8.563 | C14: 8.271 | D14: 8.32 | E14: 7.832 | F14: 7.944 | G14: 8.272 | H14: 8.863 | I14: 9.327 | J14: 9.401 | K14: 8.846 | L14: 9.655 | M14: 9.503 | N14: 9.438 | O14: 9.844 | P14: 9.916 | Q14: 9.824
A15: Perú | B15: 13.89 | C15: 14.669 | D15: 16.093 | E15: 16.508 | F15: 16.508 | G15: 14.598 | H15: 15.513 | I15: 16.147 | J15: 16.543 | K15: 16.361 | L15: 16.681 | M15: 14.887 | N15: 13.69 | O15: 12.947 | P15: 14.038 | Q15: 14.169
A16: República Dominicana | B16: 12.58 | C16: 13.87 | D16: 14.07 | E16: 14.95 | F16: 14.232 | G16: 12.708 | H16: 12.277 | I16: 12.368 | J16: 13.096 | K16: 13.577 | L16: 13.458 | M16: 12.95 | N16: 13.027 | O16: 13.171 | P16: 13.184 | Q16: 13.486
A17: Uruguay | B17: 17.882 | C17: 17.933 | D17: 19.147 | E17: 18.812 | F17: 19.146 | G17: 18.499 | H17: 18.722 | I17: 18.838 | J17: 18.688 | K17: 18.853 | L17: 18.464 | M17: 18.424 | N17: 18.753 | O17: 19.686 | P17: 19.926 | Q17: 19.718

Sheet Hoja8
A1: País/Año | B1: 2004 | C1: 2005 | D1: 2006 | E1: 2007 | F1: 2008 | G1: 2009 | H1: 2010 | I1: 2011 | J1: 2012 | K1: 2013 | L1: 2014 | M1: 2015 | N1: 2016 | O1: 2017 | P1: 2018 | Q1: 2019
A2: Alemania | B2: 10.15 | C2: 10.372 | D2: 10.634 | E2: 11.126 | F2: 11.266 | G2: 11.419 | H2: 11.042 | I2: 11.354 | J2: 11.523 | K2: 11.519 | L2: 11.407 | M2: 11.349 | N2: 11.192 | O2: 11.154 | P2: 11.383 | Q2: 11.375
A3: Austria | B3: 28.458 | C3: 27.563 | D3: 27.068 | E3: 27.366 | F3: 28.043 | G3: 27.196 | H3: 27.257 | I3: 27.412 | J3: 27.941 | K3: 28.493 | L3: 28.51 | M3: 28.933 | N3: 27.562 | O3: 27.467 | P3: 27.794 | Q3: 27.88
A4: Belgica | B4: 25.286 | C4: 25.279 | D4: 25.113 | E4: 24.695 | F4: 25.103 | G4: 23.588 | H4: 24.177 | I4: 24.504 | J4: 25.277 | K4: 25.661 | L4: 25.681 | M4: 23.98 | N4: 21.952 | O4: 22.499 | P4: 23.092 | Q4: 21.813
A5: Dinamarca | B5: 31.367 | C5: 33.146 | D5: 31.932 | E5: 35.154 | F5: 33.472 | G5: 33.235 | H5: 32.527 | I5: 32.558 | J5: 33.26 | K5: 33.488 | L5: 36.164 | M5: 33.645 | N5: 33.105 | O5: 33.489 | P5: 32.231 | Q5: 34.136
A6: Eslovenia | B6: 20.779 | C6: 21.293 | D6: 21.037 | E6: 20.214 | F6: 19.342 | G6: 17.919 | H6: 17.971 | I6: 17.766 | J6: 17.759 | K6: 17.793 | L6: 18.07 | M6: 18.403 | N6: 18.549 | O6: 18.327 | P6: 18.577 | Q6: 18.519
A7: España | B7: 14.956 | C7: 15.769 | D7: 16.145 | E7: 16.682 | F7: 13.065 | G7: 10.49 | H7: 12.669 | I7: 12.164 | J7: 12.039 | K7: 13.871 | L7: 14.414 | M7: 14.48 | N7: 14.039 | O7: 13.939 | P7: 14.433 | Q7: 13.959
A8: Estonia | B8: 25.967 | C8: 24.724 | D8: 25.574 | E8: 25.967 | F8: 25.596 | G8: 28.34 | H8: 26.438 | I8: 25.09 | J8: 25.424 | K8: 25.707 | L8: 26.144 | M8: 27.243 | N8: 27.362 | O8: 26.669 | P8: 27.012 | Q8: 27.133
A9: Finlandia | B9: 21.812 | C9: 21.793 | D9: 21.42 | E9: 21.065 | F9: 20.491 | G9: 18.883 | H9: 18.601 | I9: 20.018 | J9: 20.136 | K9: 20.643 | L9: 20.632 | M9: 20.471 | N9: 20.813 | O9: 20.768 | P9: 20.835 | Q9: 20.629
A10: Francia | B10: 17.595 | C10: 17.064 | D10: 16.247 | E10: 15.526 | F10: 14.923 | G10: 13.159 | H10: 15.015 | I10: 14.439 | J10: 14.829 | K10: 15.438 | L10: 15.165 | M10: 15.122 | N10: 15.147 | O10: 15.736 | P10: 15.421 | Q10: 15
A11: Grecia | B11: 19.303 | C11: 20.547 | D11: 19.746 | E11: 20.053 | F11: 19.982 | G11: 19.603 | H11: 20.552 | I11: 22.413 | J11: 24.109 | K11: 24.199 | L11: 24.807 | M11: 25.067 | N11: 26.636 | O11: 25.951 | P11: 26.161 | Q11: 25.632
A12: Hungría | B12: 23.617 | C12: 22.918 | D12: 22.801 | E12: 24.379 | F12: 24.363 | G12: 24.199 | H12: 23.47 | I12: 21.738 | J12: 23.379 | K12: 23.118 | L12: 23.378 | M12: 23.523 | N12: 23.687 | O12: 23.762 | P12: 23.088 | Q12: 22.183
... A25: Turquía | B25: 15.952 | C25: 16.183 | D25: 16.204 | E25: 15.982 | F25: 15.217 | G25: 15.547 | H25: 16.217 | I25: 16.276 | J25: 15.821 | K25: 16.051 | L25: 15.17 | M25: 15.309 | N25: 15.45 | O25: 15.1 | P25: 14.502 | Q25: 13.716

Sheet Hoja9
A1: PAIS | B1: AÑO 2004 | C1: AÑO 2005 | D1: AÑO 2006 | E1: AÑO 2007 | F1: AÑO 2008 | G1: AÑO 2009 | H1: AÑO 2010 | I1: AÑO 2011 | J1: AÑO 2012 | K1: AÑO 2013 | L1: AÑO 2014 | M1: AÑO 2015 | N1: AÑO 2016 | O1: AÑO 2017 | P1: AÑO 2018 | Q1: AÑO 2019 | R1: AÑO 2020
A2: Argentina | B2: 3.733 | C2: 3.765 | D2: 3.812 | E2: 3.823 | F2: 3.955 | G2: 4.243 | H2: 4.135 | I2: 4.263 | J2: 4.595 | K2: 5.241 | L2: 5.265 | M2: 5.285 | N2: 5.16 | O2: 5.448 | P2: 5.282 | Q2: 4.855
A3: Brasil | B3: 9.425 | C3: 9.545 | D3: 9.614 | E3: 9.467 | F3: 9.768 | G3: 9.411 | H3: 9.616 | I3: 9.575 | J3: 9.639 | K3: 9.66 | L3: 9.556 | M3: 9.65 | N3: 9.659 | O3: 9.802 | P3: 10.101 | Q3: 10.188
A4: Chile | B4: 1.315 | C4: 1.346 | D4: 1.207 | E4: 1.188 | F4: 1.347 | G4: 1.457 | H4: 1.353 | I4: 1.4 | J4: 1.421 | K4: 1.458 | L4: 1.482 | M4: 1.54 | N4: 1.579 | O4: 1.581 | P4: 1.666 | Q4: 1.698
A5: Colombia | B5: 2.657 | C5: 2.705 | D5: 2.846 | E5: 2.789 | F5: 2.747 | G5: 2.95 | H5: 2.881 | I5: 2.91 | J5: 2.872 | K5: 3.004 | L5: 3.131 | M5: 3.327 | N5: 3.293 | O5: 3.333 | P5: 3.335 | Q5: 3.44
A6: Costa Rica | B6: 0.454 | C6: 0.47 | D6: 0.525 | E6: 0.521 | F6: 0.557 | G6: 0.585 | H6: 0.585 | I6: 0.585 | J6: 0.614 | K6: 0.653 | L6: 0.68 | M6: 0.701 | N6: 0.694 | O6: 0.691 | P6: 0.682 | Q6: 0.699
A7: Ecuador | B7: 0.7493585 | C7: 0.74645874 | D7: 0.637536 | E7: 0.62171247 | F7: 0.6964873 | G7: 0.75791138 | H7: 0.72246355 | I7: 0.73562513 | J7: 0.7947811 | K7: 0.81293746 | L7: 0.8366817 | M7: 0.95 | N7: 0.92 | O7: 0.92 | P7: 1.01 | Q7: 1 | R7: 1
A8: El Salvador | B8: 0.333 | C8: 0.284 | D8: 0.335 | E8: 0.337 | F8: 0.382 | G8: 0.379 | H8: 0.402 | I8: 0.412 | J8: 0.425 | K8: 0.458 | L8: 0.485 | M8: 0.442 | N8: 0.447 | O8: 0.426 | P8: 0.45 | Q8: 0.403
A9: Guatemala | B9: 0.161 | C9: 0.164 | D9: 0.162 | E9: 0.163 | F9: 0.162 | G9: 0.185 | H9: 0.186 | I9: 0.171 | J9: 0.182 | K9: 0.149 | L9: 0.148 | M9: 0.145 | N9: 0.112 | O9: 0.135 | P9: 0.157 | Q9: 0.116
A10: Honduras | B10: 1.053 | C10: 1.007 | D10: 0.612 | E10: 0.624 | F10: 0.64 | G10: 0.684 | H10: 0.741 | I10: 0.676 | J10: 0.61 | K10: 0.636 | L10: 0.636 | M10: 0.542 | N10: 1.032 | O10: 0.392 | P10: 0.416 | Q10: 0.846
A11: México | B11: 0.513 | C11: 0.552 | D11: 0.569 | E11: 0.603 | F11: 0.614 | G11: 0.636 | H11: 0.653 | I11: 0.692 | J11: 0.79 | K11: 0.847 | L11: 0.902 | M11: 0.918 | N11: 0.914 | O11: 0.914 | P11: 0.917 | Q11: 0
A12: Nicaragua | B12: 0.983 | C12: 1.273 | D12: 1.384 | E12: 1.439 | F12: 1.308 | G12: 1.382 | H12: 1.429 | I12: 1.49 | J12: 1.506 | K12: 1.535 | L12: 1.555 | M12: 1.509 | N12: 1.521 | O12: 1.526 | P12: 1.531 | Q12: 1.56
A13: Panamá | B13: 0.298 | C13: 0.304 | D13: 0.301 | E13: 0.287 | F13: 0.275 | G13: 0.259 | H13: 0.258 | I13: 0.252 | J13: 0.262 | K13: 0.251 | L13: 0.235 | M13: 0.242 | N13: 0.251 | O13: 0.254 | P13: 0.24 | Q13: 0.23
A14: Paraguay | B14: 0 | C14: 0 | D14: 0.387 | E14: 0.407 | F14: 0.415 | G14: 0.388 | H14: 0.507 | I14: 0.537 | J14: 0.492 | K14: 0.488 | L14: 0.466 | M14: 0.49 | N14: 0.548 | O14: 0.503 | P14: 0.341 | Q14: 0.375
A15: Perú | B15: 0.301 | C15: 0.307 | D15: 0.271 | E15: 0.366 | F15: 0.389 | G15: 0.376 | H15: 0.381 | I15: 0.391 | J15: 0.425 | K15: 0.45 | L15: 0.435 | M15: 0.457 | N15: 0.461 | O15: 0.421 | P15: 0.41 | Q15: 0.442
A16: República Dominicana | B16: 0 | C16: 0 | D16: 0 | E16: 0 | F16: 0 | G16: 0 | H16: 0 | I16: 0 | J16: 0 | K16: 0 | L16: 0 | M16: 0 | N16: 0 | O16: 0 | P16: 0 | Q16: 0
A17: Uruguay | B17: 1.99 | C17: 2.025 | D17: 1.815 | E17: 1.689 | F17: 1.619 | G17: 1.511 | H17: 1.47 | I17: 1.41 | J17: 1.346 | K17: 1.39 | L17: 1.382 | M17: 1.427 | N17: 1.558 | O17: 1.599 | P17: 1.643 | Q17: 1.642

Sheet Hoja10
A1: País/Año | B1: 2004 | C1: 2005 | D1: 2006 | E1: 2007 | F1: 2008 | G1: 2009 | H1: 2010 | I1: 2011 | J1: 2012 | K1: 2013 | L1: 2014 | M1: 2015 | N1: 2016 | O1: 2017 | P1: 2018 | Q1: 2019
A2: Alemania | B2: 10.198 | C2: 10.271 | D2: 10.85 | E2: 11.259 | F2: 11.515 | G2: 11.016 | H2: 10.506 | I2: 10.766 | J2: 11.172 | K2: 11.325 | L2: 11.324 | M2: 11.65 | N2: 12.103 | O2: 12.1 | P2: 12.418 | Q2: 12.536
A3: Austria | B3: 1.955 | C3: 1.923 | D3: 1.899 | E3: 1.878 | F3: 1.904 | G3: 1.952 | H3: 1.956 | I3: 1.933 | J3: 1.957 | K3: 1.998 | L3: 1.983 | M3: 1.94 | N3: 1.934 | O3: 1.923 | P3: 1.911 | Q3: 1.897
A4: Belgica | B4: 4.149 | C4: 4.26 | D4: 4.326 | E4: 4.417 | F4: 4.183 | G4: 4.442 | H4: 4.404 | I4: 4.512 | J4: 4.351 | K4: 4.587 | L4: 4.46 | M4: 5.528 | N4: 6.81 | O4: 6.843 | P4: 6.5 | Q4: 6.647
A5: Dinamarca | B5: 14.82 | C5: 14.631 | D5: 14.313 | E5: 11.048 | F5: 11.071 | G5: 11.546 | H5: 11.998 | I5: 12.008 | J5: 12.055 | K5: 12.213 | L5: 12.178 | M5: 12.223 | N5: 12.22 | O5: 12.2 | P5: 11.968 | Q5: 12.053
A6: Eslovenia | B6: 2.852 | C6: 2.805 | D6: 2.917 | E6: 3.365 | F6: 3.244 | G6: 3.65 | H6: 4.004 | I6: 3.939 | J6: 4.054 | K6: 3.959 | L6: 3.846 | M6: 3.485 | N6: 3.468 | O6: 3.398 | P6: 3.368 | Q6: 3.342
A7: España | B7: 7.494 | C7: 7.879 | D7: 8.233 | E7: 8.056 | F7: 7.309 | G7: 7.367 | H7: 6.936 | I7: 7.369 | J7: 8.822 | K7: 7.958 | L7: 7.999 | M7: 8.056 | N7: 8.228 | O7: 8.459 | P7: 8.509 | Q7: 8.507
A8: Estonia | B8: 0.368 | C8: 0.35 | D8: 0.313 | E8: 0.283 | F8: 0.361 | G8: 0.416 | H8: 0.457 | I8: 0.47 | J8: 0.416 | K8: 0.359 | L8: 0.343 | M8: 0.333 | N8: 0.322 | O8: 0.295 | P8: 0.273 | Q8: 0.251
A9: Finlandia | B9: 8.665 | C9: 8.687 | D9: 8.835 | E9: 8.797 | F9: 8.995 | G9: 9.671 | H9: 9.843 | I9: 9.671 | J9: 9.622 | K9: 10.136 | L9: 10.227 | M9: 10.336 | N9: 10.085 | O9: 10.077 | P9: 9.614 | Q9: 9.63
A10: Francia | B10: 4.677 | C10: 4.927 | D10: 4.977 | E10: 5.104 | F10: 5.124 | G10: 5.436 | H10: 4.475 | I10: 5.627 | J10: 5.8 | K10: 5.827 | L10: 5.893 | M10: 5.975 | N10: 6.119 | O10: 6.164 | P10: 6.219 | Q10: 6.109
A11: Grecia | B11: 0.681 | C11: 0.705 | D11: 0.686 | E11: 0.704 | F11: 0.724 | G11: 0.702 | H11: 0.75 | I11: 0.784 | J11: 0.865 | K11: 0.92 | L11: 0.875 | M11: 0.872 | N11: 0.935 | O11: 0.942 | P11: 0.924 | Q11: 0.929
A12: Hungría | B12: 2.265 | C12: 2.278 | D12: 2.346 | E12: 2.434 | F12: 2.52 | G12: 2.598 | H12: 2.392 | I12: 2.371 | J12: 2.39 | K12: 2.228 | L12: 2.136 | M12: 2.215 | N12: 2.244 | O12: 2.179 | P12: 2.165 | Q12: 2.149
... A25: Turquía | B25: 1.621 | C25: 1.765 | D25: 1.938 | E25: 1.929 | F25: 1.996 | G25: 2.048 | H25: 2.296 | I25: 2.264 | J25: 2.211 | K25: 2.202 | L25: 2.309 | M25: 2.404 | N25: 2.435 | O25: 2.345 | P25: 2.302 | Q25: 2.122

Sheet Hoja11
A1: PAIS | B1: AÑO 2004 | C1: AÑO 2005 | D1: AÑO 2006 | E1: AÑO 2007 | F1: AÑO 2008 | G1: AÑO 2009 | H1: AÑO 2010 | I1: AÑO 2011 | J1: AÑO 2012 | K1: AÑO 2013 | L1: AÑO 2014 | M1: AÑO 2015 | N1: AÑO 2016 | O1: AÑO 2017 | P1: AÑO 2018 | Q1: AÑO 2019 | R1: AÑO 2020
A2: Argentina | B2: 2.803 | C2: 2.987 | D2: 3.457 | E2: 4.082 | F2: 4.572 | G2: 6.189 | H2: 6.166 | I2: 6.296 | J2: 6.815 | K2: 7.05 | L2: 6.719 | M2: 6.976 | N2: 6.758 | O2: 6.881 | P2: 6.281 | Q2: 5.715
A3: Brasil | B3: 7.409 | C3: 7.754 | D3: 7.859 | E3: 7.886 | F3: 7.817 | G3: 8.179 | H3: 8.146 | I3: 8.298 | J3: 8.42 | K3: 8.347 | L3: 8.35 | M3: 8.393 | N3: 8.429 | O3: 8.452 | P3: 8.502 | Q3: 8.508
A4: Chile | B4: 0.929 | C4: 0.936 | D4: 0.902 | E4: 0.922 | F4: 1.016 | G4: 1.058 | H4: 1.007 | I4: 1.035 | J4: 1.095 | K4: 1.133 | L4: 1.13 | M4: 1.139 | N4: 1.155 | O4: 1.18 | P4: 1.209 | Q4: 1.26
A5: Colombia | B5: 2.385 | C5: 2.321 | D5: 2.241 | E5: 2.262 | F5: 2.021 | G5: 2.061 | H5: 2.11 | I5: 1.665 | J5: 1.773 | K5: 2.331 | L5: 1.798 | M5: 1.688 | N5: 1.788 | O5: 1.451 | P5: 1.845 | Q5: 1.871
A6: Costa Rica | B6: 7.142 | C6: 7.336 | D6: 7.253 | E6: 7.332 | F6: 7.655 | G6: 8.066 | H6: 8.332 | I6: 8.575 | J6: 8.574 | K6: 8.736 | L6: 8.725 | M6: 8.834 | N6: 8.882 | O6: 8.854 | P6: 9.099 | Q6: 9.244
A7: Ecuador | B7: 2.7973701 | C7: 2.6717616 | D7: 3.3245461 | E7: 3.5127812 | F7: 3.3949539 | G7: 3.2965016 | H7: 3.6523522 | I7: 5.0088356 | J7: 5.4091147 | K7: 4.7792908 | L7: 4.638015 | M7: 5.092 | N7: 4.744 | O7: 5.19 | P7: 5.16 | Q7: 5.5 | R7: 5.6
A8: El Salvador | B8: 2.487 | C8: 2.307 | D8: 2.281 | E8: 2.298 | F8: 2.441 | G8: 2.6 | H8: 2.549 | I8: 2.461 | J8: 2.455 | K8: 2.491 | L8: 2.526 | M8: 2.593 | N8: 2.708 | O8: 2.738 | P8: 2.698 | Q8: 2.673
A9: Guatemala | B9: 1.965 | C9: 1.96 | D9: 2.019 | E9: 1.937 | F9: 1.834 | G9: 1.853 | H9: 1.895 | I9: 1.89 | J9: 1.963 | K9: 2.038 | L9: 2.071 | M9: 2.054 | N9: 2.186 | O9: 2.19 | P9: 2.201 | Q9: 2.195
A10: Honduras | B10: 2.498 | C10: 2.403 | D10: 2.41 | E10: 2.584 | F10: 2.785 | G10: 2.947 | H10: 2.897 | I10: 2.076 | J10: 3.004 | K10: 3.328 | L10: 3.007 | M10: 2.937 | N10: 3.136 | O10: 3.296 | P10: 3.361 | Q10: 3.425
A11: México | B11: 2.182 | C11: 2.16 | D11: 2.023 | E11: 2.058 | F11: 1.962 | G11: 2.152 | H11: 2.076 | I11: 2.062 | J11: 2.088 | K11: 2.162 | L11: 2.165 | M11: 2.206 | N11: 2.162 | O11: 2.134 | P11: 2.167 | Q11: 2.278
A12: Nicaragua | B12: 3.113 | C12: 3.179 | D12: 3.491 | E12: 3.593 | F12: 3.659 | G12: 4.031 | H12: 4.325 | I12: 4.304 | J12: 4.438 | K12: 4.716 | L12: 4.916 | M12: 5.232 | N12: 5.6 | O12: 5.761 | P12: 5.974 | Q12: 6.652
A13: Panamá | B13: 5.22 | C13: 4.972 | D13: 4.874 | E13: 5.184 | F13: 5.288 | G13: 5.63 | H13: 5.561 | I13: 5.886 | J13: 5.407 | K13: 5.87 | L13: 5.781 | M13: 5.828 | N13: 5.917 | O13: 5.873 | P13: 5.83 | Q13: 5.83
A14: Paraguay | B14: 2.403 | C14: 2.4 | D14: 2.531 | E14: 2.521 | F14: 2.597 | G14: 2.811 | H14: 2.754 | I14: 2.993 | J14: 3.508 | K14: 3.325 | L14: 3.731 | M14: 3.742 | N14: 3.448 | O14: 3.674 | P14: 3.546 | Q14: 3.667
A15: Perú | B15: 1.658 | C15: 1.645 | D15: 1.704 | E15: 1.64 | F15: 1.901 | G15: 1.975 | H15: 1.885 | I15: 1.9 | J15: 1.994 | K15: 2.062 | L15: 2.063 | M15: 2.081 | N15: 2.01 | O15: 1.959 | P15: 2.009 | Q15: 2.007
A16: República Dominicana | B16: 0.01 | C16: 0.003 | D16: 0.097 | E16: 0.059 | F16: 0.052 | G16: 0.058 | H16: 0.093 | I16: 0.06 | J16: 0.052 | K16: 0.059 | L16: 0.052 | M16: 0.046 | N16: 0.044 | O16: 0.069 | P16: 0.059 | Q16: 0.056
A17: Uruguay | B17: 4.422 | C17: 5.041 | D17: 5.337 | E17: 5.184 | F17: 5.467 | G17: 6.007 | H17: 6.156 | I17: 6.469 | J17: 6.973 | K17: 7.299 | L17: 7.591 | M17: 7.506 | N17: 7.494 | O17: 7.706 | P17: 7.622 | Q17: 7.672

Sheet Hoja12
A1: País/Año | B1: 2004 | C1: 2005 | D1: 2006 | E1: 2007 | F1: 2008 | G1: 2009 | H1: 2010 | I1: 2011 | J1: 2012 | K1: 2013 | L1: 2014 | M1: 2015 | N1: 2016 | O1: 2017 | P1: 2018 | Q1: 2019
A2: Alemania | B2: 13.837 | C2: 13.614 | D2: 13.289 | E2: 12.832 | F2: 12.897 | G2: 14.092 | H2: 13.817 | I2: 13.795 | J2: 13.959 | K2: 13.957 | L2: 13.926 | M2: 14.039 | N2: 14.207 | O2: 14.331 | P2: 14.535 | Q2: 14.696
A3: Austria | B3: 11.398 | C3: 11.379 | D3: 11.294 | E3: 11.156 | F3: 11.309 | G3: 11.719 | H3: 11.626 | I3: 11.64 | J3: 11.75 | K3: 12.033 | L3: 12.087 | M3: 12.071 | N3: 12.108 | O3: 12.189 | P3: 12.336 | Q3: 12.497
A4: Belgica | B4: 13.639 | C4: 13.41 | D4: 13.379 | E4: 13.385 | F4: 13.847 | G4: 14.321 | H4: 13.95 | I4: 14.148 | J4: 14.377 | K4: 14.488 | L4: 14.308 | M4: 14.232 | N4: 14.137 | O4: 14.041 | P4: 13.94 | Q4: 14.044
A5: Dinamarca | B5: 0.035 | C5: 0.033 | D5: 0.028 | E5: 0.013 | F5: 0.009 | G5: 0.008 | H5: 0.05 | I5: 0.053 | J5: 0.039 | K5: 0.038 | L5: 0.037 | M5: 0.027 | N5: 0.021 | O5: 0.015 | P5: 0.013 | Q5: 0.013
A6: Eslovenia | B6: 14.784 | C6: 14.956 | D6: 14.625 | E6: 14.248 | F6: 14.552 | G6: 15.408 | H6: 15.69 | I6: 15.492 | J6: 15.714 | K6: 15.345 | L6: 15.118 | M6: 15.247 | N6: 15.261 | O6: 15.259 | P6: 15.318 | Q6: 15.643
A7: España | B7: 11.443 | C7: 11.435 | D7: 11.461 | E7: 11.515 | F7: 11.585 | G7: 11.697 | H7: 11.533 | I7: 11.51 | J7: 11.367 | K7: 11.158 | L7: 11.323 | M7: 11.074 | N7: 11.097 | O7: 11.247 | P7: 11.439 | Q7: 11.969
A8: Estonia | B8: 4.522 | C8: 4.504 | D8: 4.379 | E8: 4.524 | F8: 5.048 | G8: 5.861 | H8: 5.873 | I8: 5.481 | J8: 5.461 | K8: 5.245 | L8: 5.288 | M8: 5.339 | N8: 5.374 | O8: 5.372 | P8: 5.425 | Q8: 5.48
A9: Finlandia | B9: 11.189 | C9: 11.464 | D9: 11.727 | E9: 11.431 | F9: 11.497 | G9: 12.135 | H9: 12.038 | I9: 12.008 | J9: 12.565 | K9: 12.545 | L9: 12.572 | M9: 12.602 | N9: 12.702 | O9: 11.95 | P9: 11.832 | Q9: 11.762
A10: Francia | B10: 20.047 | C10: 20.807 | D10: 21.953 | E10: 21.822 | F10: 22.181 | G10: 22.845 | H10: 22.556 | I10: 23.166 | J10: 23.629 | K10: 24.004 | L10: 24.295 | M10: 24.044 | N10: 23.946 | O10: 23.992 | P10: 24.092 | Q10: 24.1
A11: Grecia | B11: 10.347 | C11: 10.488 | D11: 10.492 | E11: 10.907 | F11: 10.97 | G11: 10.339 | H11: 10.611 | I11: 10.354 | J11: 10.749 | K11: 10.534 | L11: 10.229 | M11: 10.352 | N11: 10.622 | O11: 11.531 | P11: 11.658 | Q11: 11.942
A12: Hungría | B12: 11.111 | C12: 11.233 | D12: 11.185 | E12: 12.373 | F12: 12.373 | G12: 11.978 | H12: 11.238 | I12: 12.433 | J12: 13.298 | K12: 13.15 | L12: 12.937 | M12: 13.049 | N12: 13.364 | O12: 12.222 | P12: 12.048 | Q12: 11.302
... A25: Turquía | B25: 5.515 | C25: 5.192 | D25: 5.23 | E25: 4.962 | F25: 5.748 | G25: 5.723 | H25: 6.14 | I25: 7.167 | J25: 6.728 | K25: 6.903 | L25: 6.978 | M25: 7.243 | N25: 7.243 | O25: 7.235 | P25: 7.182 | Q25: 7.241

Sheet ECUADOR -21-01-2020
A2: RECAUDACIÓN TRIBUTARIA (millones USD)
B5: 2000 | C5: 2001 | D5: 2002 | E5: 2003 | F5: 2004 | G5: 2005 | H5: 2006 | I5: 2007 | J5: 2008 | K5: 2009 | L5: 2010 | M5: 2011 | N5: 2012 | O5: 2013 | P5: 2014 | Q5: 2015 | R5: 2016 | S5: 2017 | T5: 2018 (p) | U5: 2019(p)
A7: Recaudación Central | B7: =B23+B8 -> 2005.0827 | C7: =C23+C8 -> 2777.8553 | D7: =D23+D8 -> 3199.3261 | E7: =E23+E8 -> 3357.078 | F7: =F23+F8 -> 3795.0682 | G7: =G23+G9 -> 4522.1601 | H7: =H23+H9 -> 5257.639 | I7: =I23+I9 -> 5967.0061 | J7: =J23+J9 -> 7128.0203 | K7: =K23+K9 -> 7761.9301 | L7: =L23+L9 -> 9104.1669 | M7: =M23+M9 -> 9900.4278 | N7: =N23+N9 -> 12363.902 | ... U7: =U23+U9 -> 14602.517
A8: Internos (Recaudación total después de devoluciones) | B8: =+B10+B11+B14 -> 1651.7656 | C8: =+C10+C11+C14 -> 2348.8852 | D8: =+D10+D11+D14 -> 2705.6689 | E8: =+E10+E11+E14 -> 2901.911 | F8: =+F10+F11+F14 -> 3254.0022 | G8: =+G10+G11+G14 -> 3923.4483 | H8: =+H10+H11+H14 -> 4507.0688 | I8: =+I10+I11+I14 -> 5131.6239 | ... S8: =+S10+S11+S14 -> 12733.559
A9: Internos neta. Planificación (Recaudación total después de devoluciones) | B9: 1659.0003 | C9: 2345.6534 | D9: 2709.5486 | E9: 2908.0893 | F9: 3264.66 | G9: 3929.0011 | H9: 4522.2522 | I9: 5144.1105 | J9: 6194.5111 | K9: 6693.2536 | L9: 7864.6679 | M9: 8721.1733 | N9: 11090.657 | O9: 12513.48 | P9: 13313.491 | Q9: 13693.064 | R9: 12564.832 | S9: 12725.042 | T9: 14077.591 | U9: 13180.508 | V9: 13180508 | W9: =+V9/1000 -> 13180.508
A10: Internos (Recaudación efectiva) | B10: 1673.4509 | C10: 2386.7311 | D10: 2784.1968 | E10: 3013.2448 | F10: 3386.5939 | G10: 4078.448 | H10: 4672.2774 | I10: 5361.8672 | J10: 6508.5239 | K10: 6849.7885 | L10: 8357.2032 | M10: 9560.9938 | N10: 11263.894 | O10: 12757.722 | P10: 13616.817 | Q10: 13950.016 | R10: 12662.664 | S10: 12927.008
A11: N/C utilizadas | B11: 14.55836 | C11: 33.554077 | D11: 48.594889 | E11: 65.623802 | F11: 81.259201 | G11: 116.61181 | H11: 158.35805 | I11: 193.68123 | J11: 209.86076 | K11: 197.02298 | L11: 209.09748 | M11: 165.38099 | N11: 119.30345 | O11: 114.25821 | P11: 204.53551 | Q11: 326.07991 | R11: 693.44468 | S11: 716.26223
A12: (+/-) Compensaciones y neteos | B12: 1.4811348 | C12: 0.35141297 | D12: 0.51640906 | E12: 0.98020802 | F12: 2.8025286 | G12: 0.47428616 | H12: 5.863052 | I12: 6.262777 | J12: 5.0302423 | K12: 0.0001434 | L12: 0.00019364 | M12: 7.631999 | N12: 6.4188786 | O12: 10.643357 | P12: 4.8827744 | Q12: 65.110586 | R12: 31.418633 | S12: 37.419196
A14: Total devoluciones | B14: =+B15+B16 -> -36.243628 | C14: =+C15+C16 -> -71.399921 | D14: =+D15+D16 -> -127.12272 | E14: =+E15+E16 -> -176.95765 | F14: =+F15+F16 -> -213.85094 | G14: =+G15+G16 -> -271.61155 | H14: =+H15+H16 -> -323.56667 | I14: =+I15+I16 -> -423.92453 | ... S14: =+S15+S16 -> -909.71031
A15: Devoluciones efectivo* | B15: -14.450421 | C15: -41.077686 | D15: -74.648206 | E15: -105.15549 | F15: -122.60666 | G15: -151.25116 | H15: -152.96103 | I15: -225.00801 | J15: -235.91457 | K15: -156.5349 | L15: -492.90384 | M15: -839.82049 | N15: -173.31176 | O15: -244.18443 | P15: -303.32532 | Q15: -256.95596 | R15: -97.832539 | S15: -201.97239
A16: Devoluciones N/C | B16: -21.793207 | C16: -30.322235 | D16: -52.474512 | E16: -71.802162 | F16: -91.244286 | G16: -120.36039 | H16: -170.60564 | I16: -198.91651 | J16: -216.32896 | K16: -200.6366 | L16: -205.05145 | M16: -155.0175 | N16: -121.40033 | O16: -119.12485 | P16: -215.43406 | Q16: -320.41475 | R16: -739.3974 | S16: -707.73793
A17: Compensaciones (MF) | M17: -286.44658 | N17: -358.8134 | O17: -332.61906 | P17: -391.0616 | Q17: -303.92022 | R17: -402.37171 | S17: -468.77193
A19: (-)Otras N/C emitidas | B19: =+B20+B21 -> 0 | C19: =+C20+C21 -> 0 | D19: =+D20+D21 -> 0 | E19: =+E20+E21 -> 0 | F19: =+F20+F21 -> 0 | G19: =+G20+G21 -> 0 | H19: =+H20+H21 -> 0 | I19: =+I20+I21 -> 0 | ... R19: =+R20+R21 -> 0 | S19: =S21+S20 -> 0
A20: CAT's
A21: Vuelto
A23: Externos | B23: 353.31707 | C23: 428.97008 | D23: 493.65714 | E23: 455.167 | F23: 541.066 | G23: 593.159 | H23: 735.3868 | I23: 822.89556 | J23: 933.50928 | K23: 1068.6766 | L23: 1239.499 | M23: 1179.2545 | N23: 1273.2455 | O23: 1333.1814 | P23: 1385.2891 | Q23: 2050.3752 | R23: 1662.5748 | S23: 1509.4927 | T23: 1607.1077 | U23: 1422.009
A25: Subnacional (BDE) | B25: 60.180499 | C25: 122.85243 | D25: 168.53827 | E25: 224.60556 | F25: 274.20272 | G25: 309.83327 | H25: 298.37988 | I25: 317.12171 | J25: 430.16891 | K25: 473.84382 | L25: 502.51218 | M25: 583.17906 | N25: 698.80766 | O25: 773.34463 | P25: 851.1256 | Q25: 945.00101 | R25: 919.76714 | S25: 957.2252 | T25: 1086.4751 | U25: =+U38*U44 -> 1076.829
A27: Seguridad Social (BCE) | B27: 227.90242 | C27: 534.50997 | D27: 767.31629 | E27: 899.50996 | F27: 1023.6042 | G27: 1108.9703 | H27: 1555.9555 | I27: 1791.7916 | J27: 2096.813 | K27: 2060.9624 | L27: 2540.4069 | M27: 3970.8378 | N27: 4755.9395 | O27: 4546.5231 | P27: 4718.0825 | Q27: 5057.3083 | R27: 4741.3607 | S27: 5414.6435 | T27: 5552.8021 | U27: 5862.945
A29: RECAUDACIÓN CENTRAL + S. SOCIAL | B29: =B7+B27 -> 2232.9851 | C29: =C7+C27 -> 3312.3653 | D29: =D7+D27 -> 3966.6424 | E29: =E7+E27 -> 4256.5879 | F29: =F7+F27 -> 4818.6724 | G29: =G7+G27 -> 5631.1304 | H29: =H7+H27 -> 6813.5945 | I29: =I7+I27 -> 7758.7976 | ... S29: =S7+S27 -> 19649.178 | T29: =T9+T27 -> 19630.393 | U29: =U9+U27 -> 19043.453
A31: R CENTRAL + S. SOCIAL + SUBNACIONAL | B31: =B25+B29 -> 2293.1656 | C31: =C25+C29 -> 3435.2177 | D31: =D25+D29 -> 4135.1806 | E31: =E25+E29 -> 4481.1935 | F31: =F25+F29 -> 5092.8751 | G31: =G25+G29 -> 5940.9637 | H31: =H25+H29 -> 7111.9744 | I31: =I25+I29 -> 8075.9193 | ... U31: =U25+U29 -> 20120.282
A34: RECAUDACIÓN TRIBUTARIA RESPECTO AL PIB
B36: 2000 | C36: 2001 | D36: 2002 | E36: 2003 | F36: 2004 | G36: 2005 | H36: 2006 | I36: 2007 | J36: 2008 | K36: 2009 | L36: 2010 | M36: 2011 | N36: 2012 | O36: 2013 | P36: 2014 | Q36: 2015 | R36: 2016 | S36: 2017 | T36: 2018(p) | U36: 2019(p)
A38: PIB (millones)*** | B38: 18318.601 | C38: 24468.324 | D38: 28548.945 | E38: 32432.859 | F38: 36591.661 | G38: 41507.085 | H38: 46802.044 | I38: 51007.777 | J38: 61762.635 | K38: 62519.686 | L38: 69555.367 | M38: 79276.664 | N38: 87924.544 | O38: 95129.659 | P38: 101726.33 | Q38: 99290.381 | R38: 99937.696 | S38: 104295.86 | T38: 107562.01 | U38: 107435.66 | V38: actualizados
A40: 1. Gobierno Central (recaudación total después de devoluciones) | B40: =+B41+B42 -> 0.10985104 | C40: =+C41+C42 -> 0.11339655 | D40: =+D41+D42 -> 0.11220049 | E40: =+E41+E42 -> 0.10369904 | F40: =+F41+F42 -> 0.10400528 | G40: =+G41+G42 -> 0.10894911 | H40: =+H41+H42 -> 0.11233781 | I40: =+I41+I42 -> 0.11698228 | ... U40: =+U41+U42 -> 0.13591871
A41: Internos neta. Planificación (Recaudación total después de devoluciones) | B41: =+B9/B38 -> 0.090563703 | C41: =+C9/C38 -> 0.095864898 | D41: =+D9/D38 -> 0.094908886 | E41: =+E9/E38 -> 0.089664908 | F41: =+F9/F38 -> 0.089218688 | G41: =+G9/G38 -> 0.094658564 | H41: =+H9/H38 -> 0.0966251 | I41: =+I9/I38 -> 0.10084953 | ... U41: =+U9/U38 -> 0.1226828
A42: Externos | B42: =B23/B$38 -> 0.019287339 | C42: =C23/C$38 -> 0.017531649 | D42: =D23/D$38 -> 0.017291607 | E42: =E23/E$38 -> 0.014034131 | F42: =F23/F$38 -> 0.014786593 | G42: =G23/G$38 -> 0.014290548 | H42: =H23/H$38 -> 0.015712707 | I42: =I23/I$38 -> 0.016132747 | ... U42: =U23/U$38 -> 0.013235912
A44: 2. Subnacional(BEDE) | B44: =B25/B$38 -> 0.0032852126 | C44: =C25/C$38 -> 0.0050208764 | D44: =D25/D$38 -> 0.0059034851 | E44: =E25/E$38 -> 0.0069252469 | F44: =F25/F$38 -> 0.007493585 | G44: =G25/G$38 -> 0.0074645874 | H44: =H25/H$38 -> 0.00637536 | I44: =I25/I$38 -> 0.0062171247 | ... T44: =T25/T$38 -> 0.010100919 | U44: 0.010023013
A46: 3. Seguridad Social (BCE) | B46: =B27/B$38 -> 0.012441038 | C46: =C27/C$38 -> 0.021844977 | D46: =D27/D$38 -> 0.02687722 | E46: =E27/E$38 -> 0.027734526 | F46: =F27/F$38 -> 0.027973701 | G46: =G27/G$38 -> 0.026717616 | H46: =H27/H$38 -> 0.033245461 | I46: =I27/I$38 -> 0.035127812 | ... U46: =U27/U$38 -> 0.054571683
A48: PF recaudación total después de devoluciones | B48: =+B40+B44+B46 -> 0.12557729 | C48: =+C40+C44+C46 -> 0.1402624 | D48: =+D40+D44+D46 -> 0.1449812 | E48: =+E40+E44+E46 -> 0.13835881 | F48: =+F40+F44+F46 -> 0.13947257 | G48: =+G40+G44+G46 -> 0.14313132 | H48: =+H40+H44+H46 -> 0.15195863 | I48: =+I40+I44+I46 -> 0.15832722 | ... U48: =+U40+U44+U46 -> 0.20051341
A50: * Las cifras 2018 son provisionales, depende los ajustes que haga Banco Central en el PIB, Contribuciones a la Seguridad Social. Los datos de Gobiernos Subnacionales están actualizados a agosto 2019.
A54: (sd) semi-definitiva
A55: (p) provisional
A56: Fuente: SRI, SENAE, BCE, BDE

Sheet composicion europa
C5: 2004
B6: pais | C6: presion fiscal | D6: Presión Central | E6: Presión Subsnacional | F6: Presión Seguridad Social
B7: Dinamarca | C7: 47.6 | D7: 31.384 | E7: 14.828 | F7: 0.035 | G7: =+ROUND(C7,2) -> 47.6 | H7: =+ROUND(D7,2) -> 31.38 | I7: =+ROUND(E7,2) -> 14.83
B8: Suecia | C8: 45.4 | D8: 25.296 | E8: 14.967 | F8: 5.248 | G8: =+ROUND(C8,2) -> 45.4 | H8: =+ROUND(D8,2) -> 25.3 | I8: =+ROUND(E8,2) -> 14.97
B9: Nueva Zelanda | C9: 43.1 | D9: 36.542 | E9: 5.807 | F9: 0 | G9: =+ROUND(C9,2) -> 43.1 | H9: =+ROUND(D9,2) -> 36.54 | I9: =+ROUND(E9,2) -> 5.81
B10: Bélgica | C10: 42.9 | D10: 25.158 | E10: 4.13 | F10: 13.492 | G10: =+ROUND(C10,2) -> 42.9 | H10: =+ROUND(D10,2) -> 25.16 | I10: =+ROUND(E10,2) -> 4.13
B11: Francia | C11: 42.1 | D11: 17.435 | E11: 4.658 | F11: 19.992 | G11: =+ROUND(C11,2) -> 42.1 | H11: =+ROUND(D11,2) -> 17.44 | I11: =+ROUND(E11,2) -> 4.66
B12: Austria | C12: 41.7 | D12: 28.234 | E12: 2.013 | F12: 11.438 | G12: =+ROUND(C12,2) -> 41.7 | H12: =+ROUND(D12,2) -> 28.23 | I12: =+ROUND(E12,2) -> 2.01
B13: Finlandia | C13: 41.7 | D13: 21.851 | E13: 8.694 | F13: 11.195 | G13: =+ROUND(C13,2) -> 41.7 | H13: =+ROUND(D13,2) -> 21.85 | I13: =+ROUND(E13,2) -> 8.69
B14: Italia | C14: 39.2 | D14: 20.811 | E14: 6.537 | F14: 11.855 | G14: =+ROUND(C14,2) -> 39.2 | H14: =+ROUND(D14,2) -> 20.81 | I14: =+ROUND(E14,2) -> 6.54
B15: Eslovenia | C15: 37.4 | D15: 20.746 | E15: 2.848 | F15: 13.764 | G15: =+ROUND(C15,2) -> 37.4 | H15: =+ROUND(D15,2) -> 20.75 | I15: =+ROUND(E15,2) -> 2.85
B16: Hungría | C16: 37.1 | D16: 23.797 | E16: 2.283 | F16: 11.062 | G16: =+ROUND(C16,2) -> 37.1 | H16: =+ROUND(D16,2) -> 23.8 | I16: =+ROUND(E16,2) -> 2.28
B17: Luxemburgo | C17: 37.1 | D17: 24.737 | E17: 1.818 | F17: 10.384 | G17: =+ROUND(C17,2) -> 37.1 | H17: =+ROUND(D17,2) -> 24.74 | I17: =+ROUND(E17,2) -> 1.82
B18: Irlanda | C18: 36.6 | D18: 27.96 | E18: 8.6 | F18: 0 | G18: =+ROUND(C18,2) -> 36.6 | H18: =+ROUND(D18,2) -> 27.96 | I18: =+ROUND(E18,2) -> 8.6
... B55: Suiza | C55: 26.648 | D55: 9.279 | E55: 10.667 | F55: 6.702 | G55: =+ROUND(C55,2) -> 26.65 | H55: =+ROUND(D55,2) -> 9.28 | I55: =+ROUND(E55,2) -> 10.67
C56: =AVERAGE(C32:C55) -> 37.020792

Sheet Hoja1
B2: AMÉRICA LATINA
B5: A.1 | C5: GOBIERNO CENTRAL - IMPUESTOS INTERNOS
B7: País / año | C7: 2000 | D7: 2001 | E7: 2002 | F7: 2003 | G7: 2004 | H7: 2005 | I7: 2006 | J7: 2007 | K7: 2008 | L7: 2009 | M7: 2010 | N7: 2011 | O7: 2012 | P7: 2013 | Q7: 2014 | R7: 2015 | S7: 2012 | T7: 2013 | U7: 2014 | V7: 2015
A8: 1 | B8: Argentina | C8: 14.137429 | D8: 14.151804 | E8: 12.830958 | F8: 15.16934 | G8: 15.659936 | H8: 15.647803 | I8: 15.559073 | J8: 15.869254 | K8: 15.770129 | L8: 15.615216 | M8: 15.543864 | N8: 15.776746 | O8: 16.252517 | P8: 16.613878 | Q8: 16.804952 | R8: 17.764532 | S8: 16.252517 | T8: 16.613878 | U8: 16.804952 | V8: 17.764532
A9: 2 | B9: Bolivia | C9: 12.538822 | D9: 11.739868 | E9: 12.000005 | F9: 11.716283 | G9: 13.563462 | H9: 17.162703 | I9: 19.921881 | J9: 20.900002 | K9: 21.595908 | L9: 19.35255 | M9: 19.424646 | N9: 21.273247 | O9: 22.136316 | P9: 23.573451 | S9: 22.136316 | T9: 23.573451
A10: 3 | B10: Brasil | C10: 13.127754 | D10: 13.5082 | E10: 14.908238 | F10: 14.447957 | G10: 14.674813 | H10: 15.588991 | I10: 15.188664 | J10: 15.74501 | K10: 15.252604 | L10: 14.043623 | M10: 13.904776 | N10: 14.917143 | O10: 14.438798 | P10: 14.580018 | Q10: 13.135616 | R10: 12.843516 | S10: 14.438798 | T10: 14.580018 | U10: 13.135616 | V10: 12.843516
A11: 4 | B11: Chile | C11: 14.413799 | D11: 14.919478 | E11: 15.04772 | F11: 14.816513 | G11: 14.619898 | H11: 15.822168 | I11: 15.736068 | J11: 17.544574 | K11: 17.225771 | L11: 13.669696 | M11: 15.595118 | N11: 17.144301 | O11: 17.403716 | P11: 16.529094 | Q11: 16.40604 | R11: 17.396785 | S11: 17.403716 | T11: 16.529094 | U11: 16.40604 | V11: 17.396785
A12: 5 | B12: Colombia | C12: 8.8072628 | D12: 10.503776 | E12: 10.753144 | F12: 11.391767 | G12: 11.873349 | H12: 12.267062 | I12: 13.107782 | J12: 13.2713 | K12: 13.307788 | L12: 13.092071 | M12: 12.248217 | N12: 13.51593 | O12: 14.603755 | P12: 14.251187 | Q12: 14.508727 | R12: 14.755464 | S12: 14.603755 | T12: 14.251187 | U12: 14.508727 | V12: 14.755464
A13: 6 | B13: Costa Rica | C13: 11.007576 | D13: 11.922853 | E13: 11.944011 | F13: 12.161643 | G13: 12.110877 | H13: 12.357837 | I13: 12.731581 | J13: 13.871862 | K13: 14.252455 | L13: 12.640105 | M13: 12.290473 | N13: 12.561103 | O13: 12.500532 | P13: 12.55759 | Q13: 12.473287 | R13: 12.944042 | S13: 12.500532 | T13: 12.55759 | U13: 12.473287 | V13: 12.944042
A14: 7 | B14: Ecuador | C14: 9.0168765 | D14: 9.5996981 | E14: 9.4772992 | F14: 8.9474411 | G14: 8.8927425 | H14: 9.4524785 | I14: 9.6300683 | J14: 10.060474 | K14: 10.145521 | L14: 10.700054 | M14: 11.312348 | N14: 10.652681 | O14: 12.203273 | P14: 12.799428 | Q14: 12.622198 | R14: 13.371164 | S14: 0.12388787 | T14: 13.460896 | U14: 13.493036 | V14: 13.829455
A15: 8 | B15: El Salvador | C15: 9.9862191 | D15: 10.020488 | E15: 10.695926 | F15: 10.687521 | G15: 10.866839 | H15: 11.798128 | I15: 12.796693 | J15: 13.29506 | K15: 13.588645 | L15: 13.059078 | M15: 13.690186 | N15: 14.402641 | O15: 14.732323 | P15: 15.224765 | Q15: 15.049059 | R15: 15.227431 | S15: 14.732323 | T15: 15.224765 | U15: 15.049059 | V15: 15.227431
A16: 9 | B16: Guatemala | C16: 8.5506408 | D16: 9.9777196 | E16: 10.726936 | F16: 10.375292 | G16: 10.55524 | H16: 9.8464195 | I16: 11.04182 | J16: 11.419054 | K16: 10.688757 | L16: 10.071963 | M16: 10.164825 | N16: 10.640809 | O16: 10.623039 | P16: 10.78994 | Q16: 10.72477 | R16: 10.166838 | S16: 10.623039 | T16: 10.78994 | U16: 10.72477 | V16: 10.166838
A17: 10 | B17: Honduras | C17: 11.874263 | D17: 11.822588 | E17: 12.016574 | F17: 12.67188 | G17: 13.289104 | H17: 13.351699 | I17: 14.097684 | J17: 15.156465 | K17: 14.99675 | L17: 13.412765 | M17: 13.588128 | N17: 14.004106 | O17: 13.938543 | P17: 14.361208 | Q17: 16.021189 | R17: 17.10233 | S17: 13.938543 | T17: 14.361208 | U17: 16.021189 | V17: 17.10233
A18: 11 | B18: México | C18: 8.4902937 | D18: 9.2456567 | E18: 9.7905235 | F18: 9.6307595 | G18: 8.5108038 | H18: 8.3251652 | I18: 8.1604769 | J18: 8.543322 | K18: 7.858526 | L18: 9.0977899 | M18: 9.3221857 | N18: 8.7298164 | O18: 8.2364714 | P18: 9.5672847 | Q18: 10.195875 | R18: 12.770992 | S18: 8.2364714 | T18: 9.5672847 | U18: 10.195875 | V18: 12.770992
A19: 12 | B19: Nicaragua | C19: 9.4425017 | D19: 8.8909764 | E19: 9.5485609 | F19: 10.939202 | G19: 11.446323 | H19: 12.048782 | I19: 12.823099 | J19: 13.022649 | K19: 12.90064 | L19: 12.902499 | M19: 13.482673 | N19: 14.411966 | O19: 14.277445 | P19: 14.500559 | Q19: 14.768251 | R19: 15.576321 | S19: 14.277445 | T19: 14.500559 | U19: 14.768251 | V19: 15.576321
A20: 13 | B20: Panamá | C20: 8.227599 | D20: 7.5962008 | E20: 7.3933444 | F20: 7.4638885 | G20: 7.2710089 | H20: 7.3482188 | I20: 8.9724493 | J20: 8.4197741 | K20: 8.4523472 | L20: 8.833663 | M20: 9.3768457 | N20: 9.1423951 | O20: 10.032166 | P20: 9.9213466 | Q20: 9.0459489 | R20: 8.6039285 | S20: 10.032166 | T20: 9.9213466 | U20: 9.0459489 | V20: 8.6039285
A21: 14 | B21: Paraguay | C21: 7.6657646 | D21: 7.4688582 | E21: 6.6893251 | F21: 7.4116353 | G21: 8.6226645 | H21: 8.5133995 | I21: 8.9244382 | J21: 8.8928566 | K21: 9.2091462 | L21: 10.318743 | M21: 10.38787 | N21: 10.91543 | O21: 11.208836 | P21: 10.479586 | Q21: 11.345035 | R21: 11.159752 | S21: 11.208836 | T21: 10.479586 | U21: 11.345035 | V21: 11.159752
... A25: 18 | B25: Venezuela | C25: 12.357486 | D25: 10.939126 | E25: 10.135504 | F25: 10.845662 | G25: 11.967294 | H25: 14.214648 | I25: 15.036307 | J25: 14.64627 | K25: 15.255074 | L25: 12.702704 | M25: 10.226147 | N25: 11.302073 | O25: 12.206675 | P25: 12.6264 | Q25: 15.784636 | R25: 18.905891 | S25: 12.206675 | T25: 12.6264 | U25: 15.784636 | V25: 18.905891
B26: Promedio | C26: =AVERAGE(C8,C10:C24) -> 10.640788 | D26: =AVERAGE(D8,D10:D24) -> 11.173597 | E26: =AVERAGE(E8,E10:E24) -> 11.323969 | F26: =AVERAGE(F8,F10:F24) -> 11.661618 | G26: =AVERAGE(G8,G10:G24) -> 11.867666 | H26: =AVERAGE(H8,H10:H24) -> 12.303354 | I26: =AVERAGE(I8,I10:I24) -> 12.963603 | J26: =AVERAGE(J8,J10:J24) -> 13.45903 | ... V26: =AVERAGE(V8,V10:V24) -> 14.264497
B27: * Se utilizó atos de recaudación CIAT y PIB del FMI
B28: *Para Ecuador SRI, BCE, BEDE
B29: A.2 | C29: GOBIERNO CENTRAL - SÓLO COMERCIO EXTERIOR
B31: País / año | C31: 2000 | D31: 2001 | E31: 2002 | F31: 2003 | G31: 2004 | H31: 2005 | I31: 2006 | J31: 2007 | K31: 2008 | L31: 2009 | M31: 2010 | N31: 2011 | O31: 2012 | P31: 2013 | Q31: 2014 | R31: 2015 | S31: 2012 | T31: 2013 | U31: 2014 | V31: 2015
A32: 1 | B32: Argentina | C32: 0.72434761 | D32: 0.62388557 | E32: 2.0338422 | F32: 3.0160293 | G32: 2.8011633 | H32: 2.7792847 | I32: 2.7704673 | J32: 3.0595469 | K32: 3.9127716 | L32: 3.1800492 | M32: 3.4204226 | N32: 3.1524922 | O32: 2.952783 | P32: 2.3609959 | Q32: 2.4874625 | R32: 1.9187159 | S32: 2.952783 | T32: 2.3609959 | U32: 2.4874625 | V32: 1.9187159
A33: 2 | B33: Bolivia | C33: 1.1856596 | D33: 1.0311662 | E33: 1.0362436 | F33: 0.88940701 | G33: 0.93500983 | H33: 1.0090193 | I33: 0.95700594 | J33: 1.0479523 | K33: 1.088378 | L33: 0.9396353 | M33: 1.0909049 | N33: 1.2483337 | O33: 1.2192325 | P33: 1.2594089 | S33: 1.2192325 | T33: 1.2594089
A34: 3 | B34: Brasil | C34: 0.72151335 | D34: 0.69787972 | E34: 0.53931313 | F34: 0.47898873 | G34: 0.47384314 | H34: 0.42314414 | I34: 0.42353316 | J34: 0.46040153 | K34: 0.56839351 | L34: 0.49675632 | M34: 0.5601736 | N34: 0.64527964 | O34: 0.70665421 | P34: 0.76776777 | Q34: 0.66459894 | R34: 0.6607874 | S34: 0.70665421 | T34: 0.76776777 | U34: 0.66459894 | V34: 0.6607874
A35: 4 | B35: Chile | C35: 1.3031741 | D35: 1.1266707 | E35: 0.90339086 | F35: 0.60291044 | G35: 0.42933926 | H35: 0.41526206 | I35: 0.38293972 | J35: 0.33221274 | K35: 0.32740732 | L35: 0.16899714 | M35: 0.2408415 | N35: 0.24878778 | O35: 0.24370066 | P35: 0.22140775 | Q35: 0.22953438 | R35: 0.21861364 | S35: 0.24370066 | T35: 0.22140775 | U35: 0.22953438 | V35: 0.21861364
A36: 5 | B36: Colombia | C36: 0.84507254 | D36: 0.9976974 | E36: 0.87642981 | F36: 0.83914875 | G36: 0.77357815 | H36: 0.8842297 | I36: 0.96142405 | J36: 0.9846394 | K36: 0.92367798 | L36: 0.81909321 | M36: 0.89287385 | N36: 0.70777051 | O36: 0.59579888 | P36: 0.59646019 | Q36: 0.58142707 | R36: 0.63059954 | S36: 0.59579888 | T36: 0.59646019 | U36: 0.58142707 | V36: 0.63059954
A37: 6 | B37: Costa Rica | C37: 0.87571104 | D37: 0.90596709 | E37: 0.86012273 | F37: 0.83324741 | G37: 0.83809021 | H37: 0.87460352 | I37: 0.929307 | J37: 1.0075308 | K37: 1.0344941 | L37: 0.72682192 | M37: 0.68516168 | N37: 0.72916745 | O37: 0.6922853 | P37: 0.64670218 | Q37: 0.6563809 | R37: 0.63688432 | S37: 0.6922853 | T37: 0.64670218 | U37: 0.6563809 | V37: 0.63688432
A38: 7 | B38: Ecuador | C38: 1.9287339 | D38: 1.7531649 | E38: 1.7291607 | F38: 1.4034131 | G38: 1.4786593 | H38: 1.4290548 | I38: 1.5712707 | J38: 1.6132747 | K38: 1.5114467 | L38: 1.7093441 | M38: 1.7820321 | N38: 1.4875178 | O38: 1.4481116 | P38: 1.4014361 | Q38: 1.3542462 | R38: 2.0467564 | S38: 1.6999358 | T38: 1.4066631 | U38: 1.3726963 | V38: 2.0326551
A39: 8 | B39: El Salvador | C39: 1.0704959 | D39: 1.0569983 | E39: 1.0813116 | F39: 1.1809899 | G39: 1.1210067 | H39: 1.0582784 | I39: 1.0759702 | J39: 1.0131858 | K39: 0.83477206 | L39: 0.66744001 | M39: 0.70453677 | N39: 0.72302042 | O39: 0.75881005 | P39: 0.93836367 | Q39: 0.79837226 | R39: 0.75409454 | S39: 0.75881005 | T39: 0.93836367 | U39: 0.79837226 | V39: 0.75409454
A40: 9 | B40: Guatemala | C40: 1.2061821 | D40: 1.346484 | E40: 1.3925259 | F40: 1.3697388 | G40: 1.2744597 | H40: 1.7881507 | I40: 1.1327591 | J40: 1.0138782 | K40: 0.82036937 | L40: 0.69450455 | M40: 0.71082294 | N40: 0.68262354 | O40: 0.58544778 | P40: 0.46444122 | Q40: 0.45003593 | R40: 0.44101683 | S40: 0.58544778 | T40: 0.46444122 | U40: 0.45003593 | V40: 0.44101683
A41: 10 | B41: Honduras | C41: 1.9208808 | D41: 1.9996504 | E41: 1.7500654 | F41: 1.165751 | G41: 1.2050834 | H41: 1.1832548 | I41: 1.1406514 | J41: 1.2285436 | K41: 1.1337357 | L41: 0.74922306 | M41: 0.8370288 | N41: 0.78387793 | O41: 0.81155081 | P41: 0.7040737 | Q41: 0.72601875 | R41: 0.79514199 | S41: 0.81155081 | T41: 0.7040737 | U41: 0.72601875 | V41: 0.79514199
A42: 11 | B42: México | C42: 0.50841067 | D42: 0.42689511 | E42: 0.38032686 | F42: 0.34952723 | G42: 0.339588 | H42: 0.28407801 | I42: 0.30106904 | J42: 0.28229375 | K42: 0.29195153 | L42: 0.24968724 | M42: 0.18469347 | N42: 0.18476065 | O42: 0.17858237 | P42: 0.18155755 | Q42: 0.19666916 | R42: 0.2432629 | S42: 0.17858237 | T42: 0.18155755 | U42: 0.19666916 | V42: 0.2432629
A43: 12 | B43: Nicaragua | C43: 0.95569056 | D43: 0.78308555 | E43: 0.82320039 | F43: 0.72560645 | G43: 0.69127144 | H43: 0.84973808 | I43: 0.76428605 | J43: 0.74947821 | K43: 0.70495618 | L43: 0.55374303 | M43: 0.63069364 | N43: 0.69347568 | O43: 0.69783592 | P43: 0.66414228 | Q43: 0.6212198 | R43: 0.67191725 | S43: 0.69783592 | T43: 0.66414228 | U43: 0.6212198 | V43: 0.67191725
A44: 13 | B44: Panamá | C44: 1.7247612 | D44: 1.4443556 | E44: 1.474587 | F44: 1.5292844 | G44: 1.5150465 | H44: 1.5667476 | I44: 1.610206 | J44: 1.7567856 | K44: 1.6795773 | L44: 1.4673966 | M44: 1.3497928 | N44: 1.1452989 | O44: 1.052311 | P44: 0.91163806 | Q44: 0.7757055 | R44: 0.74790915 | S44: 1.052311 | T44: 0.91163806 | U44: 0.7757055 | V44: 0.74790915
A45: 14 | B45: Paraguay | C45: 1.658217 | D45: 1.5473132 | E45: 1.3263073 | F45: 1.334349 | G45: 1.621434 | H45: 1.6323831 | I45: 1.528324 | J45: 1.2077469 | K45: 1.2953381 | L45: 1.2329625 | M45: 1.6055865 | N45: 1.6130161 | O45: 1.5046903 | P45: 1.3051131 | Q45: 1.2893715 | R45: 1.13281 | S45: 1.5046903 | T45: 1.3051131 | U45: 1.2893715 | V45: 1.13281
... A49: 18 | B49: Venezuela | C49: 1.361971 | D49: 1.3913467 | E49: 1.1492865 | F49: 0.730358 | G49: 1.0586183 | H49: 1.2978258 | I49: 1.50597 | J49: 1.7871777 | K49: 1.1667716 | L49: 0.91435488 | M49: 0.87086505 | N49: 1.1074397 | O49: 1.1621085 | P49: 1.0971216 | Q49: 1.4602219 | R49: 1.744556 | S49: 1.1621085 | T49: 1.0971216 | U49: 1.4602219 | V49: 1.744556
B50: Promedio | C50: =AVERAGE(C32,C34:C48) -> 1.3855874 | D50: =AVERAGE(D32,D34:D48) -> 1.2600799 | E50: =AVERAGE(E32,E34:E48) -> 1.2768246 | F50: =AVERAGE(F32,F34:F48) -> 1.2338942 | G50: =AVERAGE(G32,G34:G48) -> 1.2974362 | H50: =AVERAGE(H32,H34:H48) -> 1.318341 | I50: =AVERAGE(I32,I34:I48) -> 1.1776413 | J50: =AVERAGE(J32,J34:J48) -> 1.1279849 | ... V50: =AVERAGE(V32,V34:V48) -> 0.81697923
B53: A = A.1 + A.2 | C53: PRESIÓN CENTRAL
B55: País / año | C55: 2000 | D55: 2001 | E55: 2002 | F55: 2003 | G55: 2004 | H55: 2005 | I55: 2006 | J55: 2007 | K55: 2008 | L55: 2009 | M55: 2010 | N55: 2011 | O55: 2012 | P55: 2013 | Q55: 2014 | R55: 2015 | S55: 2012 | T55: 2013 | U55: 2014 | V55: 2015
A56: 1 | B56: Argentina | C56: =C8+C32 -> 14.861777 | D56: =D8+D32 -> 14.77569 | E56: =E8+E32 -> 14.8648 | F56: =F8+F32 -> 18.185369 | G56: =G8+G32 -> 18.461099 | H56: =H8+H32 -> 18.427087 | I56: =I8+I32 -> 18.32954 | J56: =J8+J32 -> 18.928801 | ... V56: =V8+V32 -> 19.683248
A57: 2 | B57: Bolivia | C57: 13.724482 | D57: 12.771034 | E57: 13.036248 | F57: 12.60569 | G57: 14.498471 | H57: 18.171722 | I57: 20.878887 | J57: 21.947954 | K57: 22.684286 | L57: 20.292185 | M57: 20.515551 | N57: 22.52158 | O57: 23.355549 | P57: 24.83286 | Q57: =Q9+Q33 -> 0 | R57: =R9+R33 -> 0 | S57: 23.355549 | T57: 24.83286 | U57: =U9+U33 -> 0 | V57: =V9+V33 -> 0
A58: 3 | B58: Brasil | C58: =C10+C34 -> 13.849267 | D58: =D10+D34 -> 14.206079 | E58: =E10+E34 -> 15.447551 | F58: =F10+F34 -> 14.926946 | G58: =G10+G34 -> 15.148656 | H58: =H10+H34 -> 16.012135 | I58: =I10+I34 -> 15.612198 | J58: =J10+J34 -> 16.205411 | ... V58: =V10+V34 -> 13.504303
A59: 4 | B59: Chile | C59: =C11+C35 -> 15.716973 | D59: =D11+D35 -> 16.046149 | E59: =E11+E35 -> 15.951111 | F59: =F11+F35 -> 15.419423 | G59: =G11+G35 -> 15.049237 | H59: =H11+H35 -> 16.23743 | I59: =I11+I35 -> 16.119008 | J59: =J11+J35 -> 17.876787 | ... V59: =V11+V35 -> 17.615398
A60: 5 | B60: Colombia | C60: =C12+C36 -> 9.6523353 | D60: =D12+D36 -> 11.501474 | E60: =E12+E36 -> 11.629574 | F60: =F12+F36 -> 12.230916 | G60: =G12+G36 -> 12.646927 | H60: =H12+H36 -> 13.151292 | I60: =I12+I36 -> 14.069206 | J60: =J12+J36 -> 14.25594 | ... V60: =V12+V36 -> 15.386064
A61: 6 | B61: Costa Rica | C61: =C13+C37 -> 11.883287 | D61: =D13+D37 -> 12.82882 | E61: =E13+E37 -> 12.804134 | F61: =F13+F37 -> 12.99489 | G61: =G13+G37 -> 12.948967 | H61: =H13+H37 -> 13.232441 | I61: =I13+I37 -> 13.660888 | J61: =J13+J37 -> 14.879392 | ... V61: =V13+V37 -> 13.580927
A62: 7 | B62: Ecuador | C62: =C14+C38 -> 10.94561 | D62: =D14+D38 -> 11.352863 | E62: =E14+E38 -> 11.20646 | F62: =F14+F38 -> 10.350854 | G62: =G14+G38 -> 10.371402 | H62: =H14+H38 -> 10.881533 | I62: =I14+I38 -> 11.201339 | J62: =J14+J38 -> 11.673748 | ... N62: =N14+N38 -> 12.140199 | O62: 14.258976 | P62: 14.812314 | Q62: 14.665925 | R62: =+R38+R14 -> 15.41792 | S62: 15.972151 | T62: =T14+T38 -> 14.867559 | U62: =U14+U38 -> 14.865732 | V62: =V14+V38 -> 15.86211
A63: 8 | B63: El Salvador | C63: 11.056715 | D63: 11.077487 | E63: 11.777238 | F63: 11.868511 | G63: 11.987846 | H63: 12.856406 | I63: 13.872664 | J63: 14.308246 | K63: 14.423417 | L63: 13.726518 | M63: 14.394722 | N63: 15.125662 | O63: 15.491133 | P63: 16.224307 | Q63: =Q15+Q39 -> 15.847431 | R63: =R15+R39 -> 15.981526 | S63: 15.491133 | T63: 16.224307 | U63: =U15+U39 -> 15.847431 | V63: =V15+V39 -> 15.981526
A64: 9 | B64: Guatemala | C64: 9.7568228 | D64: 11.324204 | E64: 12.119462 | F64: 11.745031 | G64: 11.8297 | H64: 11.63457 | I64: 12.174579 | J64: 12.432932 | K64: 11.509127 | L64: 10.766467 | M64: 10.875648 | N64: 11.315307 | O64: 11.211018 | P64: 11.253933 | Q64: =Q16+Q40 -> 11.174806 | R64: =R16+R40 -> 10.607855 | S64: 11.211018 | T64: 11.253933 | U64: =U16+U40 -> 11.174806 | V64: =V16+V40 -> 10.607855
A65: 10 | B65: Honduras | C65: 13.795147 | D65: 13.822226 | E65: 13.766639 | F65: 13.837631 | G65: 14.494188 | H65: 14.534954 | I65: 15.238336 | J65: 16.385009 | K65: 16.130486 | L65: 14.161988 | M65: 14.425157 | N65: 14.815946 | O65: 14.857955 | P65: 15.021773 | Q65: =Q17+Q41 -> 16.747208 | R65: =R17+R41 -> 17.897472 | S65: 14.857955 | T65: 15.021773 | U65: =U17+U41 -> 16.747208 | V65: =V17+V41 -> 17.897472
A66: 11 | B66: México | C66: 10.592394 | D66: 11.272039 | E66: 11.628097 | F66: 9.9797532 | G66: 8.8534328 | H66: 8.6245424 | I66: 8.4754771 | J66: 8.828551 | K66: 8.1504772 | L66: 9.3640064 | M66: 9.5177735 | N66: 8.9284925 | O66: 8.4295266 | P66: 9.7692218 | Q66: =Q18+Q42 -> 10.392544 | R66: =R18+R42 -> 13.014255 | S66: 8.4295266 | T66: 9.7692218 | U66: =U18+U42 -> 10.392544 | V66: =V18+V42 -> 13.014255
A67: 12 | B67: Nicaragua | C67: 10.398192 | D67: 9.6740619 | E67: 10.371761 | F67: 11.664809 | G67: 12.137594 | H67: 12.89852 | I67: 13.587385 | J67: 13.772127 | K67: 13.551757 | L67: 13.300878 | M67: 13.85089 | N67: 14.60564 | O67: 14.907826 | P67: 15.180483 | Q67: =Q19+Q43 -> 15.389471 | R67: =R19+R43 -> 16.248239 | S67: 14.907826 | T67: 15.180483 | U67: =U19+U43 -> 15.389471 | V67: =V19+V43 -> 16.248239
A68: 13 | B68: Panamá | C68: =C20+C44 -> 9.9523602 | D68: =D20+D44 -> 9.0405563 | E68: =E20+E44 -> 8.8679314 | F68: =F20+F44 -> 8.9931729 | G68: =G20+G44 -> 8.7860554 | H68: =H20+H44 -> 8.9149664 | I68: =I20+I44 -> 10.582655 | J68: =J20+J44 -> 10.17656 | ... V68: =V20+V44 -> 9.3518376
A69: 14 | B69: Paraguay | C69: 9.3239816 | D69: 9.0161714 | E69: 8.0156325 | F69: 8.7459843 | G69: 10.244099 | H69: 10.145783 | I69: 10.452762 | J69: 10.100603 | K69: 10.504484 | L69: 11.551705 | M69: 11.993456 | N69: 12.114868 | O69: 12.196944 | P69: 11.821205 | Q69: =Q21+Q45 -> 12.634406 | R69: =R21+R45 -> 12.292562 | S69: 12.196944 | T69: 11.821205 | U69: =U21+U45 -> 12.634406 | V69: =V21+V45 -> 12.292562
A70: 15 | B70: Perú | C70: 13.856299 | D70: 14.085388 | E70: 13.622607 | F70: 14.491644 | G70: 15.225742 | H70: 16.061152 | I70: 17.446209 | J70: 18.291892 | K70: 18.417381 | L70: 16.433025 | M70: 17.262986 | N70: 18.154231 | O70: 18.640703 | P70: 18.405484 | Q70: =Q22+Q46 -> 18.455511 | R70: =R22+R46 -> 16.792632 | S70: 18.640703 | T70: 18.405484 | U70: =U22+U46 -> 18.455511 | V70: =V22+V46 -> 16.792632
A71: 16 | B71: República Dominicana | C71: 12.30671 | D71: 13.658203 | E71: 13.509029 | F71: 11.918913 | G71: 12.869542 | H71: 14.640247 | I71: 14.826707 | J71: 15.889218 | K71: 14.920015 | L71: 13.058833 | M71: 12.722311 | N71: 12.817745 | O71: 13.407583 | P71: 13.960239 | Q71: =Q23+Q47 -> 14.05635 | R71: =R23+R47 -> 13.593714 | S71: 13.407583 | T71: 13.960239 | U71: =U23+U47 -> 14.05635 | V71: =V23+V47 -> 13.593714
A72: 17 | B72: Uruguay | C72: 15.696309 | D72: 16.410385 | E72: 17.051038 | F72: 18.466411 | G72: 19.606968 | H72: 19.944357 | I72: 20.778649 | J72: 20.384018 | K72: 20.513759 | L72: 20.761723 | M72: 20.858382 | N72: 20.476809 | O72: 20.68246 | P72: 20.90598 | Q72: =Q24+Q48 -> 20.009762 | R72: =R24+R48 -> 19.891478 | S72: 20.68246 | T72: 20.90598 | U72: =U24+U48 -> 20.009762 | V72: =V24+V48 -> 19.891478
A73: 18 | B73: Venezuela | C73: 13.719457 | D73: 12.330473 | E73: 11.28479 | F73: 11.57602 | G73: 13.025913 | H73: 15.512474 | I73: 16.542277 | J73: 16.433447 | K73: 16.421846 | L73: 13.617059 | M73: 11.097012 | N73: 12.409513 | O73: 13.368784 | P73: 13.723521 | Q73: =Q25+Q49 -> 17.244858 | R73: =R25+R49 -> 20.650447 | S73: 13.368784 | T73: 13.723521 | U73: =U25+U49 -> 17.244858 | V73: =V25+V49 -> 20.650447
B74: Promedio | C74: =AVERAGE(C56,C58:C72) -> 12.102761 | D74: =AVERAGE(D56,D58:D72) -> 12.505737 | E74: =AVERAGE(E56,E58:E72) -> 12.664567 | F74: =AVERAGE(F56,F58:F72) -> 12.863766 | G74: =AVERAGE(G56,G58:G72) -> 13.166341 | H74: =AVERAGE(H56,H58:H72) -> 13.637339 | I74: =AVERAGE(I56,I58:I72) -> 14.151725 | J74: =AVERAGE(J56,J58:J72) -> 14.649327 | ... V74: =AVERAGE(V56,V58:V72) -> 15.081476
B77: B | C77: GOBIERNO SUBNACIONAL
B79: País / año | C79: 2000 | D79: 2001 | E79: 2002 | F79: 2003 | G79: 2004 | H79: 2005 | I79: 2006 | J79: 2007 | K79: 2008 | L79: 2009 | M79: 2010 | N79: 2011 | O79: 2012 | P79: 2013 | Q79: 2014 | R79: 2015 | S79: 2012 | T79: 2013 | U79: 2014 | V79: 2015
A80: 1 | B80: Argentina | C80: 5.1937287 | D80: 4.9675196 | E80: 4.5378883 | F80: 4.9992983 | G80: 4.3535863 | H80: 4.3008416 | I80: 4.2603105 | J80: 4.1445726 | K80: 4.363554 | L80: 4.6463467 | M80: 4.6835647 | N80: 4.9398024 | O80: 5.4073569 | P80: 6.2920762 | Q80: 6.1274714 | R80: =Q80 -> 6.1274714 | S80: 5.4073569 | T80: 6.2920762 | U80: 6.1274714 | V80: =U80 -> 6.1274714
A81: 2 | B81: Bolivia | C81: 1.1067703 | D81: 1.0127409 | E81: 1.1551912 | F81: 1.0105152 | G81: 0.97291102 | H81: 0.98876079 | I81: 0.92511449 | J81: 0.93820588 | K81: 0.83201594 | L81: 0.99475432 | M81: 1.0459551 | N81: 1.0268905 | O81: 0.95801089 | P81: 1.0151042 | R81: =Q81 -> 0 | S81: 0.95801089 | T81: 1.0151042 | V81: =U81 -> 0
A82: 3 | B82: Brasil | C82: 8.9046486 | D82: 9.2287824 | E82: 9.2747985 | F82: 9.2440179 | G82: 9.4238063 | H82: 9.5961238 | I82: 9.7386672 | J82: 9.6009737 | K82: 9.940633 | L82: 9.9193612 | M82: 10.033042 | N82: 10.437251 | O82: 10.517782 | P82: 10.685312 | Q82: 10.032884 | R82: =Q82 -> 10.032884 | S82: 10.517782 | T82: 10.685312 | U82: 10.032884 | V82: =U82 -> 10.032884
A83: 4 | B83: Chile | C83: 1.4756626 | D83: 1.4926842 | E83: 1.4961064 | F83: 1.4972929 | G83: 1.3131043 | H83: 1.3356998 | I83: 1.2000341 | J83: 1.1692252 | K83: 1.3179577 | L83: 1.4250709 | M83: 1.3337126 | N83: 1.4008874 | O83: 1.4308293 | P83: 1.4668576 | Q83: 1.4959175 | R83: =Q83 -> 1.4959175 | S83: 1.4308293 | T83: 1.4668576 | U83: 1.4959175 | V83: =U83 -> 1.4959175
A84: 5 | B84: Colombia | C84: 2.135912 | D84: 2.2099645 | E84: 2.3967463 | F84: 2.5520429 | G84: 2.6056196 | H84: 2.774317 | I84: 2.8390798 | J84: 2.7722571 | K84: 2.7311666 | L84: 2.9769762 | M84: 2.9104108 | N84: 2.7851474 | O84: 2.8265805 | P84: 2.9133248 | Q84: 3.1165692 | R84: =Q84 -> 3.1165692 | S84: 2.8265805 | T84: 2.9133248 | U84: 3.1165692 | V84: =U84 -> 3.1165692
A85: 6 | B85: Costa Rica | C85: 0.37873375 | D85: 0.40832099 | E85: 0.39528411 | F85: 0.44078847 | G85: 0.45398382 | H85: 0.47149607 | I85: 0.52927629 | J85: 0.53214484 | K85: 0.57524394 | L85: 0.61259737 | M85: 0.60652022 | N85: 0.60975931 | O85: 0.64239432 | P85: 0.67051607 | Q85: 0.71419317 | R85: =Q85 -> 0.71419317 | S85: 0.64239432 | T85: 0.67051607 | U85: 0.71419317 | V85: =U85 -> 0.71419317
A86: 7 | B86: Ecuador | C86: 0.30177298 | D86: 0.47361798 | E86: 0.56422549 | F86: 0.66849897 | G86: 0.68838732 | H86: 0.69256923 | I86: 0.58353673 | J86: 0.59825563 | K86: 0.62001945 | L86: 0.66165235 | M86: 0.63615703 | N86: 0.66041678 | O86: 0.72493051 | P86: 0.74328338 | Q86: 0.72758742 | R86: 0.94333312 | S86: 0.92805673 | T86: 0.7484523 | U86: 0.73754362 | V86: 0.73754362
A87: 8 | B87: El Salvador | C87: 0.53930789 | D87: 0.39963222 | E87: 0.47460281 | F87: 0.50442954 | G87: 0.48106442 | H87: 0.45396577 | I87: 0.40968804 | J87: 0.40288686 | K87: 0.39242219 | L87: 0.38720233 | M87: 0.39445795 | N87: 0.39445795 | O87: 0.39445795 | P87: 0.39013963 | Q87: 0.39013963 | R87: =Q87 -> 0.39013963 | S87: 0.39445795 | T87: 0.39013963 | U87: 0.39013963 | V87: =U87 -> 0.39013963
A88: 9 | B88: Guatemala | C88: 0.098292855 | D88: 0.1317129 | E88: 0.13638983 | F88: 0.15152106 | G88: 0.16143579 | H88: 0.16393846 | I88: 0.16225654 | J88: 0.16261465 | K88: 0.16229529 | L88: 0.18451176 | M88: 0.18618514 | N88: 0.1709422 | O88: 0.18244212 | P88: 0.18416395 | Q88: 0.18416395 | R88: =Q88 -> 0.18416395 | S88: 0.18244212 | T88: 0.18416395 | U88: 0.18416395 | V88: =U88 -> 0.18416395
A89: 10 | B89: Honduras | C89: 0.89999831 | D89: 0.90000228 | E89: 0.98560725 | F89: 1.0669611 | G89: 1.0527654 | H89: 1.0069914 | I89: 0.74881686 | J89: 1.3113908 | K89: 1.0070038 | L89: 1.0368389 | M89: 1.0235901 | N89: 1.0235901 | O89: 1.0235901 | P89: 1.0235901 | Q89: 1.0235901 | R89: =Q89 -> 1.0235901 | S89: 1.0235901 | T89: 1.0235901 | U89: 1.0235901 | V89: =U89 -> 1.0235901
A90: 11 | B90: México | C90: 0.26309627 | D90: 0.30123302 | E90: 0.34018646 | F90: 0.35089394 | G90: 0.35105497 | H90: 0.37887965 | I90: 0.40460679 | J90: 0.44124717 | K90: 0.45386089 | L90: 0.4723581 | M90: 0.47492073 | N90: 0.51186892 | O90: 0.57553854 | P90: 0.6321166 | Q90: 0.66297851 | R90: =Q90 -> 0.66297851 | S90: 0.57553854 | T90: 0.6321166 | U90: 0.66297851 | V90: =U90 -> 0.66297851
A91: 12 | B91: Nicaragua | C91: 1.3610035 | D91: 1.5462276 | E91: 1.4352845 | F91: 1.4907632 | G91: 1.5138626 | H91: 1.5050559 | I91: 1.5880378 | J91: 1.7490265 | K91: 1.7668162 | L91: 1.822536 | M91: 1.9383181 | N91: 2.0698294 | O91: 1.9801963 | P91: 1.4044557 | Q91: 1.3743653 | R91: =Q91 -> 1.3743653 | S91: 1.9801963 | T91: 1.4044557 | U91: 1.3743653 | V91: =U91 -> 1.3743653
A92: 13 | B92: Panamá | C92: 0.37097371 | D92: 0.3597798 | E92: 0.36243929 | F92: 0.35316859 | G92: 0.32062232 | H92: 0.32739723 | I92: 0.32310206 | J92: 0.29157361 | K92: 0.28171223 | L92: 0.2644836 | M92: 0.26311196 | N92: 0.25467185 | O92: 0.26494315 | P92: 0.25500033 | Q92: 0.25500033 | R92: =Q92 -> 0.25500033 | S92: 0.26494315 | T92: 0.25500033 | U92: 0.25500033 | V92: =U92 -> 0.25500033
A93: 14 | B93: Paraguay | C93: 0.44454242 | D93: 0.40946119 | E93: 0.39179159 | F93: 0.40350183 | G93: 0.41431745 | H93: 0.40111351 | I93: 0.50068898 | J93: 0.52235796 | K93: 0.56624133 | L93: 0.62030838 | M93: 0.90153915 | N93: 0.7541056 | O93: 0.75899194 | P93: 0.77351427 | Q93: 0.72161955 | R93: =Q93 -> 0.72161955 | S93: 0.75899194 | T93: 0.77351427 | U93: 0.72161955 | V93: =U93 -> 0.72161955
A94: 15 | B94: Perú | C94: 0.61855425 | D94: 0.68452506 | E94: 0.72235973 | F94: 0.73554892 | G94: 0.74501834 | H94: 0.72805109 | I94: 0.59562395 | J94: 0.69856508 | K94: 0.74069871 | L94: 0.73404701 | M94: 0.7022404 | N94: 0.69296493 | O94: 0.74239713 | P94: 0.71444182 | Q94: 0.68009886 | R94: =Q94 -> 0.68009886 | S94: 0.74239713 | T94: 0.71444182 | U94: 0.68009886 | V94: =U94 -> 0.68009886
A95: 16 | B95: República Dominicana | C95: 0 | D95: 0 | E95: 0 | F95: 0 | G95: 0 | H95: 0 | I95: 0 | J95: 0 | K95: 0 | L95: 0 | M95: 0 | N95: 0 | O95: 0 | P95: 0 | Q95: 0 | R95: =Q95 -> 0 | S95: 0 | T95: 0 | U95: 0 | V95: =U95 -> 0
A96: 17 | B96: Uruguay | C96: 1.5825888 | D96: 1.5426875 | E96: 1.387888 | F96: 1.404163 | G96: 1.4337102 | H96: 1.4857993 | I96: 2.7796614 | J96: 2.6558869 | K96: 2.5115468 | L96: 2.3913005 | M96: 2.4987826 | N96: 3.0600407 | O96: 3.0027236 | P96: 3.0027236 | Q96: 3.0027236 | R96: =Q96 -> 3.0027236 | S96: 3.0027236 | T96: 3.0027236 | U96: 3.0027236 | V96: =U96 -> 3.0027236
A97: 18 | B97: Venezuela | C97: 0 | D97: 0 | E97: 0 | F97: 0 | G97: 0 | H97: 0 | I97: 0 | J97: 0 | K97: 0 | L97: 0 | M97: 0 | N97: 0 | O97: 0 | P97: 0 | Q97: 0 | R97: =Q97 -> 0 | S97: 0 | T97: 0 | U97: 0 | V97: =U97 -> 0
B98: Promedio | C98: =AVERAGE(C80,C82:C96) -> 1.535551 | D98: =AVERAGE(D80,D82:D96) -> 1.5660095 | E98: =AVERAGE(E80,E82:E96) -> 1.5563499 | F98: =AVERAGE(F80,F82:F96) -> 1.6164307 | G98: =AVERAGE(G80,G82:G96) -> 1.5820212 | H98: =AVERAGE(H80,H82:H96) -> 1.60139 | I98: =AVERAGE(I80,I82:I96) -> 1.6664617 | J98: =AVERAGE(J80,J82:J96) -> 1.6908112 | ... V98: =AVERAGE(V80,V82:V96) -> 1.9074537
B101: C | C101: CONTRIBUCIONES A LA SEGURIDAD SOCIAL
B103: País / año | C103: 2000 | D103: 2001 | E103: 2002 | F103: 2003 | G103: 2004 | H103: 2005 | I103: 2006 | J103: 2007 | K103: 2008 | L103: 2009 | M103: 2010 | N103: 2011 | O103: 2012 | P103: 2013 | Q103: 2014 | R103: 2015 | S103: 2012 | T103: 2013 | U103: 2014 | V103: 2015
A104: 1 | B104: Argentina | C104: 3.1430085 | D104: 3.0338319 | E104: 2.6574105 | F104: 2.6325976 | G104: 2.4567434 | H104: 2.6404836 | I104: 3.0432332 | J104: 3.5137832 | K104: 4.0728612 | L104: 5.4949808 | M104: 5.6297888 | N104: 5.921644 | O104: 6.480099 | P104: 6.8974731 | Q104: 6.9188573 | R104: =Q104 -> 6.9188573 | S104: 6.480099 | T104: 6.8974731 | U104: 6.9188573 | V104: =U104 -> 6.9188573
A105: 2 | B105: Bolivia | C105: 1.5981372 | D105: 1.6944604 | E105: 1.8499435 | F105: 1.6353885 | G105: 1.6303951 | H105: 1.4937119 | I105: 1.2104218 | J105: 0.96869613 | K105: 0.74964105 | L105: 0.83687278 | M105: 0.90595456 | N105: 0.80951102 | O105: 0.78232941 | P105: 3.4409419 | S105: 0.78232941 | T105: 3.4409419
A106: 3 | B106: Brasil | C106: 5.4905458 | D106: 5.462947 | E106: 5.7160103 | F106: 5.6264167 | G106: 5.9004852 | H106: 6.2259437 | I106: 6.7821116 | J106: 6.9522121 | K106: 7.028063 | L106: 7.270752 | M106: 7.2359083 | N106: 7.5922134 | O106: 7.9085995 | P106: 7.8557402 | Q106: 7.4673741 | R106: =Q106 -> 7.4673741 | S106: 7.9085995 | T106: 7.8557402 | U106: 7.4673741 | V106: =U106 -> 7.4673741
A107: 4 | B107: Chile | C107: 1.3701346 | D107: 1.3867973 | E107: 1.4047491 | F107: 1.3828476 | G107: 1.3669306 | H107: 1.3526126 | I107: 1.2806865 | J107: 1.2702227 | K107: 1.3737386 | L107: 1.4223313 | M107: 1.3459496 | N107: 1.3384636 | O107: 1.3969636 | P107: 1.4369026 | Q107: 1.4336302 | R107: =Q107 -> 1.4336302 | S107: 1.3969636 | T107: 1.4369026 | U107: 1.4336302 | V107: =U107 -> 1.4336302
A108: 5 | B108: Colombia | C108: 2.3929296 | D108: 2.3860864 | E108: 2.1881356 | F108: 2.0540124 | G108: 2.3287475 | H108: 2.3065887 | I108: 2.2274146 | J108: 2.2490442 | K108: 2.0060947 | L108: 2.0481644 | M108: 2.1063488 | N108: 1.6622197 | O108: 1.7788751 | P108: 2.3435179 | Q108: 2.5486939 | R108: =Q108 -> 2.5486939 | S108: 1.7788751 | T108: 2.3435179 | U108: 2.5486939 | V108: =U108 -> 2.5486939
A109: 6 | B109: Costa Rica | C109: 6.3330743 | D109: 6.6004217 | E109: 7.0612704 | F109: 6.6271454 | G109: 6.6130291 | H109: 6.671769 | I109: 6.6624509 | J109: 6.7403349 | K109: 7.0782309 | L109: 7.6647578 | M109: 7.8621953 | N109: 8.1209307 | O109: 8.1818276 | P109: 8.1 | Q109: 8.1 | R109: =Q109 -> 8.1 | S109: 8.1818276 | T109: 8.1 | U109: 8.1 | V109: =U109 -> 8.1
A110: 7 | B110: Ecuador | C110: 1.2441038 | D110: 2.1844977 | E110: 2.687722 | F110: 2.7734526 | G110: 2.7973701 | H110: 2.6717616 | I110: 3.3245461 | J110: 3.5127812 | K110: 3.3949539 | L110: 3.2965016 | M110: 3.6523522 | N110: 5.0088356 | O110: 5.4091147 | P110: 4.7792908 | Q110: 4.6123553 | R110: 5.0465111 | S110: 4.9647635 | T110: 4.7971163 | U110: 4.6751936 | V110: 5.0117429
A111: 8 | B111: El Salvador | C111: 2.7349312 | D111: 2.3971513 | E111: 2.3800038 | F111: 2.2995075 | G111: 2.2768273 | H111: 2.0943266 | I111: 2.0786278 | J111: 2.0557178 | K111: 2.159022 | L111: 2.328538 | M111: 2.3087703 | N111: 2.2736464 | O111: 2.3314407 | P111: 2.3801995 | Q111: 2.4002829 | R111: =Q111 -> 2.4002829 | S111: 2.3314407 | T111: 2.3801995 | U111: 2.4002829 | V111: =U111 -> 2.4002829
A112: 9 | B112: Guatemala | C112: 1.4771039 | D112: 1.6561476 | E112: 1.5917796 | F112: 1.6918124 | G112: 1.6814686 | H112: 1.6953488 | I112: 1.7646749 | J112: 1.6849932 | K112: 1.581893 | L112: 1.5534703 | M112: 1.5739909 | N112: 1.5631109 | O112: 1.640003 | P112: 1.6873114 | Q112: 1.6837679 | R112: =Q112 -> 1.6837679 | S112: 1.640003 | T112: 1.6873114 | U112: 1.6837679 | V112: =U112 -> 1.6837679
A113: 10 | B113: Honduras | C113: 1.6189705 | D113: 1.8024637 | E113: 2.3059367 | F113: 2.4851944 | G113: 2.4978468 | H113: 2.4030435 | I113: 2.4102614 | J113: 2.584481 | K113: 2.7847414 | L113: 2.9467145 | M113: 2.8972922 | N113: 2.0758417 | O113: 3.0037667 | P113: 3.3275325 | Q113: 3.0436792 | R113: =Q113 -> 3.0436792 | S113: 3.0037667 | T113: 3.3275325 | U113: 3.0436792 | V113: =U113 -> 3.0436792
A114: 11 | B114: México | C114: 3.0101411 | D114: 3.1988442 | E114: 3.3044849 | F114: 2.4050657 | G114: 2.2763423 | H114: 2.2366854 | I114: 2.0282964 | J114: 1.9829955 | K114: 1.9298004 | L114: 1.9814146 | M114: 1.9592788 | N114: 1.9437782 | O114: 1.9426954 | P114: 2.0176774 | Q114: 2.0374602 | R114: =Q114 -> 2.0374602 | S114: 1.9426954 | T114: 2.0176774 | U114: 2.0374602 | V114: =U114 -> 2.0374602
A115: 12 | B115: Nicaragua | C115: 2.5897123 | D115: 2.9286894 | E115: 2.9787018 | F115: 3.0705052 | G115: 3.1126974 | H115: 3.179133 | I115: 3.4794373 | J115: 3.5820087 | K115: 3.7817932 | L115: 4.149356 | M115: 4.4952973 | N115: 4.51475 | O115: 4.4687436 | P115: 4.7735168 | Q115: 4.947186 | R115: =Q115 -> 4.947186 | S115: 4.4687436 | T115: 4.7735168 | U115: 4.947186 | V115: =U115 -> 4.947186
A116: 13 | B116: Panamá | C116: 6.3852674 | D116: 6.2163879 | E116: 5.9075649 | F116: 5.6057279 | G116: 5.6159331 | H116: 5.3496026 | I116: 5.2442084 | J116: 5.2676779 | K116: 5.4244754 | L116: 5.7404982 | M116: 5.6613422 | N116: 5.9391129 | O116: 5.471438 | P116: 5.967291 | Q116: 5.6824084 | R116: =Q116 -> 5.6824084 | S116: 5.471438 | T116: 5.967291 | U116: 5.6824084 | V116: =U116 -> 5.6824084
A117: 14 | B117: Paraguay | C117: 3.2015109 | D117: 3.0714682 | E117: 2.5876463 | F117: 2.709188 | G117: 2.7880184 | H117: 2.9211279 | I117: 2.887711 | J117: 3.2071633 | K117: 3.4055739 | L117: 3.9264603 | M117: 3.7548424 | N117: 3.7830809 | O117: 4.750969 | P117: 4.5292263 | Q117: 4.9236419 | R117: =Q117 -> 4.9236419 | S117: 4.750969 | T117: 4.5292263 | U117: 4.9236419 | V117: =U117 -> 4.9236419
A118: 15 | B118: Perú | C118: 1.7632292 | D118: 1.7833584 | E118: 1.7223459 | F118: 1.7139697 | G118: 1.6411565 | H118: 1.6043598 | I118: 1.6806784 | J118: 1.6406506 | K118: 1.9188254 | L118: 1.9904989 | M118: 1.9090469 | N118: 1.8981704 | O118: 2.0043247 | P118: 2.0810353 | Q118: 2.0687357 | R118: =Q118 -> 2.0687357 | S118: 2.0043247 | T118: 2.0810353 | U118: 2.0687357 | V118: =U118 -> 2.0687357
A119: 16 | B119: República Dominicana | C119: 0.12626773 | D119: 0.13876558 | E119: 0.13862518 | F119: 0.067379851 | G119: 0.010472623 | H119: 0.0034411697 | I119: 0.10260532 | J119: 0.059109986 | K119: 0.051898977 | L119: 0.058318497 | M119: 0.093251042 | N119: 0.059871202 | O119: 0.052588773 | P119: 0.060677004 | Q119: 0.054378144 | R119: =Q119 -> 0.054378144 | S119: 0.052588773 | T119: 0.060677004 | U119: 0.054378144 | V119: =U119 -> 0.054378144
A120: 17 | B120: Uruguay | C120: 7.4599251 | D120: 7.1802329 | E120: 6.6118064 | F120: 5.7894968 | G120: 5.6692249 | H120: 6.7334471 | I120: 7.016905 | J120: 6.6542438 | K120: 7.2247368 | L120: 7.7660223 | M120: 8.134059 | N120: 8.5405 | O120: 9.2943777 | P120: 9.288319 | Q120: 9.8414004 | R120: =Q120 -> 9.8414004 | S120: 9.2943777 | T120: 9.288319 | U120: 9.8414004 | V120: =U120 -> 9.8414004
...

Sheet europa 
B3: EUROPA
B4: País/Año | C4: 2000 | D4: 2001 | E4: 2002 | F4: 2003 | G4: 2004 | H4: 2005 | I4: 2006 | J4: 2007 | K4: 2008 | L4: 2009 | M4: 2010 | N4: 2011 | O4: 2012 | P4: 2013 | Q4: 2014 | R4: 2015(p)
B5: Alemania | G5: 33.718 | H5: 33.709 | I5: 34.325 | J5: 34.732 | K5: 35.241 | L5: 35.924 | M5: 34.842 | N5: 35.532 | O5: 36.182 | P5: 36.289 | Q5: 36.413 | R5: 36.764
B6: Austria | G6: 41.685 | H6: 40.784 | I6: 40.22 | J6: 40.392 | K6: 41.264 | L6: 40.852 | M6: 40.715 | N6: 40.888 | O6: 41.551 | P6: 42.422 | Q6: 42.697 | R6: 43.329
B7: Bélgica | G7: 42.819 | H7: 42.744 | I7: 42.56 | J7: 42.301 | K7: 42.793 | L7: 42.025 | M7: 42.274 | N7: 42.8 | O7: 43.845 | P7: 44.74 | Q7: 44.687 | R7: 44.475
B8: Dinamarca | G8: 46.247 | H8: 47.794 | I8: 46.261 | J8: 46.204 | K8: 44.653 | L8: 45.002 | M8: 44.879 | N8: 44.947 | O8: 45.652 | P8: 46.638 | Q8: 49.426 | R8: 46.455
B9: Eslovenia | G9: 37.358 | H9: 37.834 | I9: 37.511 | J9: 36.825 | K9: 36.186 | L9: 36.054 | M9: 36.735 | N9: 36.306 | O9: 36.708 | P9: 36.611 | Q9: 36.351 | R9: 36.465
B10: España | G10: 34.138 | H10: 35.154 | I10: 35.946 | J10: 36.37 | K10: 32.164 | L10: 29.833 | M10: 31.376 | N10: 31.303 | O10: 32.301 | P10: 33.122 | Q10: 33.7 | R10: 33.687
B11: Estonia | G11: 31.076 | H11: 29.773 | I11: 30.354 | J11: 31.064 | K11: 31.232 | L11: 34.779 | M11: 33.086 | N11: 31.337 | O11: 31.379 | P11: 31.342 | Q11: 32.275 | R11: 33.428
B12: Finlandia | G12: 41.74 | H12: 42.02 | I12: 42.051 | J12: 41.4 | K12: 41.102 | L12: 40.85 | M12: 40.707 | N12: 41.936 | O12: 42.587 | P12: 43.534 | Q12: 43.754 | R12: 43.909
B13: Francia | G13: 42.085 | H13: 42.676 | I13: 42.995 | J13: 42.293 | K13: 42.079 | L13: 41.236 | M13: 41.874 | N13: 43.059 | O13: 44.22 | P13: 45.136 | Q13: 45.391 | R13: 45.406
B14: Grecia | G14: 29.781 | H14: 31.078 | I14: 30.2 | J14: 31.053 | K14: 30.85 | L14: 30.772 | M14: 32.114 | N14: 33.607 | O14: 35.383 | P14: 35.498 | Q14: 35.686 | R14: 36.78
B15: Hungría | G15: 37.104 | H15: 36.571 | I15: 36.596 | J15: 39.433 | K15: 39.51 | L15: 39.066 | M15: 37.409 | N15: 36.369 | O15: 38.476 | P15: 38.062 | Q15: 38.128 | R15: 39.278
B16: Islandia | G16: 36.647 | H16: 39.561 | I16: 40.538 | J16: 38.986 | K16: 35.257 | L16: 31.929 | M16: 33.389 | N16: 34.456 | O16: 35.283 | P16: 35.99 | Q16: 38.922 | R16: 37.115
... B28: Turquía | G28: 24.072 | H28: 24.257 | I28: 24.523 | J28: 24.081 | K28: 24.223 | L28: 24.636 | M28: 26.199 | N28: 27.83 | O28: 27.638 | P28: 29.266 | Q28: 28.763 | R28: 30.031
B30: SEGURIDAD SOCIAL
B32: País/Año | C32: 2000 | D32: 2001 | E32: 2002 | F32: 2003 | G32: 2004 | H32: 2005 | I32: 2006 | J32: 2007 | K32: 2008 | L32: 2009 | M32: 2010 | N32: 2011 | O32: 2012 | P32: 2013 | Q32: 2014 | R32: 2015(p)
B33: Alemania | C33: 14.148 | D33: 13.918 | E33: 13.848 | F33: 14.021 | G33: 13.743 | H33: 13.486 | I33: 13.215 | J33: 12.756 | K33: 12.9 | L33: 13.928 | M33: 13.719 | N33: 13.763 | O33: 13.903 | P33: 13.88 | Q33: 13.944 | R33: 14.003
B34: Austria | C34: 11.613 | D34: 11.52 | E34: 11.399 | F34: 11.476 | G34: 11.438 | H34: 11.427 | I34: 11.351 | J34: 11.22 | K34: 11.38 | L34: 11.795 | M34: 11.676 | N34: 11.696 | O34: 11.807 | P34: 12.084 | Q34: 12.185 | R34: 12.297
B35: Bélgica | C35: 13.519 | D35: 13.745 | E35: 13.974 | F35: 13.793 | G35: 13.569 | H35: 13.34 | I35: 13.257 | J35: 13.279 | K35: 13.699 | L35: 14.181 | M35: 13.856 | N35: 14.037 | O35: 14.326 | P35: 14.484 | Q35: 14.371 | R35: 14.428
B36: Dinamarca | C36: 0.534 | D36: 0.534 | E36: 0.02 | F36: 0.036 | G36: 0.035 | H36: 0.033 | I36: 0.028 | J36: 0.013 | K36: 0.013 | L36: 0.013 | M36: 0.05 | N36: 0.054 | O36: 0.039 | P36: 0.038 | Q36: 0.037 | R36: 0.027
B37: Eslovenia | C37: 13.773 | D37: 13.993 | E37: 13.812 | F37: 13.727 | G37: 13.764 | H37: 13.829 | I37: 13.622 | J37: 13.299 | K37: 13.615 | L37: 14.432 | M37: 14.691 | N37: 14.503 | O37: 14.757 | P37: 14.526 | Q37: 14.239 | R37: 14.391
B38: España | C38: 11.295 | D38: 11.491 | E38: 11.455 | F38: 11.52 | G38: 11.534 | H38: 11.518 | I38: 11.544 | J38: 11.578 | K38: 11.646 | L38: 11.756 | M38: 11.629 | N38: 11.614 | O38: 11.399 | P38: 11.3 | Q38: 11.384 | R38: 11.159
B39: Estonia | C39: 4.3 | D39: 4.198 | E39: 4.61 | F39: 4.584 | G39: 4.554 | H39: 4.534 | I39: 4.392 | J39: 4.567 | K39: 5.085 | L39: 5.888 | M39: 5.93 | N39: 5.533 | O39: 5.475 | P39: 5.251 | Q39: 5.345 | R39: 5.423
B40: Finlandia | C40: 11.55 | D40: 11.605 | E40: 11.476 | F40: 11.303 | G40: 11.195 | H40: 11.47 | I40: 11.733 | J40: 11.448 | K40: 11.518 | L40: 12.173 | M40: 12.096 | N40: 12.068 | O40: 12.636 | P40: 12.598 | Q40: 12.658 | R40: 12.73
B41: Francia | C41: 20.549 | D41: 20.811 | E41: 20.858 | F41: 21.063 | G41: 19.992 | H41: 20.763 | I41: 21.881 | J41: 21.81 | K41: 22.138 | L41: 22.824 | M41: 22.533 | N41: 23.16 | O41: 23.64 | P41: 24.024 | Q41: 24.421 | R41: 24.249
B42: Grecia | C42: 9.95 | D42: 10.118 | E42: 11.017 | F42: 11.153 | G42: 10.503 | H42: 10.782 | I42: 10.492 | J42: 10.909 | K42: 10.971 | L42: 10.469 | M42: 10.812 | N42: 10.458 | O42: 10.758 | P42: 10.629 | Q42: 10.089 | R42: 10.434
B43: Hungría | C43: 11.71 | D43: 11.467 | E43: 11.571 | F43: 11.455 | G43: 11.146 | H43: 11.278 | I43: 11.267 | J43: 12.452 | K43: 12.455 | L43: 12.069 | M43: 11.371 | N43: 12.193 | O43: 12.72 | P43: 12.757 | Q43: 12.705 | R43: 13.08
B44: Islandia | C44: 0 | D44: 0 | E44: 0 | F44: 0 | G44: 0 | H44: 0 | I44: 0 | J44: 0 | K44: 0 | L44: 0 | M44: 0 | N44: 0 | O44: 0 | P44: 0 | Q44: 0 | R44: 0
... B56: Turquía | C56: 4.526 | D56: 5.621 | E56: 4.87 | F56: 5.396 | G56: 5.75 | H56: 5.443 | I56: 5.488 | J56: 5.224 | K56: 6.064 | L56: 6.046 | M56: 6.525 | N56: 7.759 | O56: 7.51 | P56: 8.031 | Q56: 8.207 | R56: 8.721
C57: =AVERAGE(C33:C56) -> 8.5354583 | D57: =AVERAGE(D33:D56) -> 8.6659167 | E57: =AVERAGE(E33:E56) -> 8.6954167 | F57: =AVERAGE(F33:F56) -> 8.715125 | G57: =AVERAGE(G33:G56) -> 8.562 | H57: =AVERAGE(H33:H56) -> 8.5807083 | I57: =AVERAGE(I33:I56) -> 8.538375 | J57: =AVERAGE(J33:J56) -> 8.5779583 | ... R57: =AVERAGE(R33:R56) -> 9.2745

Sheet Hoja2
D6: 2000 | E6: 2001 | F6: 2002 | G6: 2003 | H6: 2004 | I6: 2005 | J6: 2006 | K6: 2007 | L6: 2008 | M6: 2009 | N6: 2010 | O6: 2011 | P6: 2012 | Q6: 2013 | R6: 2014 | S6: 2015 | T6: 2016
C7: 1. Gobierno Central (recaudación total después de devoluciones) | D7: 0.1094561 | E7: 0.11352863 | F7: 0.1120646 | G7: 0.10350854 | H7: 0.10371402 | I7: 0.10881533 | J7: 0.11201339 | K7: 0.11673748 | L7: 0.11656968 | M7: 0.12409398 | N7: 0.1309438 | O7: 0.12501524 | P7: 0.14059477 | Q7: 0.14550512 | R7: 0.14358743 | S7: 0.15721304 | T7: 0.14500136
C8: Internos (Recaudación total después de devoluciones) | D8: 0.090168765 | E8: 0.095996981 | F8: 0.094772992 | G8: 0.089474411 | H8: 0.088927425 | I8: 0.094524785 | J8: 0.096300683 | K8: 0.10060474 | L8: 0.10145521 | M8: 0.10700054 | N8: 0.11312348 | O8: 0.11014006 | P8: 0.12611365 | Q8: 0.13149076 | R8: 0.13004496 | S8: 0.13674548 | T8: 0.128002
C9: Internos (Recaudación efectiva) | D9: 0.091352549 | E9: 0.097543709 | F9: 0.097523631 | G9: 0.092907159 | H9: 0.092550976 | I9: 0.098259081 | J9: 0.099830628 | K9: 0.10511862 | L9: 0.10537963 | M9: 0.10956211 | N9: 0.12015181 | O9: 0.12060288 | P9: 0.12810864 | Q9: 0.13410878 | R9: 0.13311679 | S9: 0.13925395 | T9: 0.12947217
C10: Externos | D10: 0.019287339 | E10: 0.017531649 | F10: 0.017291607 | G10: 0.014034131 | H10: 0.014786593 | I10: 0.014290548 | J10: 0.015712707 | K10: 0.016132747 | L10: 0.015114467 | M10: 0.017093441 | N10: 0.017820321 | O10: 0.014875178 | P10: 0.014481116 | Q10: 0.014014361 | R10: 0.013542462 | S10: 0.020467564 | T10: 0.016999358
C12: 2. Subnacional(BEDE) | D12: 0.0030177298 | E12: 0.0047361798 | F12: 0.0056422549 | G12: 0.0066849897 | H12: 0.0068838732 | I12: 0.0069256923 | J12: 0.0058353673 | K12: 0.0059825563 | L12: 0.0062001945 | M12: 0.0066165235 | N12: 0.0063615703 | O12: 0.0066041678 | P12: 0.0072493051 | Q12: 0.0074328338 | R12: 0.0072758742 | S12: 0.0094333312 | T12: 0.0092805673
C14: 3. Seguridad Social (BCE) | D14: 0.012441038 | E14: 0.021844977 | F14: 0.02687722 | G14: 0.027734526 | H14: 0.027973701 | I14: 0.026717616 | J14: 0.033245461 | K14: 0.035127812 | L14: 0.033949539 | M14: 0.032965016 | N14: 0.036523522 | O14: 0.050088356 | P14: 0.054091147 | Q14: 0.047792908 | R14: 0.046123553 | S14: 0.05043071 | T14: 0.048479075
C16: PF recaudación total después de devoluciones | D16: 0.12491487 | E16: 0.14010979 | F16: 0.14458407 | G16: 0.13792806 | H16: 0.13857159 | I16: 0.14245864 | J16: 0.15109422 | K16: 0.15784785 | L16: 0.15671941 | M16: 0.16367552 | N16: 0.1738289 | O16: 0.18170776 | P16: 0.20193522 | Q16: 0.20073086 | R16: 0.19698685 | S16: 0.21707708 | T16: 0.20276101
C17: PF recaudación efectiva | D17: 0.12609866 | E17: 0.14165652 | F17: 0.14733471 | G17: 0.14136081 | H17: 0.14219514 | I17: 0.14619294 | J17: 0.15462416 | K17: 0.16236174 | L17: 0.16064383 | M17: 0.16623709 | N17: 0.18085722 | O17: 0.19217058 | P17: 0.20393021 | Q17: 0.20334888 | R17: 0.20005868 | S17: 0.21958555 | T17: 0.20423117
C18: Diferencia | D18: -0.0011837841 | E18: -0.0015467281 | F18: -0.0027506386 | G18: -0.0034327486 | H18: -0.0036235508 | I18: -0.003734296 | J18: -0.0035299446 | K18: -0.0045138862 | L18: -0.0039244242 | M18: -0.0025615693 | N18: -0.0070283263 | O18: -0.010462814 | P18: -0.0019949906 | Q18: -0.0026180171 | R18: -0.0030718245 | S18: -0.0025084728 | T18: -0.0014701636
C19: Presión fiscal América Latina (promedio)*** | D19: 0.17070824 | E19: 0.17504337 | F19: 0.17621363 | G19: 0.17788311 | H19: 0.18076662 | I19: 0.18644231 | J19: 0.19333028 | K19: 0.19907657 | L19: 0.19964081 | M19: 0.19447657 | N19: 0.19795176 | O19: 0.20291585 | P19: 0.20783807 | Q19: 0.21043691 | R19: 0.21027359 | S19: 0.21224982
D24: 2000 | E24: 2001 | F24: 2002 | G24: 2003 | H24: 2004 | I24: 2005 | J24: 2006 | K24: 2007 | L24: 2008 | M24: 2009 | N24: 2010 | O24: 2011 | P24: 2012 | Q24: 2013 | R24: 2014 | S24: 2015 | T24: 2016
C25: 1. Gobierno Central (recaudación total después de devoluciones) | D25: =+D7*100 -> 10.94561 | E25: =+E7*100 -> 11.352863 | F25: =+F7*100 -> 11.20646 | G25: =+G7*100 -> 10.350854 | H25: =+H7*100 -> 10.371402 | I25: =+I7*100 -> 10.881533 | J25: =+J7*100 -> 11.201339 | K25: =+K7*100 -> 11.673748 | ... T25: =+T7*100 -> 14.500136
C26: Internos (Recaudación total después de devoluciones) | D26: =+D8*100 -> 9.0168765 | E26: =+E8*100 -> 9.5996981 | F26: =+F8*100 -> 9.4772992 | G26: =+G8*100 -> 8.9474411 | H26: =+H8*100 -> 8.8927425 | I26: =+I8*100 -> 9.4524785 | J26: =+J8*100 -> 9.6300683 | K26: =+K8*100 -> 10.060474 | ... T26: =+T8*100 -> 12.8002
C27: Externos | D27: =+D10*100 -> 1.9287339 | E27: =+E10*100 -> 1.7531649 | F27: =+F10*100 -> 1.7291607 | G27: =+G10*100 -> 1.4034131 | H27: =+H10*100 -> 1.4786593 | I27: =+I10*100 -> 1.4290548 | J27: =+J10*100 -> 1.5712707 | K27: =+K10*100 -> 1.6132747 | ... T27: =+T10*100 -> 1.6999358
C29: 2. Subnacional(BEDE) | D29: =+D12*100 -> 0.30177298 | E29: =+E12*100 -> 0.47361798 | F29: =+F12*100 -> 0.56422549 | G29: =+G12*100 -> 0.66849897 | H29: =+H12*100 -> 0.68838732 | I29: =+I12*100 -> 0.69256923 | J29: =+J12*100 -> 0.58353673 | K29: =+K12*100 -> 0.59825563 | ... T29: =+T12*100 -> 0.92805673
D30: =+D13*100 -> 0 | E30: =+E13*100 -> 0 | F30: =+F13*100 -> 0 | G30: =+G13*100 -> 0 | H30: =+H13*100 -> 0 | I30: =+I13*100 -> 0 | J30: =+J13*100 -> 0 | K30: =+K13*100 -> 0 | ... T30: =+T13*100 -> 0
C31: 3. Seguridad Social (BCE) | D31: =+D14*100 -> 1.2441038 | E31: =+E14*100 -> 2.1844977 | F31: =+F14*100 -> 2.687722 | G31: =+G14*100 -> 2.7734526 | H31: =+H14*100 -> 2.7973701 | I31: =+I14*100 -> 2.6717616 | J31: =+J14*100 -> 3.3245461 | K31: =+K14*100 -> 3.5127812 | ... T31: =+T14*100 -> 4.8479075
C33: PF recaudación total después de devoluciones | D33: =+D16*100 -> 12.491487 | E33: =+E16*100 -> 14.010979 | F33: =+F16*100 -> 14.458407 | G33: =+G16*100 -> 13.792806 | H33: =+H16*100 -> 13.857159 | I33: =+I16*100 -> 14.245864 | J33: =+J16*100 -> 15.109422 | K33: =+K16*100 -> 15.784785 | ... T33: =+T16*100 -> 20.276101
C34: PF recaudación efectiva | D34: =+D17*100 -> 12.609866 | E34: =+E17*100 -> 14.165652 | F34: =+F17*100 -> 14.733471 | G34: =+G17*100 -> 14.136081 | H34: =+H17*100 -> 14.219514 | I34: =+I17*100 -> 14.619294 | J34: =+J17*100 -> 15.462416 | K34: =+K17*100 -> 16.236174 | ... T34: =+T17*100 -> 20.423117
C35: Diferencia | D35: =+D18*100 -> -0.11837841 | E35: =+E18*100 -> -0.15467281 | F35: =+F18*100 -> -0.27506386 | G35: =+G18*100 -> -0.34327486 | H35: =+H18*100 -> -0.36235508 | I35: =+I18*100 -> -0.3734296 | J35: =+J18*100 -> -0.35299446 | K35: =+K18*100 -> -0.45138862 | ... T35: =+T18*100 -> -0.14701636
C36: Presión fiscal América Latina (promedio)*** | D36: =+D19*100 -> 17.070824 | E36: =+E19*100 -> 17.504337 | F36: =+F19*100 -> 17.621363 | G36: =+G19*100 -> 17.788311 | H36: =+H19*100 -> 18.076662 | I36: =+I19*100 -> 18.644231 | J36: =+J19*100 -> 19.333028 | K36: =+K19*100 -> 19.907657 | ... T36: =+T19*100 -> 0
